BEGIN:VCALENDAR
VERSION:2.0
PRODID:-//https://techplay.jp//JP
CALSCALE:GREGORIAN
METHOD:PUBLISH
X-WR-CALDESC:“師匠やってみようかな”を本気に変える1時
 間｜DATA Saber - Bridgeゆる相談会
X-WR-CALNAME:“師匠やってみようかな”を本気に変える1時
 間｜DATA Saber - Bridgeゆる相談会
X-WR-TIMEZONE:Asia/Tokyo
BEGIN:VTIMEZONE
TZID:Asia/Tokyo
BEGIN:STANDARD
DTSTART:19700101T000000
TZOFFSETFROM:+0900
TZOFFSETTO:+0900
TZNAME:JST
END:STANDARD
END:VTIMEZONE
BEGIN:VEVENT
UID:987642@techplay.jp
SUMMARY:“師匠やってみようかな”を本気に変える1時間｜
 DATA Saber - Bridgeゆる相談会
DTSTART;TZID=Asia/Tokyo:20251103T140000
DTEND;TZID=Asia/Tokyo:20251103T150000
DTSTAMP:20260420T005004Z
CREATED:20251014T150414Z
DESCRIPTION:イベント詳細はこちら\nhttps://techplay.jp/event/98764
 2?utm_medium=referral&utm_source=ics&utm_campaign=ics\n\n“師匠やっ
 てみようかな”を本気に変える1時間｜DATA Saber - Bridge
 ゆる相談会\n概要\nDATA Saberで師匠をやってみようか迷
 っている方、DATA Saber - Bridgeはすこし気になっていたけ
 ど、どんな活動なのかよく分からなかった方へ。そん
 なあなたの「やってみようかな？」という気持ちを「
 やってみよう！」に変えるお手伝いをするゆる相談会
 を開催します。当日は、実際にDATA Saber - Bridgeで師匠を
 したメンバーが登場！\n\nなぜ師匠をやろうと思ったの
 か\n活動してみてどうだったのか\n不安だったこと\n\n
 などをざっくばらんにお話しします。相談・雑談形式
 で参加者同士で交流しながら、あなたにとっての「師
 匠の形」を考えるきっかけにしてみませんか？\nタイ
 ムスケジュール\n\n\n\n時間\n内容\n\n\n\n\n14:00〜14:05\nオ
 ープニング\n\n\n14:05〜14:10\n師匠経験者トークきみちゃ
 ん\n\n\n14:10〜14:55\nゆるく話そう相談タイム（人数によ
 ってブレイクアウトセッション）\n\n\n14:55〜15:00\nクロ
 ージング\n\n\n\n※ 当日予告なく時間配分・内容が変更
 になる可能性がございます。\n師匠経験者トーク\n\nき
 みちゃん ( @mathKimichan )\nDATA Saber - Bridge 3rd 師匠\n株式会
 社キーウォーカーのデータサイエンティスト。\nTableau
 ダッシュボード構築支援やデータ活用支援に携わる。\
 n\nDATA Saber - Bridge 2ndで認定を取得し、翌年の3rdでは初
 師匠として活動。\n\nダッシュボードに限らず、“メッ
 セージを込めて伝える”ことを大切にしている。\n\nこ
 んな人におすすめ\n\nDATA Saberに認定されたけど次のス
 テップに迷っている\nDATA Saberに認定されたけど何もで
 きてないと考えている\nDATA Saber - Bridgeの師匠ってどん
 なことするの？と気になっている\nDATA Saberの師匠をや
 ってみたいけど自信がない\n自信がないけど誰かの挑
 戦を応援してみたい\n自分もコミュニティに何か貢献
 してみたい\n\n注意事項\n\nリクルーティング、勧誘な
 ど、採用目的でのイベント参加はお断りしております
 。\n欠席される場合は、お手数ですが速やかにキャン
 セル処理をお願い致します。\n
LOCATION:
URL:https://techplay.jp/event/987642?utm_medium=referral&utm_source=ics&utm
 _campaign=ics
END:VEVENT
END:VCALENDAR
