BEGIN:VCALENDAR
VERSION:2.0
PRODID:-//https://techplay.jp//JP
CALSCALE:GREGORIAN
METHOD:PUBLISH
X-WR-CALDESC:商品情報を起点にビジネスを変革する日本唯
 一のPIMサミット Product Experience Summit Tokyo 2025
X-WR-CALNAME:商品情報を起点にビジネスを変革する日本唯
 一のPIMサミット Product Experience Summit Tokyo 2025
X-WR-TIMEZONE:Asia/Tokyo
BEGIN:VTIMEZONE
TZID:Asia/Tokyo
BEGIN:STANDARD
DTSTART:19700101T000000
TZOFFSETFROM:+0900
TZOFFSETTO:+0900
TZNAME:JST
END:STANDARD
END:VTIMEZONE
BEGIN:VEVENT
UID:987792@techplay.jp
SUMMARY:商品情報を起点にビジネスを変革する日本唯一のP
 IMサミット Product Experience Summit Tokyo 2025
DTSTART;TZID=Asia/Tokyo:20251107T130000
DTEND;TZID=Asia/Tokyo:20251107T180000
DTSTAMP:20260425T023819Z
CREATED:20251016T074341Z
DESCRIPTION:イベント詳細はこちら\nhttps://techplay.jp/event/98779
 2?utm_medium=referral&utm_source=ics&utm_campaign=ics\n\n概要\nThe Next
  Frontier of Product Experience 〜PXMが切り拓く新たな価値の
 時代へ〜\n商品情報は、いま「マスター管理」を超え
 、企業の顧客体験戦略の中核へと進化しています。\nCe
 ntric Softwareグループの一員となったContentserv（現Centric P
 XM）は、PLMとPIMを連携させることで、製品構想から市
 場投入までを一貫してつなぐエンドツーエンドの“Prod
 uct Experience”を実現します。\n第7回を迎えるProduct Experi
 ence Summit Tokyo 2025では、製造業・小売業の経営企画、マ
 ーケティング、eコマース、DX推進に携わる皆さまに向
 け、商品情報を起点に“つながる体験”を実現するた
 めの最新アプローチと実践知見をお届けします。\n日
 本のPIM市場を牽引するパートナーの皆様と登壇者の皆
 様と、会場で情報交換や交流の場を設けております。
 オフライン開催だからこそ得られる臨場感やリアルな
 交流をぜひ体験してください。\n【開催概要】\n\n日時
 ：2025年11月7日(金) 13:00～17:00（懇親会あり 18:00-19:30)\n
 会場：シャングリ・ラ東京 (東京都中央区銀座六丁目10
 番1号)\n申込締切：2025年11月6日（木）12:00\n参加費：無
 料（事前登録制/ 定員140名）\n参加対象：製造業・小売
 企業の経営企画/DX/マーケティング/営業/IT/EC部門の方
 々\n主催：株式会社Contentserv\n参加お申込み: https://www2.c
 entricsoftware.com/pxs25-pxm-japac-mkt\n\n◾️ プログラム\n\n\nオ
 ープニング: The Next Frontier of Product Experience Centric PXM (Co
 ntentserv）VP\,  Centric PXM APAC 渡辺 信明 \n\n\n基調講演「
 デジタル活用によるマーケティング変革の挑戦」 パ
 ナソニック株式会社 海外マーケティング本部 CXマーケ
 ティングセンター 主幹  森川 真樹氏 \n\n\n製品情報
 を“伝える力”に変える：B2B製造業のPIM活用アプロー
 チ 株式会社エクサ ビジネスソリューション営業部 Sma
 rtエンゲージメント推進室 室長 色川 達也氏 \n\n\n“
 情報の迷子”から“体験の設計者”へ-PIM導入で始める
 社内DX- ロート製薬株式会社 DX/AI推進室 データマネジ
 メントグループ マネジャー 坂口真規 氏大日本印刷株
 式会社 情報イノベーション事業部 梨本 未央氏 \n\n\nPI
 MxPLM連携で実現する顧客接点改革 株式会社電通総研 
 エンタープライズ第三本部 デジタルエンゲージメント
 ２部 プロジェクトディレクター 関根 宜之 氏 \n\n\nPana
 sonic ConnectにおけるグローバルPIM統合と製品体験変革 P
 anasonic Connect EU\, Manager\, Global DCX Marketing & Marketing Strategy
  Mihai Harca氏 \n\n\n　　株式会社電通総研 ｴｸｽﾍﾟﾘ
 ｴﾝｽ&ｺﾏｰｽ第2部門ﾃﾞｼﾞﾀﾙｴｸｽﾍﾟﾘｴ
 ﾝｽｿﾘｭｰｼｮﾝ事業部第3ｸﾞﾙｰﾌﾟ　ｸﾞﾙｰ
 ﾌﾟﾏﾈｰｼﾞｬｰ  藤井 聖氏 氏 \n\nCentric PXM Update 2
 025 〜プロダクトエクスペリエンスを進化させる最新
 機能〜株 Centric PXM(Contentserv) カスタマーサクセス・コ
 ンサルタント アン シュヴァーン\n\n設計から販売、顧
 客体験までを“つなぐ”最新の実践知を共有します。
 変革のヒントをぜひ本サミットでお持ち帰りください
 。\nご質問や問い合わせがありましたら、イベント事
 務局（marketing_jp@contentserv.com）までご連絡ください。\n
 注意事項\n\nリクルーティング、勧誘など、採用目的で
 のイベント参加はお断りしております。\nキャンセル
 待ち・補欠・落選の方はご参加いただくことが出来ま
 せんのでご了承ください。\n欠席される場合は、お手
 数ですが速やかにキャンセル処理をお願い致します。\
 n
LOCATION:シャングリ・ラ東京 東京都千代田区丸の内1-8-3 
 丸の内トラストタワー 本館27階
URL:https://techplay.jp/event/987792?utm_medium=referral&utm_source=ics&utm
 _campaign=ics
END:VEVENT
END:VCALENDAR
