BEGIN:VCALENDAR
VERSION:2.0
PRODID:-//https://techplay.jp//JP
CALSCALE:GREGORIAN
METHOD:PUBLISH
X-WR-CALDESC:【アーカイブ配信】経理業務のデジタル変革 P
 CAクラウドとAI×プロフェッショナルで実現する 次世代
 バックオフィス戦略
X-WR-CALNAME:【アーカイブ配信】経理業務のデジタル変革 P
 CAクラウドとAI×プロフェッショナルで実現する 次世代
 バックオフィス戦略
X-WR-TIMEZONE:Asia/Tokyo
BEGIN:VTIMEZONE
TZID:Asia/Tokyo
BEGIN:STANDARD
DTSTART:19700101T000000
TZOFFSETFROM:+0900
TZOFFSETTO:+0900
TZNAME:JST
END:STANDARD
END:VTIMEZONE
BEGIN:VEVENT
UID:987823@techplay.jp
SUMMARY:【アーカイブ配信】経理業務のデジタル変革 PCAク
 ラウドとAI×プロフェッショナルで実現する 次世代バ
 ックオフィス戦略
DTSTART;TZID=Asia/Tokyo:20251028T150000
DTEND;TZID=Asia/Tokyo:20251028T154500
DTSTAMP:20260420T081522Z
CREATED:20251017T025547Z
DESCRIPTION:イベント詳細はこちら\nhttps://techplay.jp/event/98782
 3?utm_medium=referral&utm_source=ics&utm_campaign=ics\n\n経理業務の
 デジタル変革 PCAクラウドとAI×プロフェッショナルで
 実現する次世代バックオフィス戦略\n概要\n※本セミナ
 ーは9/17開催回のアーカイブ配信となります。\n本セミ
 ナーでは、経理業務をはじめとしたバックオフィス業
 務の非効率性を解消し、戦略的な業務へのシフトを実
 現するための具体的なソリューションをご紹介します
 。\n前半は、ピー・シー・エー株式会社より、PCAクラ
 ウドを活用した経理業務の効率化手法について解説し
 ます。会計システムを核とした業務改善の具体的なア
 プローチをご紹介します。\n後半は、BizteX株式会社よ
 り、経理・人事・総務といったバックオフィス業務に
 おける自動化の具体的な事例と、業務時間短縮・ヒュ
 ーマンエラー削減を実現する方法を詳述します。\n本
 セミナーを通じて、日々の煩雑なルーティンワークか
 ら解放され、より付加価値の高い業務に集中できるバ
 ックオフィスの未来像を具体的にイメージしていただ
 けるはずです。\n登壇者\n・ピー・シー・エー株式会社
 （PCAクラウド）\nAPIで連携させることでお客様の業務
 全体をより便利にする仕組みづくりに取り組んでいま
 す\nhttps://pca.jp/area_product/cloud/index.html\n\n\n・BizteX株式会
 社（インテリジェント フロー）\n\nAIでお客様の業務課
 題を分析し、専門チームが業務プロセスの設計から自
 動化、運用・改善までを一括で担う業務改善サービス
 を提供しています。\nhttps://service.biztex.co.jp/intelligent-flo
 w/\n\nこんな方におすすめ\n・手作業でのデータ入力や
 書類処理に課題を感じている方・請求書や領収書の手
 入力作業を効率化したい経理・総務担当者様・ヒュー
 マンエラーや再作業による業務ロスを減らしたい方・
 自動化技術の具体的な活用方法や導入効果を学びたい
 方・PCAクラウドと他システムの連携で業務プロセス全
 体を変革したい方\n参加費\n無料\n注意事項\nご参加い
 ただく場合、ピー・シー・エー株式会社、BizteX株式会
 社双方のプライバシーポリシーに同意したものとみな
 します。弊社サービスと類似または競合する企業の方
 の参加はお断りしております。 ▼ピー・シー・エー
 株式会社    >>詳細はこちら ▼BizteX株式会社　>>詳細
 はこちら
LOCATION:
URL:https://techplay.jp/event/987823?utm_medium=referral&utm_source=ics&utm
 _campaign=ics
END:VEVENT
END:VCALENDAR
