BEGIN:VCALENDAR
VERSION:2.0
PRODID:-//https://techplay.jp//JP
CALSCALE:GREGORIAN
METHOD:PUBLISH
X-WR-CALDESC:11/20（木）クラウド接続や拠点間通信を検討し
 ている方向け「回線ウェビナー」開催のお知らせ
X-WR-CALNAME:11/20（木）クラウド接続や拠点間通信を検討し
 ている方向け「回線ウェビナー」開催のお知らせ
X-WR-TIMEZONE:Asia/Tokyo
BEGIN:VTIMEZONE
TZID:Asia/Tokyo
BEGIN:STANDARD
DTSTART:19700101T000000
TZOFFSETFROM:+0900
TZOFFSETTO:+0900
TZNAME:JST
END:STANDARD
END:VTIMEZONE
BEGIN:VEVENT
UID:987861@techplay.jp
SUMMARY:11/20（木）クラウド接続や拠点間通信を検討して
 いる方向け「回線ウェビナー」開催のお知らせ
DTSTART;TZID=Asia/Tokyo:20251120T150000
DTEND;TZID=Asia/Tokyo:20251120T160000
DTSTAMP:20260422T224300Z
CREATED:20251017T095257Z
DESCRIPTION:イベント詳細はこちら\nhttps://techplay.jp/event/98786
 1?utm_medium=referral&utm_source=ics&utm_campaign=ics\n\nクラウド接
 続や拠点間通信を検討している方向け「回線ウェビナ
 ー」開催のお知らせ\n概要\n株式会社TOKAIコミュニケー
 ションズは、2025年11月20日（木）に、回線ウェビナー
 を開催します。\n近年、多くの企業でAWSやMicrosoft Azure
 、Google Cloudなどのクラウドサービス導入が進んでいま
 すが、「クラウドへの接続が不安定」「セキュリティ
 に不安がある」といった課題に直面することも少なく
 ありません。\n特に、オンプレミスからクラウドへの
 移行を検討されている企業様からは、「どうすれば拠
 点やデータセンターと安全につなげられるのか？」な
 どのご相談をよくいただきます。\nそこで本ウェビナ
 ーでは、複数のクラウド接続実績がある当社が最適な
 ネットワークの選び方を解説します。セキュアで安定
 した接続を実現する専用線やVPN接続のメリットをはじ
 め、様々な状況に合わせてご利用できるクラウド接続
 サービス「BroadLine」の活用方法をご紹介します。\n企
 業のクラウド移行や、ネットワークの課題解決を検討
 されている方は、ぜひご参加いただきたいでセミナー
 です。\nこんな方におすすめです\n・回線接続の事例が
 知りたい・クラウド接続を検討している・拠点間通信
 を検討している\nセミナー名称\n事例から学ぶ、安定し
 た接続環境を実現するための回線選定ポイント\nタイ
 ムスケジュール\n\n\n\n時間\n内容\n\n\n\n\n14:45〜15:00\n受
 付開始\n\n\n15:00〜15:05\n講演開始のご案内\n\n\n15:05〜15:35
 \n事例から学ぶ、安定した接続環境を実現するための
 回線選定ポイント講師：株式会社TOKAIコミュニケーシ
 ョンズ\n\n\n15:35〜15:40\n質疑応答\n\n\n15:40〜15:45\n講演終
 了のご案内\n\n\n\n※ 当日予告なく時間配分・内容が変
 更になる可能性がございます。\n参加費\n無料\n注意事
 項\n\nリクルーティング、勧誘など、採用目的でのイベ
 ント参加はお断りしております。\nキャンセル待ち・
 補欠・落選の方はご参加いただくことが出来ませんの
 でご了承ください。\n欠席される場合は、お手数です
 が速やかにキャンセル処理をお願い致します。\n無断
 キャンセルや欠席が続く場合、次回以降の参加をお断
 りさせていただく場合がございます。\n
LOCATION:
URL:https://techplay.jp/event/987861?utm_medium=referral&utm_source=ics&utm
 _campaign=ics
END:VEVENT
END:VCALENDAR
