BEGIN:VCALENDAR
VERSION:2.0
PRODID:-//https://techplay.jp//JP
CALSCALE:GREGORIAN
METHOD:PUBLISH
X-WR-CALDESC:【12月8日(月)19:00~】APOMAパートナー会コラボス
 ペシャル【渋谷フリーランス マーケ&セールス交流会11
 】/ゲスト:白江勝行(APOMA代表)
X-WR-CALNAME:【12月8日(月)19:00~】APOMAパートナー会コラボス
 ペシャル【渋谷フリーランス マーケ&セールス交流会11
 】/ゲスト:白江勝行(APOMA代表)
X-WR-TIMEZONE:Asia/Tokyo
BEGIN:VTIMEZONE
TZID:Asia/Tokyo
BEGIN:STANDARD
DTSTART:19700101T000000
TZOFFSETFROM:+0900
TZOFFSETTO:+0900
TZNAME:JST
END:STANDARD
END:VTIMEZONE
BEGIN:VEVENT
UID:987903@techplay.jp
SUMMARY:【12月8日(月)19:00~】APOMAパートナー会コラボスペシ
 ャル【渋谷フリーランス マーケ&セールス交流会11】/
 ゲスト:白江勝行(APOMA代表)
DTSTART;TZID=Asia/Tokyo:20251208T190000
DTEND;TZID=Asia/Tokyo:20251208T210000
DTSTAMP:20260419T161247Z
CREATED:20251019T131251Z
DESCRIPTION:イベント詳細はこちら\nhttps://techplay.jp/event/98790
 3?utm_medium=referral&utm_source=ics&utm_campaign=ics\n\n【12月8日(月
 )19:00~】APOMAパートナー会コラボスペシャル【渋谷フリ
 ーランス マーケ&セールス交流会11】/ゲスト:白江勝行(
 APOMA代表)\n発注予算30万円を最大10社に（フリーランス
 もOK）\n発注者である株式会社APOMA代表・白江社長が、1
 社あたり30万円の発注予算を用意。 フリーランスや個
 人事業主のマーケター・セールスにとって、実際の案
 件を獲得できる交流会です。特許出願中の、今注目の
 スタートアップ「APOMA」が実現する 「アポを買える」
 「発注お祝い金がもらえる」「相見積もりの無駄を省
 ける」といった革新的な仕組みを理解し、その場で受
 注のチャンスをつかみましょう。\nAPOMAとは\nhttps://youtu
 .be/aAnNNb6ZaTo?si=N7Ntt-8U1-lQU5VY\n狭く深く交流、ここだけの
 情報を共有する会\n本イベントは渋谷マーケターコミ
 ュニティとのコラボで開催。マーケター、営業、クリ
 エイター、スタートアップ経営者など、 APOMAを活用し
 て新たなビジネスチャンスを得たい方々がリアルに交
 流する夜です。堅苦しい名刺交換ではなく、カジュア
 ルな乾杯からスタート。 お酒を片手に、**「次の仕事
 につながるきっかけ」**を見つけに来てください。\nAPO
 MAが提案する新しい副業『APOMAパートナー』\n企業の課
 題やニーズをヒアリングし、発注・相談先探しを支援
 することで、月収30万円のストック報酬を目指せる新
 しい副業モデルです。すでに5名のパートナーが活躍し
 、実際に収益を得ています。今回の交流会では、最大1
 0社（フリーランスもOK）に新たなパートナー依頼を行
 い、一緒に企業の課題解決に取り組む仲間を募集しま
 す。\nAPOMAパートナーとは\nhttps://apoma-corp.com/partner\nイ
 ベントスケジュール\n・19:00〜19:20　サービス説明＆質
 疑応答・19:20〜19:40　APOMAパートナー成功の秘訣（現役
 パートナーとのディスカッション）・19:40〜21:00　白江
 代表・パートナー・参加者の交流会\nこんな方におす
 すめ！\n・デザイナー、マーケターなどで活動するフ
 リーランスの方・新規事業立ち上げや顧客課題解決を
 目指す、デザイン会社・広告代理店・開発会社・コン
 サル会社・経営者交流会や会食を主催し、参加者へ価
 値提供をしたい方・既存顧客への提供価値を高めたい
 士業の方\nAPOMAが変える、発注の新しい常識\n「商談ま
 でたどり着くのが大変」──そんな声から誕生したの
 がAPOMA。 1コンペにつき3社以上が提案し、必ず商談に
 つながる仕組み。 さらに発注が決まれば最大10万円の
 発注お祝い金も。効率と信頼を両立する、発注者・受
 注者のための新しい企業コンペプラットフォームを、
  この場でぜひ体感してください。\n🔗 詳しくはこち
 ら\n●相談・相見積もりしたい企業様：https://apoma-lp.com
 /\n●提案・受注をしたい企業様　　：https://apoma-lp.com/b
 uy\n\n\nコミュニティメンバー以外の方も参加可能です\n
 Facebookグループでコミュニティは公開しています。メ
 ンバー以外の方の参加も可能です。また、Facebookアカ
 ウントをお持ちの方は是非グループに参加していただ
 けると嬉しいです。https://www.facebook.com/groups/shibuyamarkete
 rcommunity\n\n人と人を繋ぐクラフトビールKOBUSHI BEERがお
 送りします\n東京で第2位のクラフトビールバーであるK
 OBUSHI BEER LOUNGE & BARが会場です。美味しいクラフトビー
 ルと100種類以上のカクテルで楽しい時間を演出します
 。チケットに1ドリンクが付いていますので乾杯の後は
 追加で注文してください。四万十ポークのソーセージ&
 ベーコンの盛り合わせ、チキンナゲット、ノンオイル
 揚げ餃子などのフードも用意しています。もちろんノ
 ンアルコールもご用意していますのでお酒が飲めない
 方も安心してご参加ください。\n会場\nKOBUSHI BEER LOUNGE &
  BAR東京都渋谷区道玄坂2-17-2 トップ美奄 2F\n参加費\n参
 加費 1ドリンク付 3\,000円\nゲスト\n白江勝行\n株式会社A
 POMA 代表取締役\n株式会社APOMA代表。大阪公立大学在学
 中に「ITで企業課題を解決したい」との思いから起業
 。事業開発や営業支援の受託事業を展開し、大手百貨
 店や大手旅行会社などを支援。2024年にはWeb3関連の企
 業向けプロダクトを事業売却。現在は企業コンペプラ
 ットフォーム「APOMA」を運営。米スタートアップW杯奨
 学生、日本学生エバンジェリストアワード準グランプ
 リ、京都府IT講師、大学客員准教授。趣味は工芸品収
 集と野球観戦。APOMAのサイトはコチラ：https://apoma-lp.com
 /\n※注意事項\n・ビジネスイベントに付き、名刺のご
 持参をお願いいたします。・保険、投資不動産などの
 営業目的の方、MLM及び宗教関連の方の参加はお断りし
 ております。・一度注文されたチケットは主催者都合
 によるイベントキャンセルの場合を除き返金は出来ま
 せんので、ご了承の上お申し込みください。
LOCATION:KOBUSHI BEER LOUNGE & BAR 東京都渋谷区道玄坂2-17-2トッ
 プ美奄2F
URL:https://techplay.jp/event/987903?utm_medium=referral&utm_source=ics&utm
 _campaign=ics
END:VEVENT
END:VCALENDAR
