BEGIN:VCALENDAR
VERSION:2.0
PRODID:-//https://techplay.jp//JP
CALSCALE:GREGORIAN
METHOD:PUBLISH
X-WR-CALDESC:AI時代の起業家を育てる、伴走型事業開発プロ
 グラム AXIS Matching Accelerator Program【応募期限延長！12/12
 （金）まで】
X-WR-CALNAME:AI時代の起業家を育てる、伴走型事業開発プロ
 グラム AXIS Matching Accelerator Program【応募期限延長！12/12
 （金）まで】
X-WR-TIMEZONE:Asia/Tokyo
BEGIN:VTIMEZONE
TZID:Asia/Tokyo
BEGIN:STANDARD
DTSTART:19700101T000000
TZOFFSETFROM:+0900
TZOFFSETTO:+0900
TZNAME:JST
END:STANDARD
END:VTIMEZONE
BEGIN:VEVENT
UID:987942@techplay.jp
SUMMARY:AI時代の起業家を育てる、伴走型事業開発プログ
 ラム AXIS Matching Accelerator Program【応募期限延長！12/12（
 金）まで】
DTSTART;TZID=Asia/Tokyo:20251212T160000
DTEND;TZID=Asia/Tokyo:20251212T170000
DTSTAMP:20260419T161343Z
CREATED:20251021T012415Z
DESCRIPTION:イベント詳細はこちら\nhttps://techplay.jp/event/98794
 2?utm_medium=referral&utm_source=ics&utm_campaign=ics\n\n概要\n【好
 評につき応募期限延長！12月12日（金）17時まで】AIの
 力で社会課題を解決する── 構想を“実現”へと導く
 支援プログラムが、始まります。\nAI技術が進化する中
 で、事業開発の在り方も大きく変わりつつあります。
 これまで高いハードルとされていたビジネス立ち上げ
 も、生成AIの登場により、よりスモール＆スピーディ
 な形で挑戦できる環境が整いつつあります。\n一方で
 、構想を形にし、社会実装に至るためには、技術・資
 金・仲間──多面的な支援が欠かせません。\n本プロ
 グラムは、AIを活用したビジネスを真剣に考える起業
 家志望者に向けた支援プログラムです。松尾・岩澤研
 究室の技術的サポートをはじめ、VCや専門家による伴
 走、学生エンジニアとの協働機会、 そして「リーンロ
 ーンチパッド」への参加など、実行に向けた土台を丁
 寧にご用意しています。\n構想を磨き、試し、育てる
 機会。志ある起業家の、真摯な挑戦をお待ちしていま
 す。\n▼詳細は公式サイト『AXIS Matching Accelerator Program
 』からご確認ください！\n■優勝賞品：\n\n優勝チーム
 賞金300万円\n上位4チーム1チームにつき50万円\n\n■課題
 条件：\n必須条件\n\n応募者自身が業務やキャリアの中
 でリアルに体験した課題を起点とすること  ※ニュー
 スや二次情報のみをもとにした“他人ごと”の課題は
 対象外とします\nAI技術を活用した解決アプローチを含
 むこと（必ずしも技術の実装経験は問いません）\n誰
 のどんな課題を、どう解決するのかが具体的に説明さ
 れていること\n\n歓迎条件\n\n特定業界・職種に根差し
 たドメイン課題であること（例：医療現場、製造業、
 教育機関など）\n「構想」だけでなく、初期の仮説検
 証やユーザーインタビューなどの実行アクションが一
 部含まれていること\n解決にあたり、生成AIや最新のAI
 ツールの活用が前提となっていること\n\n■申込の詳細
 事項：\n\n応募期間：2025年8月1日(金) 〜 2025年12月12日(
 金) 17:00まで\n参加費：無料\n応募方法：公式サイト「
 エントリーはこちら」ボタンから応募フォームに遷移
 し、「エントリーシート」をダウンロードし、必要書
 類と情報をご記入の上応募フォームへご提出ください
 。\n提出フォーマット：必要書類の提出フォーマット
 はこちらからダウンロードください\n応募フォーム：
 こちらへ必要書類と必要事項記入の上ご提出ください\
 n\n■資料請求フォーム：\n\n詳細な資料はこちらからご
 覧いただけます\n\nスケジュール\n最新のスケジュール
 については公式サイト『AXIS Matching Accelerator Program』を
 ご確認ください\n\n参加対象\n\nAIを活用した新規事業・
 起業に関心がある方\n本プログラムの各フェーズ（書
 類選考～リーンローンチパッド～Demo Day）に継続して
 参加可能な方\n\n参加にあたっての注意事項\n\n他人の
 アイデアや公表されたアイデアを無断で転用すること
 は、審査の対象外とさせていただく場合があります。
 また、他者の知的財産権を侵害することのないようご
 注意ください。\n\n
LOCATION:
URL:https://techplay.jp/event/987942?utm_medium=referral&utm_source=ics&utm
 _campaign=ics
END:VEVENT
END:VCALENDAR
