BEGIN:VCALENDAR
VERSION:2.0
PRODID:-//https://techplay.jp//JP
CALSCALE:GREGORIAN
METHOD:PUBLISH
X-WR-CALDESC:【求人広告×SNS活用勉強会】求人広告とSNSの正
 しい活用方法に迫る!
X-WR-CALNAME:【求人広告×SNS活用勉強会】求人広告とSNSの正
 しい活用方法に迫る!
X-WR-TIMEZONE:Asia/Tokyo
BEGIN:VTIMEZONE
TZID:Asia/Tokyo
BEGIN:STANDARD
DTSTART:19700101T000000
TZOFFSETFROM:+0900
TZOFFSETTO:+0900
TZNAME:JST
END:STANDARD
END:VTIMEZONE
BEGIN:VEVENT
UID:988042@techplay.jp
SUMMARY:【求人広告×SNS活用勉強会】求人広告とSNSの正し
 い活用方法に迫る!
DTSTART;TZID=Asia/Tokyo:20251112T130000
DTEND;TZID=Asia/Tokyo:20251112T140000
DTSTAMP:20260420T044511Z
CREATED:20251023T020634Z
DESCRIPTION:イベント詳細はこちら\nhttps://techplay.jp/event/98804
 2?utm_medium=referral&utm_source=ics&utm_campaign=ics\n\n概要\n第一
 部：株式会社BESW\nSNSで100名以上の応募を獲得！長期的
 に成果を出す採用ブランディング戦略 \n求人広告だけ
 では応募が集まらない、採用母集団が広がらない——
 そんな課題を抱える企業が増えています。本セミナー
 では、SNSを活用して100名以上の応募を獲得した成功事
 例をもとに、長期的に成果を出すための採用ブランデ
 ィング戦略を解説します。Facebook・X・LinkedIn・TikTokな
 どの媒体ごとの活用方法、学生や求職者に響く情報発
 信の仕方、そして応募につながるコミュニケーション
 設計を具体的に紹介。継続的な採用力を高めたい人事
 責任者・経営者に最適な内容です。\nお申し込みはこ
 ちら\n– 学べること –\n\nSNSで100名以上の応募を集め
 た事例と再現できるポイント\nFacebook・X・LinkedIn・TikTok
 など、媒体ごとの特徴と活用法\n求職者に響く情報発
 信と、応募につながるコミュニケーション設計\n\n– 
 こんな方にオススメ –\n\n求人広告だけでは母集団形
 成が難しいと感じている人事責任者・採用担当者\n自
 社の魅力を伝える採用ブランディングに課題を感じて
 いる中小〜中堅企業の経営者\n継続的に応募者を集め
 られる仕組みを作りたい成長意欲の高い企業の人事部
 門\n\n\n田中 千晶（Tanaka Chiaki）\n株式会社BESW　代表取
 締役2009年、大学在学中に会社を設立し、1年半で大手
 企業、中小企業50社と取引をする。 Webプロモーション
 支援を得意とし、特にSNS活用支援で多くの実績をもつ
 。2012年から全国各地でセミナーを精力的に実施。シリ
 コンバレーのFacebook本社やX本社へ毎年出向いて直接SNS
 の最先端情報を仕入れてきている。角川出版社、マイ
 ナビ社、技術評論社、翔泳社、インプレス社でマーケ
 ティング支援の書籍を8冊出版。連載も8社で行う。自
 身のラジオ番組、パーソナリティとしても活動し、SNS
 の最新情報を届けている。\n▼ 代表田中のXアカウント
 はこちらhttps://x.com/c_tanaka1987\n\nお申し込みはこちら\n\n
 第二部：株式会社飛竜企画\nSNS採用の活用仕方につい
 て\n SNS広告は、年齢・性別・興味関心など高精度のタ
 ーゲティングが可能で、潜在層・準顕在層への訴求に
 効果的です。求人媒体では届かなかった層へのアプロ
 ーチができ、応募率や採用率の向上に寄与します。ま
 た、SNS広告の運用には専用のランディングページが必
 要で、目的に応じた戦略設計が重要です。SNS×採用を
 実際の導入事例を交えてご紹介します。\n– 学べるこ
 と –\n\nSNS広告・WEB広告の強みと求人広告との差別化\n
 SNS広告を利用するに必要なこと\nSNS広告の活用事例\n\n
 – こんな方にオススメ –\n\nSNS採用に対しての基礎知
 識を求めている方\n採用施策の新たな手法を探されて
 いる方\n現在の施策では中々応募数が伸び悩んでいる
 方\n\n高木太地(たかぎ　たいち)TAKAGI TAICHI\n株式会社飛
 竜企画　リーダー新卒で厨房機器会社に入社。2021年飛
 竜企画に転職。飲食・警備・人材派遣・イベント業界
 を中心とした採用戦略を行い、求人広告の選定だけで
 なく、採用の入口・出口を握り合う、one to oneの支援を
 実施。2024年からは採用勉強会責任者として、企業様の
 知りたいを形にしていく採用勉強会を定期的に実施。\
 n\n\nお申し込みはこちら\n\n＜ 実施概要 ＞\n【日程】  
 11月12日(水)　13:00 ～ 14:00\n【開催形式】オンライン（
 ※WEBツール：teams）\n【注意事項】　WEBのみの開催とな
 りますので、ご了承ください。　エントリーいただい
 た方に、前日までにWEBセミナー開催のURLをお送りしま
 す。　競合、同業社様のご参加はお断りいたします。
 　セミナーに関するフォームでのご入力情報は株式会
 社BESWがセミナーやサービスのご案内（広告メール含む
 ）をするため取得し、同目的で利　用するため、以下
 の共催企業に提供いたします。各社の個人情報の取り
 扱いの詳細は以下をご覧ください。　・株式会社BESW\n
 お申込が予定数を超過した場合は、早期受付終了とさ
 せていただく場合がございます。　お申込後のキャン
 セルが発生した場合は再受付させていただく事がござ
 いますので、ご参加が難しくなった際は下記までご連
 絡いただきますよ　うお願い申し上げます。＜株式会
 社BESW　セミナー運営担当 03-5829-3510＞
LOCATION:
URL:https://techplay.jp/event/988042?utm_medium=referral&utm_source=ics&utm
 _campaign=ics
END:VEVENT
END:VCALENDAR
