BEGIN:VCALENDAR
VERSION:2.0
PRODID:-//https://techplay.jp//JP
CALSCALE:GREGORIAN
METHOD:PUBLISH
X-WR-CALDESC:宿泊業の集客を変える!写真×SNSで予約を増や
 す最新戦略
X-WR-CALNAME:宿泊業の集客を変える!写真×SNSで予約を増や
 す最新戦略
X-WR-TIMEZONE:Asia/Tokyo
BEGIN:VTIMEZONE
TZID:Asia/Tokyo
BEGIN:STANDARD
DTSTART:19700101T000000
TZOFFSETFROM:+0900
TZOFFSETTO:+0900
TZNAME:JST
END:STANDARD
END:VTIMEZONE
BEGIN:VEVENT
UID:988083@techplay.jp
SUMMARY:宿泊業の集客を変える!写真×SNSで予約を増やす最
 新戦略
DTSTART;TZID=Asia/Tokyo:20251118T130000
DTEND;TZID=Asia/Tokyo:20251118T140000
DTSTAMP:20260422T092317Z
CREATED:20251024T014846Z
DESCRIPTION:イベント詳細はこちら\nhttps://techplay.jp/event/98808
 3?utm_medium=referral&utm_source=ics&utm_campaign=ics\n\n概要\n第一
 部：株式会社BESW\n宿泊業の集客を劇的に変える！SNSか
 ら予約問い合わせの獲得に成功した最新事例を紹介 \n
 宿泊業界では「SNSを運用しているが予約につながらな
 い」という声が多く聞かれます。本セミナーでは、SNS
 を活用して予約問い合わせの獲得に成功した最新事例
 をもとに、旅館・ホテルが集客力を高めるための実践
 ノウハウを解説します。InstagramやXを使った発信の工夫
 、宿泊客に刺さるコンテンツの作り方、そして問い合
 わせにつながる導線設計まで具体的に紹介。ホームペ
 ージやOTAに依存しない新しい集客方法を知りたい宿泊
 施設の経営者・集客担当者に最適の内容です。\n– 学
 べること –\n\nSNSから予約問い合わせを獲得した最新
 事例と再現のポイント\n旅館・ホテルに合ったInstagram
 ・X活用法と発信のコツ\nSNS運用を“なんとなく”から
 成果につながる仕組み化へ変える方法\n\n– こんな方
 にオススメ –\n\nSNSを運用しているが予約に直結して
 いない旅館・ホテルの経営者・担当者\nOTAや広告費に
 依存せず、自社集客を強化したい宿泊施設\n限られた
 リソースでも、効率よく成果を出したい中小規模の旅
 館・ホテル\n\n\n田中 千晶（Tanaka Chiaki）\n株式会社BESW
 　代表取締役2009年、大学在学中に会社を設立し、1年
 半で大手企業、中小企業50社と取引をする。 Webプロモ
 ーション支援を得意とし、特にSNS活用支援で多くの実
 績をもつ。2012年から全国各地でセミナーを精力的に実
 施。シリコンバレーのFacebook本社やX本社へ毎年出向い
 て直接SNSの最先端情報を仕入れてきている。角川出版
 社、マイナビ社、技術評論社、翔泳社、インプレス社
 でマーケティング支援の書籍を8冊出版。連載も8社で
 行う。自身のラジオ番組、パーソナリティとしても活
 動し、SNSの最新情報を届けている。\n▼ 代表田中のXア
 カウントはこちらhttps://x.com/c_tanaka1987\n\n第二部：株式
 会社Tikaras\nレピュテーションマネジメントの最前線！
 情報量を最大化させる写真とビジュアルマーケティン
 グのイロハ\n 近年耳にすることが多くなった「レピュ
 テーションマネジメント」口コミを分析するツールを
 入れたけど、具体的な解決策は打てていないという施
 設様も多いのではないでしょうか。本セミナーでは、
 写真を使ったマーケティングやレピュテーションマネ
 ジメントの解決策をご紹介！情報発信の大切さとその
 頻度や内容について、具体的な事例を用いながら丁寧
 にお伝えさせていただきます。アクセス数や成約率、
 口コミ評価のための即効性あるアクションをお持ち帰
 りいただけますと幸いです。\n– 学べること –\n\nお
 客様の購買意欲を高める情報発信のコツ\nＯＴＡやＧ
 ＢＰ、ＳＮＳの最適な更新頻度やその内容\n情報を最
 大化させる写真撮影のコツ\n\n– こんな方にオススメ 
 –\n\nWebを用いた集客に苦戦を強いられている宿泊施設
 \n人材不足や資金不足に悩まされている宿泊施設\nＯＴ
 Ａや自社ページの写真を刷新できていない（できない
 ）宿泊施設\n\n\n大島 勇飛（Yuhi Oshima）\n株式会社Tikaras
 　Founder COO中央大学卒業。株式会社JTBに就職し、2019年
 にJTB×Agoda協業プロジェクトリーダーに抜擢される。退
 職後は株式会社リクルートへ転職。2022年に、リクルー
 ト旅行DivisionにおいてMVPを獲得。2024年以降は長野県上
 田市にて誘客セミナーを開催するなど、旅行業界で数
 多くの実績を重ねている。 2022年、リクルート在籍中
 に起業。業績拡大のため2023年に法人化し、株式会社Tik
 arasを設立。現在は、宿泊施設向けアプリ「Byme＠宿泊
 施設」と不動産業界に特化した写真アプリ「Byme＠不動
 産」と「宿泊施設向け経営コンサルティング」の3つの
 事業を展開中。\n\n\n\n＜ 実施概要 ＞\n【日程】 11月18
 日(火)　13:00 ～ 14:00\n【開催形式】オンライン（※WEBツ
 ール：Zoom）\n【注意事項】　WEBのみの開催となります
 ので、ご了承ください。　エントリーいただいた方に
 、前日までにWEBセミナー開催のURLをお送りします。　
 競合、同業社様のご参加はお断りいたします。　セミ
 ナーに関するフォームでのご入力情報は株式会社BESWが
 セミナーやサービスのご案内（広告メール含む）をす
 るため取得し、同目的で利　用するため、以下の共催
 企業に提供いたします。各社の個人情報の取り扱いの
 詳細は以下をご覧ください。　・株式会社BESW　・株式
 会社Tikarasお申込が予定数を超過した場合は、早期受付
 終了とさせていただく場合がございます。　お申込後
 のキャンセルが発生した場合は再受付させていただく
 事がございますので、ご参加が難しくなった際は下記
 までご連絡いただきますよ　うお願い申し上げます。
 ＜株式会社BESW　セミナー運営担当 03-5829-3510＞
LOCATION:
URL:https://techplay.jp/event/988083?utm_medium=referral&utm_source=ics&utm
 _campaign=ics
END:VEVENT
END:VCALENDAR
