BEGIN:VCALENDAR
VERSION:2.0
PRODID:-//https://techplay.jp//JP
CALSCALE:GREGORIAN
METHOD:PUBLISH
X-WR-CALDESC:【初級編】AI検索時代に成果を出すサイトリニ
 ューアル戦略  ー GEOを学ぶ ー
X-WR-CALNAME:【初級編】AI検索時代に成果を出すサイトリニ
 ューアル戦略  ー GEOを学ぶ ー
X-WR-TIMEZONE:Asia/Tokyo
BEGIN:VTIMEZONE
TZID:Asia/Tokyo
BEGIN:STANDARD
DTSTART:19700101T000000
TZOFFSETFROM:+0900
TZOFFSETTO:+0900
TZNAME:JST
END:STANDARD
END:VTIMEZONE
BEGIN:VEVENT
UID:988216@techplay.jp
SUMMARY:【初級編】AI検索時代に成果を出すサイトリニュ
 ーアル戦略  ー GEOを学ぶ ー
DTSTART;TZID=Asia/Tokyo:20251120T120000
DTEND;TZID=Asia/Tokyo:20251120T123000
DTSTAMP:20260422T152346Z
CREATED:20251027T234438Z
DESCRIPTION:イベント詳細はこちら\nhttps://techplay.jp/event/98821
 6?utm_medium=referral&utm_source=ics&utm_campaign=ics\n\n\n🔹【初級
 編】AI検索時代に成果を出すサイトリニューアル戦略\n
 ―「GEO」を学ぶ―\n\nSEOを超え、事業成果に直結するAI
 検索（GEO）対策を学ぶ\nAIが検索体験を根本から変えつ
 つある今、「従来のSEO対策では成果が出にくい」と感
 じていませんか？本ウェビナーでは、AI検索（GEO）時
 代に成果を出すための新しいサイト設計と考え方を、3
 0分でわかりやすく解説します。\n\nこんなお悩みはあ
 りませんか？\n\nAIが検索結果の上位に表示され、自社
 サイトへの流入が激減している\nアクセス減少にとも
 ない、問い合わせや資料ダウンロードも減っている\n
 自社の情報がAI検索でヒットされない\nサイトリニュー
 アルを控えているが、従来のSEO対策で成果が出るか不
 安\nまずはAI時代に必要な改善の方向性を知りたい\n\n
 👉 そんな悩みを抱える ウェブサイト担当者・リニュ
 ーアル責任者 におすすめです。\n\n本ウェビナーで学
 べること\n\nAI検索時代に成果を出すための新しいサイ
 ト設計の考え方\nAIに「信頼できる情報源」として引用
 されるための手法\nリニューアル前に必ず押さえてお
 きたい3つの改善ポイント\n\n\nセミナー内容\n【初級編
 】「GEO」を学ぶ\n\nAI革命：検索体験は根本からどう変
 わったのか\nウェブ戦略：人とAIの両方に評価されるサ
 イト設計\n重要チェック：まずここからはじめる3つの
 重要要素\n\n\n開催概要\n\n\n\n項目\n内容\n\n\n\n\n日時\n202
 5年11月20日（木）12:00～12:30\n\n\n費用\n無料\n\n\n定員\n先
 着30名\n\n\n対象\nウェブサイトリニューアルの担当者・
 責任者、または将来的にリニューアルを検討している
 方\n\n\n会場\nオンライン（Google Meet）\n\n\n形式\nマイク
 ・カメラオフの「閲覧のみ」参加型\n\n\n主催\n株式会
 社あやとり\n\n\n\n中級編 2025年12月4日（木）12:00～12:30 
 もぜひご参加ください。
LOCATION:
URL:https://techplay.jp/event/988216?utm_medium=referral&utm_source=ics&utm
 _campaign=ics
END:VEVENT
END:VCALENDAR
