BEGIN:VCALENDAR
VERSION:2.0
PRODID:-//https://techplay.jp//JP
CALSCALE:GREGORIAN
METHOD:PUBLISH
X-WR-CALDESC:（録画配信）【NTTデータグループの活用事例
 を公開！】SalesforceやSmartHR、Excelなど… kintoneをフル活
 用するための外部システム連携成功の秘訣をご紹介！
X-WR-CALNAME:（録画配信）【NTTデータグループの活用事例
 を公開！】SalesforceやSmartHR、Excelなど… kintoneをフル活
 用するための外部システム連携成功の秘訣をご紹介！
X-WR-TIMEZONE:Asia/Tokyo
BEGIN:VTIMEZONE
TZID:Asia/Tokyo
BEGIN:STANDARD
DTSTART:19700101T000000
TZOFFSETFROM:+0900
TZOFFSETTO:+0900
TZNAME:JST
END:STANDARD
END:VTIMEZONE
BEGIN:VEVENT
UID:988536@techplay.jp
SUMMARY:（録画配信）【NTTデータグループの活用事例を公
 開！】SalesforceやSmartHR、Excelなど… kintoneをフル活用す
 るための外部システム連携成功の秘訣をご紹介！
DTSTART;TZID=Asia/Tokyo:20251120T110000
DTEND;TZID=Asia/Tokyo:20251120T120000
DTSTAMP:20260423T164322Z
CREATED:20251104T101307Z
DESCRIPTION:イベント詳細はこちら\nhttps://techplay.jp/event/98853
 6?utm_medium=referral&utm_source=ics&utm_campaign=ics\n\n【NTTデータ
 グループの活用事例を公開！】SalesforceやSmartHR、Excelな
 ど… kintoneをフル活用するための外部システム連携成
 功の秘訣をご紹介！\nセミナー概要\nNTTデータグループ
 企業、鉄道グループ企業、大手通販事業者など、多種
 多様な企業様でのkintoneとsalesforce／SmartHR／Excelなどと
 のデータ連携をノーコードで実装した事例をご紹介す
 るウェビナーです。kintoneを利用する中で、こんなお悩
 みはありませんか？\n\nサブテーブルのデータを上手く
 外部システムに渡せない。\nkintone内にあるデータの検
 索性を高めたい。\nkintoneは現場での入力インタフェー
 スとして利用し、基幹システムや会計システム、BIツ
 ールと連携させて、kintoneデータを活用したい。\nkintone
 をデータ一元管理ツールとしてフル活用したい。\nkinto
 neアプリが多く一気通貫で現状把握・分析がしづらい
 。\n外部システムへの手作業による転記作業が日々発
 生し負担が大きい、ヒューマンエラー発生のリスクが
 ある。\nkintoneと外部システムを連携させたいが、実装
 コストが高い、対応できるエンジニアがいない。\n\n働
 き方改革（リモート業務など）やDX推進（ペーパーレ
 ス化など）を進める中で、kintoneを代表とする様々なSaa
 Sが定着し、今後も右肩上がりに活性化され続けること
 が予想されます。\n一方で、機能の重複やデータの分
 散化（サイロ化）を課題としたユーザーの声を聞くこ
 とが多くなり、各種SaaS同士を連携するご相談が増えて
 おります。\n本セミナーでは、ノーコードETLツール「Re
 ckoner（レコナー）」を用いたkintone×外部システム連携
 の成功事例やユースケースを、デモンストレーション
 を交えながらご紹介いたします。\nこんな方におすす
 め\n\nkintoneと他ツールの連携でお困りの方\nkintoneとの
 データ受け渡し業務を効率化・ヒューマンエラーをな
 くしたい方\nETLツールの導入を検討している方\n他社の
 ETLツール導入背景や実際の活用方法について知りたい
 方\nReckonerの実際の画面を見てみたい方\n\nスピーカー
 紹介\n関根 章雄 ／ 株式会社スリーシェイク　Reckoner事
 業部　マネージャー\n大手通信キャリアや独立系ソフ
 トウェアベンダーでのBtoBセールス・セールス企画に加
 え営業責任者を歴任。NW、監視、バックオフィス、自
 動化ツールなど大手からスタートアップ企業まで規模
 を問わず営業実績を積む。新規サービスの企画・立上
 げも経験。スリーシェイクにJoin後は、クラウド型ETLツ
 ールReckonerのパートナーセールス責任者として、販売
 パートナー、アライアンスパートナーなどあらゆるパ
 ートナーの構築と販売促進支援を行っている。\n注意
 事項\n\n本セミナーは法人のお客様限定となります。ま
 た、同業者様のお申込みはお断りさせていただく場合
 がございます。\n視聴URLは別途メールにてお送りいた
 します。\n本セミナーは録画配信となります。\n
LOCATION:
URL:https://techplay.jp/event/988536?utm_medium=referral&utm_source=ics&utm
 _campaign=ics
END:VEVENT
END:VCALENDAR
