BEGIN:VCALENDAR
VERSION:2.0
PRODID:-//https://techplay.jp//JP
CALSCALE:GREGORIAN
METHOD:PUBLISH
X-WR-CALDESC:CTOクロストーク ～3社のCTOが組織・開発・キャ
 リアのリアルを語り合う～
X-WR-CALNAME:CTOクロストーク ～3社のCTOが組織・開発・キャ
 リアのリアルを語り合う～
X-WR-TIMEZONE:Asia/Tokyo
BEGIN:VTIMEZONE
TZID:Asia/Tokyo
BEGIN:STANDARD
DTSTART:19700101T000000
TZOFFSETFROM:+0900
TZOFFSETTO:+0900
TZNAME:JST
END:STANDARD
END:VTIMEZONE
BEGIN:VEVENT
UID:988554@techplay.jp
SUMMARY:CTOクロストーク ～3社のCTOが組織・開発・キャリ
 アのリアルを語り合う～
DTSTART;TZID=Asia/Tokyo:20251120T190000
DTEND;TZID=Asia/Tokyo:20251120T213000
DTSTAMP:20260423T180538Z
CREATED:20251105T004444Z
DESCRIPTION:イベント詳細はこちら\nhttps://techplay.jp/event/98855
 4?utm_medium=referral&utm_source=ics&utm_campaign=ics\n\n概要\n成長
 フェーズの3社のCTOが集い、「組織」「開発」「キャリ
 ア」をテーマにお互いへ質問を投げ合う特別トークセ
 ッション！\n「なぜCTOになったの？」「会社からCTOに
 求められていることは？」「プロダクト開発でどれく
 らいAIを活用している？」\nなど、マネジメントの悩み
 から開発現場の裏側、キャリアの分岐点まで──CTOク
 ロストークだからこそ聞ける、現場のリアルな経験談
 や視点が語られます。参加者からの質問も交え、ここ
 でしか聞けない本音トークも…！！\n次のキャリアを
 考えるすべてのエンジニアに、現場で培った学びやヒ
 ントを届けます！\nさらに、セッション終了後には登
 壇者や参加者の皆さまと交流できる懇親会もございま
 す。軽食やドリンクをご用意しておりますので、お気
 軽にご参加ください！お一人でのご参加も、お知り合
 いのエンジニアの方とのご参加でも大歓迎です！◎\n
 参加対象者\nITエンジニア（正社員、フリーランス問わ
 ず）、CTO、VPoE、テックリード、PMなどエンジニアリン
 グ領域に関わっている方\nこんな方におすすめ\n\n将来
 のキャリアに漠然とした不安を感じているエンジニア\
 nCTOやVPoE、テックリードなどリーダーポジションを目
 指している方\nチームメンバーのキャリア設計を考え
 ているリーダー層や現CTO\n\nタイムスケジュール\n\n\n\n
 時間\n内容\n登壇者\n\n\n\n\n18:30-\n受付開始\n-\n\n\n19:00-19:
 05\n挨拶・説明\n-\n\n\n19:10-19:15\nLT①PdMを経て広がったエ
 ンジニアの可能性\nany株式会社荒川聖悟\n\n\n19:17-19:22\nL
 T②開発チーム運営をAI駆動へ、スクラムからAI-DLCの切
 り替え\nRyobi AlgoTech Capital安田佳央\n\n\n19:24-19:29\nLT③\n-\
 n\n\n19:35-20:15\nCTO3社によるクロストーク！\n株式会社B4A
 株式会社パートナプロップコミューン株式会社\n\n\n20:2
 0-21:30\n懇親会\n-\n\n\n21:45\n終了\n\n\n\n\n※ 当日予告なく
 時間配分・内容が変更にな可能性がございます。※注
 意：受付は19時半で終了します。この時間以降の入場
 はできません。\nパネルディスカッション 登壇者紹介
 （敬称略）\n前原 秀徳\n\n株式会社B4A CTO（@maeharin）\n慶
 應義塾大学総合政策学部を卒業後、SBIホールディング
 ス株式会社に入社しWebディレクターを担当。エンジニ
 アに転向しベンチャー企業を経てエムスリー株式会社
 に入社。エンジニアチームリーダー、グループ会社取
 締役等を担当し、エンジニアリングフェロー就任。そ
 の後、株式会社B4Aの創業からCTOを担当\n\n\n福森 賢\n\n
 株式会社パートナープロップ プロダクト開発 CTO（@prm_
 fukumori ）\n大学卒業後、株式会社アールナインに入社
 。自社SaaSの開発、新規事業のシステム開発、基幹シス
 テム開発など、幅広い経験を積む。入社時30名規模だ
 った組織が100名規模まで成長する中で、採用、マネジ
 メント、営業など、様々な役割も担当。\nその後、株
 式会社パートナープロップCTOに就任。技術戦略策定、
 開発体制の構築、エンジニア採用・育成を統括。\n技
 術と事業の両面から持続的な成長を支える役割を担っ
 ている。\n\n上野 大貴\n\nコミューン株式会社 執行役員
  CTO（@anoChick ）\nSpeee、Aiming、BizteXで広告・ゲーム・RPA
 など幅広い開発を経験。2022年にコミューンへ入社し、
 2024年CTO就任。\n技術と事業をつなぎ、顧客起点の価値
 創造を推進。複数プロダクトによる成長戦略をリード
 する。\n\nファシリテーター\n\n斎藤健太（@relance_kenta）
 ｜Relance事業部　事業部長\n複数の人材紹介会社でエー
 ジェントとして活動した後、2021年にフリーランスエン
 ジニアに特化した\n人材紹介事業「Relance（リランス）
 」の立ち上げ拡大をミッションに、スリーシェイクへ
 入社。\nエージェント事業の拡大と並行してマッチン
 グプラットフォーム　「RELACOMM（リラコム）」の立ち
 上げや、\nHRBPコンサルティング業務も行う。\n\n\n\n会
 場：株式会社スリーシェイク\n東京都中央区銀座8丁目2
 1番1号 住友不動産汐留浜離宮ビル7F※お申し込み後、
 直接会場までお越しください。\n行動規範 (Code of Conduct
 ) について\n本イベントは、フリーランスエンジニアに
 関連する情報について参加者と共有するための場です
 。そのため、主催者を含む全ての参加者は下記ページ
 に記載される行動規範に同意していただく必要があり
 ます。ご理解・ご協力をお願いいたします。https://3-sha
 ke.com/event-code-of-conduct/\n注意事項\n■当日、SNSや記事の
 投稿に利用する写真をスタッフが撮影します。もし気
 になる方がいらっしゃれば、写りづらい席にご案内い
 たしますが、映り込む可能性はございます。その際の
 撮影写真の確認や削除には対応できませんのでご了承
 ください。■参加者によるイベントの動画撮影および
 音声録音は禁止しております。ブログやSNS等で当イベ
 ントに関する発信は問題ございません。発信する際に
 は、公序良俗に反する内容のないようご協力をお願い
 します。■エンジニア同士の情報交換や知識共有を軸
 にした交流が目的のイベントになります。営業や勧誘
 等、主目的が異なる方のご参加はご遠慮ください。■
 情報商材やサロン、スクールの紹介はご遠慮ください
 。■交流会や飲食のみが目的の方はご遠慮ください。
 ■Relanceの同業にあたる企業様のご参加につきましては
 、お断りさせていただくことがございます。予めご了
 承ください。\nお問い合わせ・キャンセルついて\n■イ
 ベントに関するご不明点などは以下までお問い合わせ
 ください。relance-pr@3-shake.com■申込み後のキャンセルに
 ついては、当日17:00までにTech Play上でキャンセルをお
 願いします。\n\n
LOCATION:株式会社スリーシェイク 東京都中央区銀座8丁目2
 1番1号 住友不動産汐留浜離宮ビル7F
URL:https://techplay.jp/event/988554?utm_medium=referral&utm_source=ics&utm
 _campaign=ics
END:VEVENT
END:VCALENDAR
