BEGIN:VCALENDAR
VERSION:2.0
PRODID:-//https://techplay.jp//JP
CALSCALE:GREGORIAN
METHOD:PUBLISH
X-WR-CALDESC:【AIエージェント実践セミナー】 明日から使
 えるエージェント活用術をハンズオンで体験
X-WR-CALNAME:【AIエージェント実践セミナー】 明日から使
 えるエージェント活用術をハンズオンで体験
X-WR-TIMEZONE:Asia/Tokyo
BEGIN:VTIMEZONE
TZID:Asia/Tokyo
BEGIN:STANDARD
DTSTART:19700101T000000
TZOFFSETFROM:+0900
TZOFFSETTO:+0900
TZNAME:JST
END:STANDARD
END:VTIMEZONE
BEGIN:VEVENT
UID:988631@techplay.jp
SUMMARY:【AIエージェント実践セミナー】 明日から使える
 エージェント活用術をハンズオンで体験
DTSTART;TZID=Asia/Tokyo:20251107T120000
DTEND;TZID=Asia/Tokyo:20251112T130000
DTSTAMP:20260423T042204Z
CREATED:20251105T143542Z
DESCRIPTION:イベント詳細はこちら\nhttps://techplay.jp/event/98863
 1?utm_medium=referral&utm_source=ics&utm_campaign=ics\n\n株式会社サ
 イバーエージェント（本社：東京都渋谷区、代表取締
 役：藤田晋、東証プライム市場：証券コード4751）のグ
 ループ会社である株式会社AI Shift（本社：東京都渋谷
 区、代表取締役社長：米山結人、以下AI Shift)は、明日
 から業務で使える「AIエージェント」活用術を体験で
 きる実践オンラインセミナーを開催いたします。\n開
 催背景\n多くの企業でAIエージェントの導入が進む一方
 、「使える人が限られている」「業務にどう組み込め
 ばよいかわからない」といった課題も顕在化していま
 す。AI Shiftは、社内のあらゆる業務のAIエージェントを
 実装・運用してきた実績をもとに、“現場で本当に使
 えるAIエージェント活用術”を体験できるセミナーを
 企画しました。本セミナーを通じて、参加者の皆さま
 に、社内問い合わせ対応やレポート作成、データ整理
 などの業務で明日から実践できる具体的なノウハウを
 お届けします。\nセミナーの概要\n\n\n\n項目\n詳細\n\n\n\
 n\nタイトル\nAIエージェント実践セミナー】明日から使
 えるエージェント活用術をハンズオンで体験\n\n\n日時\
 n2025年11月7日（金）12:00-13:002025年11月12日(水)12:00~13:00　
 ※アーカイブ配信\n\n\n形式\nオンライン（無料）\n\n\n\n
 お申し込みURL\n2025年11月7日(金)12:00~13:00https://cyberagent.zo
 om.us/webinar/register/WN_dzzSZatQTXW9ZLYUIX-zfA\n2025年11月12日(水)1
 2:00~13:00https://cyberagent.zoom.us/webinar/register/WN_Bpx1PU3_QC-lflVk
 P49Ahg#/registration\n過去のAIエージェントセミナーもアー
 カイブ配信中\n過去に開催したものの一部をアーカイ
 ブ配信しています。最新のAIエージェント活用事例や
 生成AIリスキリングに関心のある方は、ぜひこちらも
 ご覧ください。\n＞＞過去のアーカイブ配信を見る＜
 ＜\n※記載のリンクより別途事前登録が必要となりま
 すので、ご登録のほどよろしくお願いいたします\n\nお
 問い合わせ先\nAI Shiftセミナー事務局：seminar_aim@ai-messen
 ger.jp
LOCATION:
URL:https://techplay.jp/event/988631?utm_medium=referral&utm_source=ics&utm
 _campaign=ics
END:VEVENT
END:VCALENDAR
