BEGIN:VCALENDAR
VERSION:2.0
PRODID:-//https://techplay.jp//JP
CALSCALE:GREGORIAN
METHOD:PUBLISH
X-WR-CALDESC:【12/5】3Dプリンタの可能性を限界まで高める
 ！デザインツール「nTop」ワークショップ
X-WR-CALNAME:【12/5】3Dプリンタの可能性を限界まで高める
 ！デザインツール「nTop」ワークショップ
X-WR-TIMEZONE:Asia/Tokyo
BEGIN:VTIMEZONE
TZID:Asia/Tokyo
BEGIN:STANDARD
DTSTART:19700101T000000
TZOFFSETFROM:+0900
TZOFFSETTO:+0900
TZNAME:JST
END:STANDARD
END:VTIMEZONE
BEGIN:VEVENT
UID:988708@techplay.jp
SUMMARY:【12/5】3Dプリンタの可能性を限界まで高める！デ
 ザインツール「nTop」ワークショップ
DTSTART;TZID=Asia/Tokyo:20251205T133000
DTEND;TZID=Asia/Tokyo:20251205T163000
DTSTAMP:20260422T171638Z
CREATED:20251107T020854Z
DESCRIPTION:イベント詳細はこちら\nhttps://techplay.jp/event/98870
 8?utm_medium=referral&utm_source=ics&utm_campaign=ics\n\n★3Dプリン
 タをもっと活用したい方へ★\nここでしか受けられな
 い！先端の設計ツール、nTopを活用したワークショップ
 を開催いたします。\nnTopは、エンジニアリングとデザ
 インの未来を切り開く強力なソフトウェアであり、複
 雑な設計課題を解決するための革新的なソリューショ
 ンを提供します。\nこのワークショップは従来の聴講
 型セミナーではなく、実際にソフトを触っていただきn
 Topならではのプロセスを体験いただけます。また、nTop
 で作成した3Dモデルを実際に3Dプリンタで出力し、その
 結果をご覧いただけます。\n【こんな人におすすめ】
 　・3Dプリンタを持っている　・ラティス構造に興味
 がある　・軽量化について新しい手法を検討したい　
 ・AM（Additive Manufacturing）設計に興味がある　・nTopとい
 うソフトウェアの操作感をソフトウェアの操作感を知
 りたい\n【nTopって？】3Dプリンタでしか作れないよう
 な複雑な3D形状を作成できる最先端の設計ツールです
 。エンジニアリングとデザインの未来を切り開く強力
 なソフトウェアであり、複雑な設計課題を解決するた
 めの革新的なソリューションを提供します。\n【ワー
 クショップ内容】　・nTopの基本操作と機能紹介　　nTo
 pの基本的な操作方法や主要な機能について、わかりや
 すく解説します。　　初心者の方でも安心してご参加
 いただけます。\n・実際の設計プロジェクトを通じた
 操作体験　　実際の設計プロジェクトを題材に、nTopを
 使った設計プロセスを体験していただきます。　　ト
 ポロジー最適化や複雑なラティス構造の作成など、実
 践的なスキルを身につける絶好の機会です。\n・3Dプリ
 ンタでのモデル出力サンプル贈呈　　ワークショップ
 での一連の流れを反映した3Dモデルをお持ち帰りいた
 だけます。\n・質疑応答　　皆様の疑問や質問に丁寧
 にお答えします。直接質問できる貴重な機会です。\n
 【開催情報】　・日時：2025年12月5日(金)　13:30～16:30　
 ・場所：株式会社テクノソリューションズ東京本社　
 ・住所：東京都新宿区西新宿6‐6‐3 新宿国際ビルディ
 ング新館4階　・参加費：無料\n【動画紹介】　nTop関連
 の動画をご用意しています、ぜひ受講前にご覧くださ
 い。　・nTop製品紹介：https://youtu.be/xFy7o3lBxHE　・nTop関
 連プレイリスト：https://www.youtube.com/playlist?list=PLcmhfRLoII
 cKTFmVDtNWNYowAlCSokwoB　・テクノソリューションズHP内動画
 リスト：https://www.t-sol.co.jp/tech/videolist/ntop/#listtop\n【受
 付条件】このセミナーは弊社取扱製品の販売促進の為
 に実施しております。競合他社様、個人のスキルアッ
 プ、人材派遣業関係者の方のお申し込みは、 ご遠慮い
 ただきますようお願い申し上げます。\n【セミナー内
 容について】スケジュール・内容等の変更は随時修正
 掲載いたしますが、 やむをえない急な変更につきまし
 ては、ご容赦いただきますよう重ねてお願い申し上げ
 ます。
LOCATION:株式会社テクノソリューションズ東京本社 東京
 都新宿区西新宿6‐6‐3 新宿国際ビルディング新館4F
URL:https://techplay.jp/event/988708?utm_medium=referral&utm_source=ics&utm
 _campaign=ics
END:VEVENT
END:VCALENDAR
