BEGIN:VCALENDAR
VERSION:2.0
PRODID:-//https://techplay.jp//JP
CALSCALE:GREGORIAN
METHOD:PUBLISH
X-WR-CALDESC:Plaza-i 請求機能のまとめ　Vol.2
X-WR-CALNAME:Plaza-i 請求機能のまとめ　Vol.2
X-WR-TIMEZONE:Asia/Tokyo
BEGIN:VTIMEZONE
TZID:Asia/Tokyo
BEGIN:STANDARD
DTSTART:19700101T000000
TZOFFSETFROM:+0900
TZOFFSETTO:+0900
TZNAME:JST
END:STANDARD
END:VTIMEZONE
BEGIN:VEVENT
UID:988788@techplay.jp
SUMMARY:Plaza-i 請求機能のまとめ　Vol.2
DTSTART;TZID=Asia/Tokyo:20251126T110000
DTEND;TZID=Asia/Tokyo:20251126T113000
DTSTAMP:20260424T003537Z
CREATED:20251110T031636Z
DESCRIPTION:イベント詳細はこちら\nhttps://techplay.jp/event/98878
 8?utm_medium=referral&utm_source=ics&utm_campaign=ics\n\n本セミナー
 では、Plaza-iの請求データの作成に関する機能を一通り
 ご紹介いたします。今回のVol.2では、入金に関する機
 能をご説明予定です。請求に関して、改めて確認した
 い方は是非ご参加ください。既にご利用中のお客様、
 また「Plaza-i」でどんな機能を実装しているか体験され
 たい方におすすめします。皆様のお申込みをお待ちし
 ております。\n・日時　：2025年11月26日(水) 11:00～11:30
 ・内容　：11:00～11:30　  Plaza-iの入金機能についてご
 紹介／質疑応答・対象者：中堅・中小企業の経営者・
 管理者・情報システム担当・各業務実務者の方（本セ
 ミナーは弊社にてご同業社と判断させていただいた方
 は参加をお断りする場合がございます。あらかじめご
 了承ください。）・参加費：無料（事前登録制）・定
 員　：30人（定員となり次第締め切らせていただきま
 す）・お申込み：こちらから\nご参加をお待ちしてお
 ります。\n［注意事項］・同じ企業様、複数名での受
 講を希望される場合は、必ず参加希望者全員のお申し
 込みをお願いいたします。・視聴用URLは、開催前日ま
 でにお申込みいただいたメールアドレス宛にお送りい
 たします。・ウェビナー形式のため、マイク・カメラ
 はオフの状態でご参加いただけます。・弊社にて競合
 先と判断させていただいた方は参加をお断りさせてい
 ただく場合がございます。
LOCATION:
URL:https://techplay.jp/event/988788?utm_medium=referral&utm_source=ics&utm
 _campaign=ics
END:VEVENT
END:VCALENDAR
