BEGIN:VCALENDAR
VERSION:2.0
PRODID:-//https://techplay.jp//JP
CALSCALE:GREGORIAN
METHOD:PUBLISH
X-WR-CALDESC:マネジメント実践講座 〜組織の学習と成長を
 支える力を磨く〜
X-WR-CALNAME:マネジメント実践講座 〜組織の学習と成長を
 支える力を磨く〜
X-WR-TIMEZONE:Asia/Tokyo
BEGIN:VTIMEZONE
TZID:Asia/Tokyo
BEGIN:STANDARD
DTSTART:19700101T000000
TZOFFSETFROM:+0900
TZOFFSETTO:+0900
TZNAME:JST
END:STANDARD
END:VTIMEZONE
BEGIN:VEVENT
UID:988839@techplay.jp
SUMMARY:マネジメント実践講座 〜組織の学習と成長を支え
 る力を磨く〜
DTSTART;TZID=Asia/Tokyo:20251217T190000
DTEND;TZID=Asia/Tokyo:20251217T200000
DTSTAMP:20260421T065901Z
CREATED:20251111T002340Z
DESCRIPTION:イベント詳細はこちら\nhttps://techplay.jp/event/98883
 9?utm_medium=referral&utm_source=ics&utm_campaign=ics\n\nマネジメン
 ト実践講座 〜組織の学習と成長を支える力を磨く〜\n
 クリーク･アンド･リバー社（C&R社）は、2025年12月17
 日（水）に「マネジメント」をテーマとしたウェビナ
 ーを開催します。\nこれまで、職場のコミュニケーシ
 ョンに必要な5つの力——「質問力」「自己表現力」「
 傾聴力」「共感力」「承認力」——を通じて、対話の
 質を高め、個人と組織の学習能力を育む方法を探って
 きました。\nこうした力が織りなす「良い循環（Good Cyc
 le）」は、組織の風土を変え、持続的な成長を可能に
 します。\nこのような学習する組織を実現するうえで
 、リーダーやマネージャーの果たす役割は極めて重要
 です。今回は「マネジメント」に焦点を当て、その定
 義・理論的背景・実践における留意点を学びながら、
 組織学習のさらなる深化を目指します。\nマネジメン
 トは、成果だけでなく、関係性や学習を育む営みです
 。理論と実践をつなぎながら、より良いチームづくり
 を共に探求していきましょう！\n▼こんなことを学び
 ます\n\nマネジメントとは何か\nマネジメント理論の流
 れ\nメンバー育成とチームづくり\n\n▼こんな方にオス
 スメ！\n\nチームやプロジェクトをマネジメントしてい
 る方\n組織の成長を支える関わり方を学びたい方\nメン
 バー育成やチームづくりに課題を感じている方\nマネ
 ジメントの理論と実践を体系的に学びたい方\n\nタイム
 スケジュール\n\n\n\n時間\n内容\nspeaker\n\n\n\n\n19：00～19
 ：05\nオープニング\nC&R社\n\n\n19：05～19：50\n講演\n室谷
 　健一郎 氏\n\n\n19：50～20：00\n質疑応答\n\n\n\n20：00～\
 nクロージング\n\n\n\n\n※ 当日予告なく時間配分・内容
 が変更になる可能性がございます。\n登壇者\n室谷　健
 一郎（むろや・けんいちろう）氏\n中小企業診断士\n大
 学卒業後、内資系大手製薬会社に就職。MR（医薬情報
 担当者）や医薬品卸（特約店）担当者、マネージャー
 としてエリア流通関連の責任者も経験し営業現場での
 知見を深めた。現在は、本社流通部門にて自社の流通
 戦略の立案や業界活動などに従事している。\nまた、
 営業担当および管理職としての経験を活かし、「対話
 」を重視したコミュニケーションを通じて組織開発・
 人材育成を支援する中小企業診断士としても活動中。
 中小企業の経営者に寄り添い、共に成長するパートナ
 ーとして伴走支援を行うことを主軸に、コンサルティ
 ングとコーチング（プロコーチ）を通じた経営支援を
 実施している。\n資格等：中小企業診断士、MBA（経営
 学修士）、医療経営士2級、登録販売者、九州情報大学
 中小企業経営研究センター客員研究員など\n\n参加費\n
 無料\n当ウェビナーについて\n\nこちらのサイトからも
 お申込みいただくことができます。\n\n\n▼C&R社で実施
 しているオンライン講座・ウェビナー　一覧ページhttp
 s://www.c-place.ne.jp/
LOCATION:
URL:https://techplay.jp/event/988839?utm_medium=referral&utm_source=ics&utm
 _campaign=ics
END:VEVENT
END:VCALENDAR
