BEGIN:VCALENDAR
VERSION:2.0
PRODID:-//https://techplay.jp//JP
CALSCALE:GREGORIAN
METHOD:PUBLISH
X-WR-CALDESC:【11/28(金)13:00～】成果を出すホームページリ
 ニューアルの“DCC流・勝ちパターン”
X-WR-CALNAME:【11/28(金)13:00～】成果を出すホームページリ
 ニューアルの“DCC流・勝ちパターン”
X-WR-TIMEZONE:Asia/Tokyo
BEGIN:VTIMEZONE
TZID:Asia/Tokyo
BEGIN:STANDARD
DTSTART:19700101T000000
TZOFFSETFROM:+0900
TZOFFSETTO:+0900
TZNAME:JST
END:STANDARD
END:VTIMEZONE
BEGIN:VEVENT
UID:988967@techplay.jp
SUMMARY:【11/28(金)13:00～】成果を出すホームページリニュ
 ーアルの“DCC流・勝ちパターン”
DTSTART;TZID=Asia/Tokyo:20251128T130000
DTEND;TZID=Asia/Tokyo:20251128T134500
DTSTAMP:20260421T150953Z
CREATED:20251113T004034Z
DESCRIPTION:イベント詳細はこちら\nhttps://techplay.jp/event/98896
 7?utm_medium=referral&utm_source=ics&utm_campaign=ics\n\n【11/28(金)13:
 00～】成果を出すホームページリニューアルの“DCC流
 ・勝ちパターン”\n概要\nホームページのリニューアル
 で「デザインは良くなったのに成果が出ない」という
 課題は少なくありません。本セミナーでは、SEO設計を
 軸に戦略立案から運用までを一貫支援してきたDCCが、
 数多くの事例から導き出した“勝ちパターン”を公開
 します。検索順位を落とさずに集客・CVRを高めるため
 の設計思想、制作会社選びの指標、そしてAI時代に対
 応する構造設計のポイントまでを具体的に解説。成果
 を出すリニューアルの本質を明らかにします。\n詳細\n
 サイトリニューアルで本当に成果を出したい企業様へ
 向けて、DCCがこれまで数多くの改善実績から導き出し
 た“成功の方程式”を解説する特別セミナーを開催い
 たします。\n近年、ウェブサイトの役割は「会社案内
 」から「売上・問い合わせにつながる営業資産」へと
 大きく変化しています。しかし、多くの企業が「デザ
 インは良くなったのに問い合わせが増えない」「社内
 で運用できず、結局放置されてしまう」など、リニュ
 ーアル後にギャップを感じてしまうケースが後を絶ち
 ません。本セミナーでは、そうした“よくある失敗”
 を防ぎながら、確実に成果へつなげるための実践的な
 考え方をわかりやすく解説します。\n特に今回は、SEO
 視点での設計手法に加え、内部導線の作り方・ページ
 構成の考え方・公開後の運用体制の整え方など、普段
 あまり語られづらい“成果を出し続けるための裏側の
 プロセス”も丁寧にお伝えします。また、AI検索（LLMO/
 AIO）の台頭により、サイトの設計思想にも大きな変化
 が求められている今、これからの検索環境に対応する
 ための最新ポイントについても触れていきます。\n「
 そろそろ自社サイトを改修したい」「リニューアルし
 たが成果が出ていない」「予算に対してどこまで効果
 が出せるのか不安」といった課題をお持ちの方には、
 必ずお役に立てる内容です。ぜひお気軽にご参加くだ
 さい。\nタイムスケジュール\n\n\n\n時間\n内容\n\n\n\n\n13:
 00〜13:40\n成果を出すホームページリニューアルの“DCC
 流・勝ちパターン”\n\n\n13:40〜13:45\nアンケート回答\n\n
 \n\n※ 当日予告なく時間配分・内容が変更になる可能
 性がございます。\n登壇者\n名取 雄介株式会社ディテ
 イルクラウドクリエイティブ取締役副社長\n参加対象\n
 \nSEO内部対策を今後考えていらっしゃる方々\n\n参加費\
 n無料\nハッシュタグ\n#techplayjp\n注意事項\n\nリクルーテ
 ィング、勧誘など、採用目的でのイベント参加はお断
 りしております。\nキャンセル待ち・補欠・落選の方
 はご参加いただくことが出来ませんのでご了承くださ
 い。\n欠席される場合は、お手数ですが速やかにキャ
 ンセル処理をお願い致します。\n無断キャンセルや欠
 席が続く場合、次回以降の参加をお断りさせていただ
 く場合がございます。\n
LOCATION:
URL:https://techplay.jp/event/988967?utm_medium=referral&utm_source=ics&utm
 _campaign=ics
END:VEVENT
END:VCALENDAR
