BEGIN:VCALENDAR
VERSION:2.0
PRODID:-//https://techplay.jp//JP
CALSCALE:GREGORIAN
METHOD:PUBLISH
X-WR-CALDESC:「表計算」「データ集計・分析」「視覚化」 
 ３つに分けて体系を理解するExcelシリーズ データ集計
 ・分析編 Vol.5【パワーピボット入門】
X-WR-CALNAME:「表計算」「データ集計・分析」「視覚化」 
 ３つに分けて体系を理解するExcelシリーズ データ集計
 ・分析編 Vol.5【パワーピボット入門】
X-WR-TIMEZONE:Asia/Tokyo
BEGIN:VTIMEZONE
TZID:Asia/Tokyo
BEGIN:STANDARD
DTSTART:19700101T000000
TZOFFSETFROM:+0900
TZOFFSETTO:+0900
TZNAME:JST
END:STANDARD
END:VTIMEZONE
BEGIN:VEVENT
UID:988968@techplay.jp
SUMMARY:「表計算」「データ集計・分析」「視覚化」 ３つ
 に分けて体系を理解するExcelシリーズ データ集計・分
 析編 Vol.5【パワーピボット入門】
DTSTART;TZID=Asia/Tokyo:20251219T190000
DTEND;TZID=Asia/Tokyo:20251219T200000
DTSTAMP:20260420T155817Z
CREATED:20251113T004203Z
DESCRIPTION:イベント詳細はこちら\nhttps://techplay.jp/event/98896
 8?utm_medium=referral&utm_source=ics&utm_campaign=ics\n\n「表計算」
 「データ集計・分析」「視覚化」 ３つに分けて体系を
 理解するExcelシリーズ データ集計・分析編 Vol.5【パワ
 ーピボット入門】\nクリーク･アンド･リバー社（C&R
 社）は、2025年12月19日（金）に、Excelの機能を「表計算
 ソフト」から「データ集計ツール」として再認識し、
 より効果的に活用するための知識を身に着けていただ
 ける「３つに分けて体系を理解するExcelシリーズ」の
 データ集計・分析編 Vol.5を開催します。\nこのシリー
 ズでは、「表計算」「データ集計・分析」「視覚化」
 に分けて、ゆっくりじっくりとしたペースで、詳細な
 機能まで紹介していく予定です。\nまず、表計算セッ
 ションでは、基本的な表計算の操作方法から始まり、
 関数や数式の活用方法、そしてデータ入力と管理の効
 率化について学びます。次に、データ集計・分析セッ
 ションでは、データ集計の基本であるテーブル機能か
 ら、ピボットテーブルによる分析、パワークエリとパ
 ワーピボットでの集計をご紹介します。最後に、視覚
 化セッションでは、グラフやチャートの作成方法、デ
 ータの視覚的表現方法、ピボットグラフやスパークラ
 インなどについて詳しく解説します。\n今回実施する
 「データ集計・分析編　５回目」のテーマは、「パワ
 ーピボット入門」についてです。\n※Vol.5/6/7/10 →Mac不
 可です。Windowsも2019以降でないと操作不可です。\n▼こ
 んなことを学びます\n\nパワーピボットとは？標準ピボ
 ットとの違い\nデータモデルにテーブルを読み込む\n複
 数テーブルをリレーションで結びつける\n\n▼こんな方
 にオススメ！\n\n基本的な操作を既に習得しており、さ
 らにスキルを向上させたい方\nExcelの機能を活用して、
 日常業務の効率化を図りたい方\n表計算ソフトとして
 だけでなく、データ集計ツールとしてのExcelの可能性
 を探りたい方\n\n▼３つに分けて体系を理解するExcelシ
 リーズ データ集計・分析編　カリキュラム\n※月1～2
 回くらいのペースで実施していきます。Vol.1 データ集
 計の考え方とテーブル機能Vol.2 小計機能とアウトライ
 ン表示Vol.3 ピボットテーブル入門Vol.4 ピボットテーブ
 ル活用Vol.5 パワーピボット入門Vol.6 パワーピボット活
 用①（DAX基礎）Vol.7 パワーピボット活用②（時系列分
 析）Vol.8 Power Query入門Vol.9 Power Query活用Vol.10 Power Queryと
 パワーピボットの連携\n※講義は　Windows、office365　で
 実施します。※Vol.5/6/7/10 →Mac不可です。Windowsも2019以
 降でないと操作不可です。※Vol.3/4ピボットテーブルや
  Vol.8/9/10パワークエリに関する内容についてはMacだと
 操作性がかなり異なる場合があります。\nタイムスケ
 ジュール\n\n\n\n時間\n内容\nspeaker\n\n\n\n\n19：00～19：05\n
 オープニング\nC&R社\n\n\n19：05～19：50\n講演\n古澤登志
 美 氏\n\n\n19：50～20：00\n質疑応答\n\n\n\n20：00～\nクロ
 ージング\n\n\n\n\n※ 当日予告なく時間配分・内容が変
 更になる可能性がございます。\n登壇者\n古澤　登志美
 （ふるさわ・としみ）氏\n株式会社ワンズ・ワン代表
 取締役中小企業診断士／ＩＴコーディネータ\n2001年、
 パソコン出張サポート業を起ち上げ、同時にＩＴ系セ
 ミナー講師としても活動を開始。Excelを始めとしたOffic
 eアプリの他、ホームページ作成や画像処理など、初心
 者にもわかりやすく伝えることを得意とする。現在は
 ＩＴ活用支援を中心に、中小企業向の生産性向上に向
 けたコンサルティングを行っている。2017年、中小企業
 診断士登録。2021年ＩＴコーディネータ認定。\n「Excel
 パワークエリではじめるデータ集計の自動化」（イン
 プレス刊）著者。\n「Excelパワーピボットで極める一歩
 先の集計・分析」（インプレス刊）著者。\n「できるDA
 X関数 Power BI＆Excelパワーピボット対応」（インプレス
 刊）著者。\n\n「Excelパワークエリではじめるデータ集
 計の自動化」（インプレス刊）「Excelパワーピボット
 で極める一歩先の集計・分析」（インプレス刊）「で
 きるDAX関数 Power BI＆Excelパワーピボット対応」（イン
 プレス刊）\n参加費\n無料\n当ウェビナーについて\n\nこ
 ちらのサイトからもお申込みいただくことができます
 。\n\n\n▼C&R社で実施しているオンライン講座・ウェビ
 ナー　一覧ページhttps://www.c-place.ne.jp/
LOCATION:
URL:https://techplay.jp/event/988968?utm_medium=referral&utm_source=ics&utm
 _campaign=ics
END:VEVENT
END:VCALENDAR
