BEGIN:VCALENDAR
VERSION:2.0
PRODID:-//https://techplay.jp//JP
CALSCALE:GREGORIAN
METHOD:PUBLISH
X-WR-CALDESC:【無料オンラインセミナー】n8nとの実践連携
 デモ解説！Difyで始める自社専用AIエージェント開発
X-WR-CALNAME:【無料オンラインセミナー】n8nとの実践連携
 デモ解説！Difyで始める自社専用AIエージェント開発
X-WR-TIMEZONE:Asia/Tokyo
BEGIN:VTIMEZONE
TZID:Asia/Tokyo
BEGIN:STANDARD
DTSTART:19700101T000000
TZOFFSETFROM:+0900
TZOFFSETTO:+0900
TZNAME:JST
END:STANDARD
END:VTIMEZONE
BEGIN:VEVENT
UID:989001@techplay.jp
SUMMARY:【無料オンラインセミナー】n8nとの実践連携デモ
 解説！Difyで始める自社専用AIエージェント開発
DTSTART;TZID=Asia/Tokyo:20251126T120000
DTEND;TZID=Asia/Tokyo:20251126T130000
DTSTAMP:20260420T080338Z
CREATED:20251113T065541Z
DESCRIPTION:イベント詳細はこちら\nhttps://techplay.jp/event/98900
 1?utm_medium=referral&utm_source=ics&utm_campaign=ics\n\n概要\nAIの進
 化・発展に伴い、ビジネスシーンにおけるAIツールの
 活用も日々増加しています。中でも、自律的にタスク
 を実行できる「AIエージェント」が特に注目を集めて
 います。\nそこで、ノーコードでAIエージェントを構築
 できるプラットフォーム「Dify」を使って、自社業務に
 合わせたAIエージェントをノーコードで実践的に開発
 を行うウェビナーを開催いたします。今回はDifyとn8nの
 比較や、n8nと連携した実演デモの解説を追加し、AIエ
 ージェントの最新動向や、開発の流れを学べる内容で
 す。\n生成AIを活用したSaaS製品開発やシステム開発を
 行うバイタリフィによる、実演デモを通して実際の開
 発の流れを見ることができ、その場で質問もできる無
 料オンラインセミナー（ウェビナー）となっておりま
 す。 ご興味のある方、ぜひ奮ってご参加ください。\n
 こんな方におすすめです\n・AIエージェントについて知
 りたい方・Difyについて知りたい、利用を検討されてい
 る方・活用事例を具体的に知りたい、利用シーンが見
 たい方・Difyとn8nの比較や、n8nとの連携事例にご興味を
 お持ちの方\n講義内容\n1．【2025年11月】AIエージェント
 の最新動向2．Difyとn8nの比較解説3．実演デモ：Difyを使
 いAIエージェントを実際に作成！n8nとの連携デモもご
 紹介！\n登壇者\n株式会社バイタリフィ　営業統括部リ
 ーダー　野見山 敬介大学卒業後、教育系企業に入社、
 家庭教師の営業から自治体と連携した地域事業や学童
 事業など教育に関わる幅広い課題解決に尽力。2022年に
 バイタリフィへ入社後は受託開発、オフショア開発を
 中心に担当し、最近ではAI技術を活用したサービスの
 導入支援や顧客の業務効率化、事業推進に取り組んで
 いる。AIと受託開発の経験を活かし、クライアントの
 業務に即した提案とサポートを行っている。\n開催概
 要\nタイトル　：n8nとの実践連携デモ解説！Difyで始め
 る自社専用AIエージェント開発日程　　　：2025年11月26
 日（水）12:00 ～13:00会場　　　：オンライン開催（Zoom
 ）費用　　　：無料主催　　　：株式会社バイタリフ
 ィ申込ページ：https://ma.vitalify.jp/form/webinar-20251126定員
 　　　：100名※当日はzoomを使用いたします、セミナー
 開始までに閲覧できるようご準備ください。※視聴用U
 RLは開催日が近づきましたらご連絡する形を予定して
 います。※同業種・個人のお客様からのご応募はお断
 りする場合がございますのでご了承ください。\n■会
 社概要\n商号　　　：株式会社バイタリフィ（https://vit
 alify.jp/）代表者　　：代表取締役　板羽晃司所在地　
 　：東京都渋谷区恵比寿西1-9-6 アストゥルビル8F設立
 年月　：2005年9月サービス①：生成AIチャットボット「
 FirstContact」（https://first-contact.jp/https://first-contact.jp/）
 　　　　　　サービス②：AIエージェントDRIVE（https://v
 italify.jp/lp/services/aiagentdrive/）　　　　　　\n■本件の
 問い合わせ先\n株式会社バイタリフィ　担当：島貫お
 問い合せ先：03-5428-6346https://vitalify.jp/contact/
LOCATION:
URL:https://techplay.jp/event/989001?utm_medium=referral&utm_source=ics&utm
 _campaign=ics
END:VEVENT
END:VCALENDAR
