BEGIN:VCALENDAR
VERSION:2.0
PRODID:-//https://techplay.jp//JP
CALSCALE:GREGORIAN
METHOD:PUBLISH
X-WR-CALDESC:データ共創会議 2026 ~Privacy Tech\, Confidential Data a
 nd AI ~【オンライン参加申込ページ】
X-WR-CALNAME:データ共創会議 2026 ~Privacy Tech\, Confidential Data a
 nd AI ~【オンライン参加申込ページ】
X-WR-TIMEZONE:Asia/Tokyo
BEGIN:VTIMEZONE
TZID:Asia/Tokyo
BEGIN:STANDARD
DTSTART:19700101T000000
TZOFFSETFROM:+0900
TZOFFSETTO:+0900
TZNAME:JST
END:STANDARD
END:VTIMEZONE
BEGIN:VEVENT
UID:989198@techplay.jp
SUMMARY:データ共創会議 2026 ~Privacy Tech\, Confidential Data and AI
  ~【オンライン参加申込ページ】
DTSTART;TZID=Asia/Tokyo:20260120T130000
DTEND;TZID=Asia/Tokyo:20260120T180000
DTSTAMP:20260421T052550Z
CREATED:20251118T080715Z
DESCRIPTION:イベント詳細はこちら\nhttps://techplay.jp/event/98919
 8?utm_medium=referral&utm_source=ics&utm_campaign=ics\n\n※こちらの
 イベントページは、オンライン参加申込専用となって
 おります。オフライン・東京参加ご希望の方は、Peatix
 からエントリーをしてください。オフライン・東京参
 加申込ページ：https://privacytech-assoc2026.peatix.com※外部サ
 イトへ飛びます\nイベント概要\nAI活用が急務となる中
 、機密データを守りながら、いかにイノベーションを
 最大限に解き放つのか—。\n多くの企業や組織がAI活用
 を推進しているなか、AIに入力するデータの漏洩など
 のリスクが、AI活用の大きな壁になっています。特に
 日本は、他国と比較してリスクを嫌うことからAI活用
 が遅れ始めているとも言われています。ここには、「
 データを活用したい」強い期待と、「機密データを守
 らねばならない」責任という、深刻なジレンマがあり
 ます。このジレンマの解消は、企業や業界の中だけの
 議論でなく、産官学連携の共創によって乗り越えるべ
 き重要課題です。技術の進化だけでなく、法制度の整
 備、技術の正しい運用・ガバナンスなど、様々な分野
 の知見を結集することで、初めて実現できると考えま
 す。\n「データ共創会議 2026」は、AI時代に日本が、政
 府の掲げる「世界で最もAIを開発・活用しやすい国」
 となるための未来を議論する共創の場を目指します。\
 n本カンファレンスでは、以下の4つのテーマで議論し
 ます。・国産LLMは実現するのか？（仮）・データ関連
 法の現在地と課題から見る、「データ共創社会」のあ
 り方・日本版医療データベース（EHDS）は実現するのか
 ？データ共創が医療の現場を変える未来・AI活用にお
 ける国産インフラの重要性\n「データ共創会議2026」を
 通じて最先端となるデータ共創の議論を行い、世界で
 も通用する事例を共に確立しましょう。\nこんな方に
 おすすめ\n\nAI時代における最先端の技術や法制度の議
 論に関心がある方\n国産LLMや生成AI技術の可能性に関心
 をもち、セキュアな技術やガバナンスについて専門的
 な知見を交換したい方\nデータ関連法の現状と課題、
 および法制度の整備に関わる政策提言や議論を深めた
 い方\n\n開催概要\n日時：2026年1月20日（火）13:00-18:00開
 催方法：オンラインライブ配信とオフライン現地のハ
 イブリッド開催 ※アーカイブ配信はございませんオン
 ライン配信方法：Zoomウェビナー参加料：無料 ※オフ
 ライン・懇親会参加は有料となります主催：プライバ
 シーテック協会イベントページ：https://privacytech-assoc.or
 g/conference2026\nタイムスケジュール\nオープニングメッ
 セージ\n\nオープニングセッション\n\n本カンファレン
 スの幕開けを飾るオープニングセッション。プライバ
 シーテック協会 正会員のAcompany、EAGLYS、LayerXが登壇し
 、安全なデータ利活用を支える「プライバシーテック
 」や、カンファレンステーマである「データ共創」の
 実現に不可欠な要素をディスカッションします。本イ
 ベントに懸ける意気込みと共に、実りある1日の議論の
 火蓋を切ります。\n\nセッション①：国産AIは実現する
 のか？\n\nこのセッションでは、デジタル庁、Preferred Ne
 tworks、AI専門弁護士が登壇。デジタル庁『源内』でのPL
 aMo翻訳採用を受け、現代の国家戦略やビジネス環境に
 おいて重要な役割を果たす国産AIの真の姿を、複数の
 視点から議論します。\n\nセッション②：データ関連法
 の現在地と課題から見る、「データ共創社会」のあり
 方\n\nこのセッションでは、AI時代のデータ利活用にお
 いてトピックとなっている個人情報保護法の3年ごと見
 直しや、関連法案で提起されている論点を徹底討論。
 行政、法務、実務の専門家が集結し、現行法の課題か
 ら、プライバシーテックを含めた技術の活用などを議
 論します。法制度の現在地を整理し、「データ共創社
 会」の未来を、異なる立場から議論します。\n\nセッシ
 ョン③：日本版医療データベース（EHDS）は実現するの
 か？データ共創が医療の現場を変える未来\n\nこのセッ
 ションでは、医療健康データを安全に活用する欧州の
 法制度「EHDS」を背景に、日本が目指すべき医療DXの姿
 を議論します。医療・製薬・ITの専門家が集結し、リ
 アルワールドデータ活用の理想と現実、プライバシー
 テックを含めた技術による安全なデータ活用の展望な
 ど、日本版EHDSの可能性と課題を多角的な視点から議論
 します。\n\nAI活用における国産インフラの重要性\n\nAI
 時代のデータ主権確保には、法や運用のみならず、チ
 ップからインフラ、国家戦略まで全レイヤーを統合し
 た「アーキテクチャによる防御」が不可欠です。本セ
 ッションでは、さくらインターネット、富士通MONAKA、
 デジタル庁WG座長の3名を迎え、経済安全保障を念頭に
 おいた「国産インフラ」のあり方と戦略を深く議論し
 ます。\n\n※タイムラインは変更となる場合がございま
 す※懇親会参加ご希望の方は、オフライン・東京参加
 ページより「懇親会」チケットをご購入ください。オ
 フライン・東京参加申込ページ：https://privacytech-assoc202
 6.peatix.com\n注意事項\n\nリクルーティング、勧誘など、
 採用目的でのイベント参加はお断りしております。\n
 キャンセル待ち・補欠・落選の方はご参加いただくこ
 とが出来ませんのでご了承ください。\n欠席される場
 合は、お手数ですが速やかにキャンセル処理をお願い
 致します。\n無断キャンセルや欠席が続く場合、次回
 以降の参加をお断りさせていただく場合がございます
 。\n
LOCATION:
URL:https://techplay.jp/event/989198?utm_medium=referral&utm_source=ics&utm
 _campaign=ics
END:VEVENT
END:VCALENDAR
