BEGIN:VCALENDAR
VERSION:2.0
PRODID:-//https://techplay.jp//JP
CALSCALE:GREGORIAN
METHOD:PUBLISH
X-WR-CALDESC:【12月17日(水)】G-genエンジニア中途採用オンラ
 イン説明会〜トップエンジニアと働くということ。 G-g
 enの技術レベルと切磋琢磨できる環境のリアル〜
X-WR-CALNAME:【12月17日(水)】G-genエンジニア中途採用オンラ
 イン説明会〜トップエンジニアと働くということ。 G-g
 enの技術レベルと切磋琢磨できる環境のリアル〜
X-WR-TIMEZONE:Asia/Tokyo
BEGIN:VTIMEZONE
TZID:Asia/Tokyo
BEGIN:STANDARD
DTSTART:19700101T000000
TZOFFSETFROM:+0900
TZOFFSETTO:+0900
TZNAME:JST
END:STANDARD
END:VTIMEZONE
BEGIN:VEVENT
UID:989257@techplay.jp
SUMMARY:【12月17日(水)】G-genエンジニア中途採用オンライ
 ン説明会〜トップエンジニアと働くということ。 G-gen
 の技術レベルと切磋琢磨できる環境のリアル〜
DTSTART;TZID=Asia/Tokyo:20251217T190000
DTEND;TZID=Asia/Tokyo:20251217T200000
DTSTAMP:20260424T002534Z
CREATED:20251120T022239Z
DESCRIPTION:イベント詳細はこちら\nhttps://techplay.jp/event/98925
 7?utm_medium=referral&utm_source=ics&utm_campaign=ics\n\nG-gen のエン
 ジニア中途採用の説明会です。\n現場エンジニアが手
 がけるリアルなプロジェクト事例（生成AI、データ基
 盤、インフラ）を通じて、入社後の業務を具体的にイ
 メージできます。\nこの会では、G-gen について以下の
 ようなことを知ることができます。\n\nどのようなエン
 ジニアが働いているか\nどのような業務をしているか\n
 G-gen で描けるキャリアパスや、エンジニアとして市場
 価値を高めるための環境\nG-gen の強みや、クラウド市
 場全体における将来性\n\n日時\n2025年12月17日 (水) 19:00
 〜20:00\n会場\nGoogle Meet\n対象\n\nGoogle Cloud を使うキャリ
 アに興味がある IT エンジニアの方\nG-gen Tech Blog を活用
 して資格取得やクラウド学習に励んでいる方\nクラウ
 ドネイティブな技術環境でスキルアップしたい方\nSIer
 、SES、自社開発など、現在の環境からキャリアチェン
 ジを検討している方\n変化にあふれ、チャレンジしや
 すい環境で成長したい方\n技術情報の発信ができる環
 境で働いてみたい方\n\nアジェンダ\n\n\n\nアジェンダ\n
 概要\n\n\n\n\nオープニング・ご挨拶\n本日の流れと、登
 壇者の紹介です。\n\n\n会社紹介\nCTO が、会社概要や G-g
 en の働き方とカルチャーについてご紹介します。G-gen 
 のエンジニアにとって重要な価値観についても、簡単
 に触れます。\n\n\nキャリアと募集中のポジションにつ
 いて\nCTO が、G-gen のエンジニアが歩むキャリアについ
 てご紹介します。また、募集中のポジション（職種）
 についてもご説明します。\n\n\nメインコンテンツ : エ
 ンジニアへのインタビュー\n人事担当者が、現場で実
 際に活躍するエンジニアにインタビューします。最近
 担当している案件の概要、1日の流れ、使っている技術
 、チームの様子などについてお話しします。\n\n\n質疑
 応答 (Q&A)\n皆様から当日に寄せられた質問に対して、CT
 O、エンジニア、人事担当者が直接ご回答します。\n\n\n
 選考プロセスのご案内\n選考の具体的な流れや、カジ
 ュアル面談など今後の選考プロセスについてご案内し
 ます。\n\n\nクロージング\nご参加のお礼、終了後アン
 ケートのご依頼です。\n\n\n\n主催\n株式会社G-gen
LOCATION:
URL:https://techplay.jp/event/989257?utm_medium=referral&utm_source=ics&utm
 _campaign=ics
END:VEVENT
END:VCALENDAR
