BEGIN:VCALENDAR
VERSION:2.0
PRODID:-//https://techplay.jp//JP
CALSCALE:GREGORIAN
METHOD:PUBLISH
X-WR-CALDESC:Microsoft×Intel×TD SYNNEXが語る！PCは、ここまで来
 た。Surface と Copilot+ PC が導く、ちょっと未来の働き方
 。 ～Powered by Copilot CLUB～
X-WR-CALNAME:Microsoft×Intel×TD SYNNEXが語る！PCは、ここまで来
 た。Surface と Copilot+ PC が導く、ちょっと未来の働き方
 。 ～Powered by Copilot CLUB～
X-WR-TIMEZONE:Asia/Tokyo
BEGIN:VTIMEZONE
TZID:Asia/Tokyo
BEGIN:STANDARD
DTSTART:19700101T000000
TZOFFSETFROM:+0900
TZOFFSETTO:+0900
TZNAME:JST
END:STANDARD
END:VTIMEZONE
BEGIN:VEVENT
UID:989341@techplay.jp
SUMMARY:Microsoft×Intel×TD SYNNEXが語る！PCは、ここまで来た
 。Surface と Copilot+ PC が導く、ちょっと未来の働き方。 
 ～Powered by Copilot CLUB～
DTSTART;TZID=Asia/Tokyo:20251217T140000
DTEND;TZID=Asia/Tokyo:20251217T160000
DTSTAMP:20260421T195202Z
CREATED:20251121T071242Z
DESCRIPTION:イベント詳細はこちら\nhttps://techplay.jp/event/98934
 1?utm_medium=referral&utm_source=ics&utm_campaign=ics\n\nMicrosoft×Intel
 ×TD SYNNEXが語る！PCは、ここまで来た。Surface と Copilot+ 
 PC が導く、ちょっと未来の働き方。 ～Powered by Copilot CL
 UB～\n概要\n日本マイクロソフト西脇氏によるスペシャ
 ルセッションと日本マイクロソフト×Intel×TD SYNNEXによ
 るパネルディスカッション、Intelによるセッションで
 、Surface Copilot+ PC について語りつくします。セッショ
 ン終了後には、Surface Copilot+ PC を体感いただける体験
 会を開催。これによりセッションで Copilot+ PC に関する
 知識を得ていただき、体験会で操作していただくこと
 で、実感していただくことができる、貴重な時間を過
 ごしていただけます。\nみなさまのご参加をお待ちし
 ております。\nタイムスケジュール\n\n\n\n時間\n内容\n\n
 \n\n\n14:00～14:30\nSurface と Copilot+ PC が導く、ちょっと未
 来の働き方。日本マイクロソフト株式会社　業務執行
 役員/エバンジェリスト　西脇 資哲氏\n\n\n14:30～15:
 00\nパネルディスカッション日本マイクロソフト株式会
 社　業務執行役員/エバンジェリスト　西脇 資哲
 氏インテル株式会社　福島 哲雄氏TD SYNNEX株式会社　猪
 野 拓矢\n\n\n15:00～15:20\nIntune と Windows AutoPilot で実現す
 るゼロタッチ展開～モダンマネジメントによるデバイ
 スライフサイクルの革新～株式会社ピーエスシー　石
 塚 崚太氏\n\n\n15:20～16:00\nSurface Copilot＋ PC 体験会。Copil
 ot＋ PC を体感しよう！\n\n\n\n参加費\n無料（事前登録制
 となります）\n主催\nTD SYNNEX株式会社\n共催・協賛\n日
 本マイクロソフト株式会社、インテル株式会社
LOCATION:Microsoft Base Nishi-Umeda（JPタワー大阪（KITTE大阪））
  大阪府大阪市北区梅田3丁目2番2号　JPタワー大阪17階
 （PSC西日本支社内）
URL:https://techplay.jp/event/989341?utm_medium=referral&utm_source=ics&utm
 _campaign=ics
END:VEVENT
END:VCALENDAR
