BEGIN:VCALENDAR
VERSION:2.0
PRODID:-//https://techplay.jp//JP
CALSCALE:GREGORIAN
METHOD:PUBLISH
X-WR-CALDESC:デモンストレーションを見ながら学ぶサイト
 制作の基礎（１）〜headerとヒーローイメージを作成し
 てみる〜
X-WR-CALNAME:デモンストレーションを見ながら学ぶサイト
 制作の基礎（１）〜headerとヒーローイメージを作成し
 てみる〜
X-WR-TIMEZONE:Asia/Tokyo
BEGIN:VTIMEZONE
TZID:Asia/Tokyo
BEGIN:STANDARD
DTSTART:19700101T000000
TZOFFSETFROM:+0900
TZOFFSETTO:+0900
TZNAME:JST
END:STANDARD
END:VTIMEZONE
BEGIN:VEVENT
UID:989435@techplay.jp
SUMMARY:デモンストレーションを見ながら学ぶサイト制作
 の基礎（１）〜headerとヒーローイメージを作成してみ
 る〜
DTSTART;TZID=Asia/Tokyo:20251217T190000
DTEND;TZID=Asia/Tokyo:20251217T200000
DTSTAMP:20260420T005500Z
CREATED:20251125T071327Z
DESCRIPTION:イベント詳細はこちら\nhttps://techplay.jp/event/98943
 5?utm_medium=referral&utm_source=ics&utm_campaign=ics\n\nデモンスト
 レーションを見ながら学ぶサイト制作の基礎（１）〜h
 eaderとヒーローイメージを作成してみる〜\n株式会社ク
 リーク･アンド･リバー社（C&R社）は、2025年12月17日
 （水）に、Webサイト制作の基本構造を理解しながらサ
 イト制作を学ぶウェビナーを開催いたします。\n「デ
 モンストレーションを見ながら学ぶサイト制作の基礎
 」は、1つのWebサイトを4回にわたり、headerから順に作
 成しながら構造や作り方を紐解いていくシリーズです
 。\n1回目では、サイトの顔ともいえるヘッダーとヒー
 ローイメージにフォーカス！HTML/CSSを使って、デザイ
 ンとコーディングのつながりをライブで学びます。\n\n
 ▼対象レベル\n\n基本的なhtmlやCSSを理解している方\njQu
 eryの使い方を理解している方\n\n▼こんなことをお話し
 ます\n\nヘッダーの役割と基本構造\nヒーローイメージ
 のデザインポイント\nHTML/CSSでの実装方法をデモンスト
 レーションで解説\n実務で役立つレイアウトの考え方\n
 \n▼こんな方にオススメ！\n\nHTML/CSSの基礎を理解して
 いて、より実践的なサイト制作に挑戦したい方\nスク
 ールや専門学校でWeb制作を学んでいる方\nデザインと
 コーディングの関係を深く理解したい方\nポートフォ
 リオ制作や就職活動に向けてスキルを強化したい方\n\n
 タイムスケジュール\n\n\n\n時間\n内容\nspeaker\n\n\n\n\n19：
 00～19：05\nオープニング\nC&R社\n\n\n19：05～19：50\n講演\n
 塚田 大祐 氏\n\n\n19：50～20：00\n質疑応答\n\n\n\n20：00～
 \nクロージング\n\n\n\n\n※ 当日予告なく時間配分・内容
 が変更になる可能性がございます。\n登壇者\n塚田 大
 祐（つかだ・だいすけ）氏\n「祐」-たすく-　代表取締
 役Web・Officeインストラクター／Webディレクター\n東放
 学園　放送広告科卒業\n海外向け広告代理店でDTPによ
 る印刷物（カタログ・チラシ等）の制作に従事。\nそ
 の後、専門学校の担任教員を経て、独立。雑誌レイア
 ウトやチラシ・カタログ・Webサイトの制作及び大学・
 専門学校等の非常勤講師・企業のデザイン研修・Office
 研修をメインに活動。\n大学生の就職活動支援の講座
 運営スタッフや政治家養成のための大学院設立の運営
 スタッフとしてサイト作成などに携わる。\nMac検定委
 員会の検定準備委員会役員及び検定問題の基礎構築と
 問題作成。「マックでマンガ」（共著）での執筆。\n\n
 参加費\n無料\n当ウェビナーについて\n\nこちらのサイ
 トからもお申込みいただくことができます。\n\n\n▼C&R
 社で実施しているオンライン講座・ウェビナー　一覧
 ページhttps://www.c-place.ne.jp/
LOCATION:
URL:https://techplay.jp/event/989435?utm_medium=referral&utm_source=ics&utm
 _campaign=ics
END:VEVENT
END:VCALENDAR
