BEGIN:VCALENDAR
VERSION:2.0
PRODID:-//https://techplay.jp//JP
CALSCALE:GREGORIAN
METHOD:PUBLISH
X-WR-CALDESC:Accenture Technology 12/16(火) セキュリティグループ
  オンライン中途採用説明会&社員のキャリア紹介
X-WR-CALNAME:Accenture Technology 12/16(火) セキュリティグループ
  オンライン中途採用説明会&社員のキャリア紹介
X-WR-TIMEZONE:Asia/Tokyo
BEGIN:VTIMEZONE
TZID:Asia/Tokyo
BEGIN:STANDARD
DTSTART:19700101T000000
TZOFFSETFROM:+0900
TZOFFSETTO:+0900
TZNAME:JST
END:STANDARD
END:VTIMEZONE
BEGIN:VEVENT
UID:989584@techplay.jp
SUMMARY:Accenture Technology 12/16(火) セキュリティグループ オ
 ンライン中途採用説明会&社員のキャリア紹介
DTSTART;TZID=Asia/Tokyo:20251216T190000
DTEND;TZID=Asia/Tokyo:20251216T203000
DTSTAMP:20260423T055514Z
CREATED:20251128T071834Z
DESCRIPTION:イベント詳細はこちら\nhttps://techplay.jp/event/98958
 4?utm_medium=referral&utm_source=ics&utm_campaign=ics\n\n概要\nセキ
 ュリティコンサルタント - テクノロジー コンサルティ
 ング本部テクノロジーコンサルティング本部セキュリ
 ティグループにてオンライン中途採用説明会&社員のキ
 ャリア紹介を開催いたします。「セキュリティコンサ
 ルタント・エンジニアに興味があるけれど、どのよう
 なプロジェクトがあって、どのように仕事を進めてい
 るのか」「どんな人が向いているの？今までの経験が
 活かせるのか分からないので現役社員と話がしてみた
 い」このような方を対象に、実際の仕事やプロジェク
 トについて現場社員がお話させていただきます。\n参
 加は応募意思不問ですので、是非お気軽にご参加下さ
 い！※セキュリティ部門責任者も登壇いたします。\n
 ＜申込期限 12/15(月) 正午まで>\n定員・タイムスケジュ
 ール\n◆日時：2025年12月16日(火)19:00-20:30\n◆開催方法：
 オンライン\n◆スケジュール：19:00-19:20　会社＆セキュ
 リティ部門の概要説明19:20-19:50　プロジェクトの事例
 紹介/質疑応答19:50-20:30　活躍社員によるキャリアジャ
 ーニー紹介/質疑応答※予告なく変更になる可能性がご
 ざいます。予めご了承ください。\n参加対象\n◆対象と
 なる方：・社会人の方でセキュリティコンサルタント
 、エンジニアポジションにご興味のある方・アクセン
 チュアでの勤務に興味があり、具体的な業務内容や働
 き方について知りたい方※勤務地：東京/大阪 セキュ
 リティグループでは若手ポテンシャル層の採用も積極
 的に行っております！経験は浅いけど、、と悩まれて
 いる方もぜひご参加下さい。\n◆応募意思有無：不問
 （イベント参加ののち、応募をご検討でも問題ござい
 ません）\n場所\nオンライン※詳細は指定のURLよりお申
 込みいただいた方に追ってご連絡いたします。（申し
 込みのタイミングにより前日のご案内となります）Team
 sへ参加ができないなどお問い合わせが多数発生してお
 ります。予めアプリをダウンロードいただくかブラウ
 ザや端末（スマートフォン⇔PC）を切り替えてお試し
 いただけますようお願い申し上げます。\n参加費\n無料
 \n応募方法\n下記URLよりお申し込みください。下記より
 お申込みいただけない場合は、案内送付いたしかねま
 すのでご了承くださいませ。Accenture 12/16（火）セキュ
 リティグループ オンライン中途採用説明会&社員のキ
 ャリア紹介（テクノロジー コンサルティング本部）\n
 ◆お申し込み期限：2025年12月15日(月)正午まで　※履歴
 書/職務経歴書の添付不要
LOCATION:
URL:https://techplay.jp/event/989584?utm_medium=referral&utm_source=ics&utm
 _campaign=ics
END:VEVENT
END:VCALENDAR
