BEGIN:VCALENDAR
VERSION:2.0
PRODID:-//https://techplay.jp//JP
CALSCALE:GREGORIAN
METHOD:PUBLISH
X-WR-CALDESC:【フルスタック Next.js 入門】初心者向けハン
 ズオン勉強会(Drizzle ORM とは？)
X-WR-CALNAME:【フルスタック Next.js 入門】初心者向けハン
 ズオン勉強会(Drizzle ORM とは？)
X-WR-TIMEZONE:Asia/Tokyo
BEGIN:VTIMEZONE
TZID:Asia/Tokyo
BEGIN:STANDARD
DTSTART:19700101T000000
TZOFFSETFROM:+0900
TZOFFSETTO:+0900
TZNAME:JST
END:STANDARD
END:VTIMEZONE
BEGIN:VEVENT
UID:989681@techplay.jp
SUMMARY:【フルスタック Next.js 入門】初心者向けハンズオ
 ン勉強会(Drizzle ORM とは？)
DTSTART;TZID=Asia/Tokyo:20251207T160000
DTEND;TZID=Asia/Tokyo:20251207T180000
DTSTAMP:20260425T173019Z
CREATED:20251201T114237Z
DESCRIPTION:イベント詳細はこちら\nhttps://techplay.jp/event/98968
 1?utm_medium=referral&utm_source=ics&utm_campaign=ics\n\nReact 初心者
 向けの、ハンズオン形式のオンライン勉強会です👋\n
 事前に作成した資料があるので、それを参照しながら
 、ハンズオン形式で、Reactのミニアプリを構築します
 ！\n実際に手を動かして、その場で質問・相談しなが
 ら、楽しくReactを学んでいきましょうー！\n❓このハン
 ズオン勉強会についての紹介記事\n今回のお題\n\n作成
 するアプリ：\nブックマーク管理アプリ\nレベル：初級
 〜中級\n概要：\nこのプロジェクトでは、トピック別に
 ブックマーク（URL）を管理するアプリを構築します。\
 nトピックを作成し、そのトピックに関連する URL ブッ
 クマークを追加することで、情報を整理して保存・表
 示します！\n学習する内容：\n今回のテーマは、Drizzle 
 を使用したデータベース操作について、学習します。\
 n改めて API や ORM などのバックエンドの概念に入門し
 ながら、Next.js のフルスタック開発の基本について、
 確認してください。\n\nDrizzle を用いたデータベース操
 作\nSQLite を用いたローカルデータベース\nNext.js を用い
 たフルスタック環境構築\nTypeScript による型チェック\nT
 ailwind CSS を用いたスタイリング\nShadcn UI を用いたコン
 ポーネントライブラリ\n\nこの勉強会を通して、React/Nex
 t.js を使った成果物を１つ構築することを目指します
 ！_\nこんな初心者におすすめ！\n\nReact/Next.js の基本的
 な扱いに慣れてきた方\nDrizzle について学びたい方\nNext
 .js を用いたフルスタック開発に入門したい方\nReact エ
 ンジニアとしての転職/就職を目指している方\nReact/ Nex
 t.js を使った簡単なプロジェクトにチャレンジしてみ
 たい方\n\n要件：\n\nNode.js 環境（v20.9.0 以上）が構築さ
 れたPCが必要です\nGit/ GitHub環境（アカウント）の用意\
 nHTML/CSS/JavaScriptの基礎知識が必要です\nReactの基礎（Prog
 ateレベルの内容）は理解している前提の内容となって
 おります\n\n開催概要\n➡️場所：Google Meet を予定(オン
 ライン開催）音声のみでOKです！\n申し込みが完了する
 と「参加者への情報」という場所に、URLが表示されま
 す。\nなお、Google Meetへの参加は、Google アカウントが
 必要です！\n➡️参加費1500円 (当日 PayPay or stripeによる
 カード決済にて都合の良い方法で受け取ります。)\n注
 意事項\n下記を、ご確認ください：\n\n実際に手を動か
 して、一緒に作業をするハンズオン形式のワークショ
 ップとして進行します。\n視聴のみで参加することも
 、全く問題ないです！\n勉強会終了後も、継続的に資
 料へアクセスするには、b13o.com のアカウントが必要で
 す。\n無断欠席・遅刻は、ご遠慮ください。\n勧誘、迷
 惑行為、ハラスメント、マウンティング行為をはじめ
 、このイベントの趣旨にそぐわないと主催が判断した
 場合はご参加をお断りする場合がございます。\n\n当日
 のスケジュールの流れ\nハンズオン中は、資料を見な
 がら一緒に作業を進めていければと思います！（音声
 ・チャットで、リアルタイムでリアクションや質問が
 できます）\n\n\n\n時間\n内容\n\n\n\n\n16:00〜16:10\n最初の
 挨拶\n\n\n16:10〜16:20\n仕様確認＆開発準備\n\n\n16:20〜17:50
 \nハンズオン開始\n\n\n17:50〜\n終わりの挨拶など\n\n\n\n
 その他：\n\n実際は、時間内で、進めるところまでタス
 クを進める形になります。\n時間内に完成しない場合
 でも、大まかな解説と手順を記載した資料を、配布い
 たします！\nなので、勉強会中は、ゆっくり・たくさ
 ん質問して頂ければと思います！！\n\nハンズオンの最
 中は、たくさんリアクションをして、盛り上げていた
 だけるとありがたいです！（進めるスピードなどの、
 進行に関するご意見も大歓迎です！）\n運営情報\n\nReac
 t で、実践的なスキルチェックができる、学習のお題
 まとめサイト『React Road』のハンズオンイベントです
 🐾\n参考キーワード\nwebアプリ開発\, HTML\, CSS\, JavaScript
 \,TypeScript\, React.js\, Node.js\, Next.js\, Github\, コミュニティ
 \, もくもく会\, ハンズオンワークショップ
LOCATION:
URL:https://techplay.jp/event/989681?utm_medium=referral&utm_source=ics&utm
 _campaign=ics
END:VEVENT
END:VCALENDAR
