BEGIN:VCALENDAR
VERSION:2.0
PRODID:-//https://techplay.jp//JP
CALSCALE:GREGORIAN
METHOD:PUBLISH
X-WR-CALDESC:情シスの“困った”を整理する　IT戦略会議
X-WR-CALNAME:情シスの“困った”を整理する　IT戦略会議
X-WR-TIMEZONE:Asia/Tokyo
BEGIN:VTIMEZONE
TZID:Asia/Tokyo
BEGIN:STANDARD
DTSTART:19700101T000000
TZOFFSETFROM:+0900
TZOFFSETTO:+0900
TZNAME:JST
END:STANDARD
END:VTIMEZONE
BEGIN:VEVENT
UID:989734@techplay.jp
SUMMARY:情シスの“困った”を整理する　IT戦略会議
DTSTART;TZID=Asia/Tokyo:20251209T120000
DTEND;TZID=Asia/Tokyo:20251209T140000
DTSTAMP:20260422T153057Z
CREATED:20251202T084912Z
DESCRIPTION:イベント詳細はこちら\nhttps://techplay.jp/event/98973
 4?utm_medium=referral&utm_source=ics&utm_campaign=ics\n\n✅概要\n情
 報システム部門の皆さまが日々直面している「困った
 」を整理し、次の一手を考えるオンラインイベントで
 す。近年、クラウド活用の拡大やセキュリティリスク
 の高度化、人材リソースの制約など、IT部門の課題は
 多様化しています。本イベントでは・コスト最適化・
 運用効率化・セキュリティ対策・人材リソース戦略の4
 つのテーマを軸に、各分野の専門企業と共に具体的な
 課題と解決のヒントを共有します。対談形式のセッシ
 ョンを通じて、実務に役立つ知見を整理し、今後の戦
 略立案に活かせる情報を提供します。日々の運用やプ
 ロジェクト推進で感じる「困った」を整理し、IT部門
 としての次の一手を検討したい方に最適な内容です。\
 n💁‍♂️こんな方におすすめ\n\n日々のIT運用やプロ
 ジェクト推進で「困った」を抱えている情報システム
 部門のご責任者様\nコスト最適化や運用効率化の方針
 を整理したい情シス部門の管理者様\n現場の業務運用
 改善の声を整理してITによる課題解決を目指したい情
 シス部門ご担当者様\nセキュリティ対策と利便性のバ
 ランスに悩むIT担当者様\n限られたリソースで戦略的に
 IT部門を運営したい管理職・担当者様\n\n⏱タイムスケ
 ジュール\n\n\n\n時間\n内容\n\n\n\n\n12:00~12:10\n▼オープニ
 ング\n\n\n12:10~12:35\n▼セッション①コスト最適化　「IT
 投資を”見える化”して最適化する　　―PC-LCMで実現
 する全体最適アプローチ」　・各社セッション　株式
 会社パシフィックネット様\n\n\n12:35~13:00\n▼セッション
 ②運用効率化　「人手不足時代の業務改革。　 AI×自
 動化で実現する" 止まらないIT運用 "」　・ショートデ
 ィスカッション　・各社セッション　カコムスホール
 ディングス株式会社　株式会社zooba様\n\n\n13:00~13:25\n▼
 セッション③セキュリティと利便性の両立　「守りも
 、使いやすさも。" 教育×技術 "両立戦略」　・ショー
 トディスカッション　・各社セッション　株式会社Synx
 様　LRM株式会社様\n\n\n13:25~13:50\n▼セッション④人材ソ
 ース戦略　「足りないのは" 人 "ではなく"仕組"　  　A
 I時代の人材リソース最適化戦略」　・ショートディス
 カッション　・各社セッション　DXER株式会社様　株式
 会社NTTデータ様\n\n\n13:50~14:00\n▼クロージング\n\n\n\n※
 時間・登壇者は予定のため、変更になる可能性がござ
 います。※上記は12/9（火）のスケジュールです。\n✅
 セミナー詳細\n日 時： 2025年12月09日（火）12:00~14:00  [
 アーカイブ配信] 　　　 2025年12月11日（木）15:00~17:00 
  [アーカイブ配信]共 催：DXER株式会社／カコムス株式
 会社／LRM株式会社／            株式会社NTTデータ／
 株式会社SynX／株式会社zooba／ 株式会社パシフィックネ
 ット形式：オンライン開催\n🗣️登壇者\n\nカコムスホ
 ールディングス株式会社\n執行役員　経営戦略統括本
 部長水越 崇文 氏\n2024年にはマーケティングを推進す
 る新設組織、「マーケティング推進室」を立上げ、自
 社のアセットやブランディング強化を推進する立場か
 ら Microsoft Baseなどの運営も主担当として活動。2025年か
 らはカコムスグループ全体の戦略を統括する部門を新
 たに創設し、グループ戦略統括本部の本部長として就
 任。AI、データ分析、Microsoft Solution、ERP、受託開発な
 どの主軸分野の事業展開を中心にグループ戦略を考案
 、推進する責任者として活動。2025年10月よりカコムス
 ホールディングスへ転籍し、経営企画・マーケティン
 グ・研究開発の視点でグループを統括する責任者とし
 て活動。\n\n\n株式会社zooba\n代表取締役名和 彩音 氏\n
 日本マイクロソフトにて、Active Directory を始めとした
 エンタープライズ製品のサポートエンジニアとして企
 業サポートに従事。その後、株式会社DeNAに入社。イン
 フラエンジニアとしてサーバー・ネットワークの構築
 運用、海外拠点展開などを担当した後、IT戦略部門に
 マネージャーとして異動。マネジメントのほかに、CSIR
 T メンバーとして全社セキュリティ方針の策定やツー
 ル運用フロー改善を担当。そこで運用の課題を実体験
 として経験したことから、2021年8月、株式会社zoobaを創
 業。\n\n\n株式会社SynX\nサイバーセキュリティグループ 
 セキュリティアドバイザー芳崎 大紀 氏\nアプリケーシ
 ョン開発の経験を基盤に、現在は脆弱性診断およびペ
 ネトレーションテストを専門として活動。医療・金融
 ・製造・通信などのエンタープライズ企業を中心に、
 セキュリティ検査・リスク分析・改善コンサルティン
 グを多数手がけている。情報処理安全確保支援士とし
 て、実務に即した技術的知見と経営層に向けたリスク
 マネジメント提言を強みとし、企業のセキュリティレ
 ジリエンス向上に貢献している。\n\n\nLRM株式会社\n執
 行役員 CCO藤居 朋之 氏\n2014年にLRM株式会社に入社。新
 規営業や採用活動をはじめ、多岐に渡る事業領域を手
 掛け、2016年に取締役COOに就任。現在は執行役員CCOとし
 て、トップセールスとしての営業活動も継続しつつ、
 ブランディングやメディアリレーションをはじめとす
 る広報部門や内部統制の構築を管掌している。\n\n\nDXER
 株式会社\nセールス・マーケティング担当真田 英幸 氏
 \n建築業界向けの商材を扱う商社・メーカーで営業を10
 年間経験した後、世の中の働き方をもっとアップデー
 トしたいと思いバックオフィス向けのSaaSプロダクトを
 提供・販売するスタートアップへ転職。セールスとし
 て20名のアーリーフェーズからMRRを6倍・従業員数を4倍
 へ成長させることに貢献。セールスマネージャーとし
 て、ウェビナーにも登壇する。お客様の事業成長にコ
 ミットするためには、プロダクトだけでなくBPO・AIの
 活用が必要と感じ、BPaaS領域へのチャレンジを志してDX
 ERへジョイン。マーケティング・セールスに従事して
 いる。\n\n\n株式会社NTTデータ\nソーシャルイノベーシ
 ョン事業部 アセットビジネス担当 主任林 裕貴 氏\n新
 卒で総合印刷会社に入社。官公庁、自治体BPOの営業担
 当を経て2025年より現職。現在はAIOCR、RPA、生成AI等の
 ツールにより効率化したBPO(BPS)の営業担当に従事。\n\n\
 n株式会社パシフィックネット\nITソリューション部 担
 当部長／執行役員亀田 崇宏 氏\n2015年に通信事業の子
 会社立ち上げを機に、パシフィックネット入社 営業責
 任者としてIT機器のレンタル・LCMサービスの拡大を推
 進 名古屋支店・大阪支店長も兼任、現在は関西・東海
 を含む全国でLCMサービスの拡販に従事。\n参加対象\n\n
 従業員数100名以上の企業・団体の情報システム部門・I
 T部門のご担当者様\n\n参加費\n無料\n注意事項\n以下に
 該当する方は、弊社判断によりご参加をお断りするこ
 とがあります。あらかじめご了承ください。・主催企
 業(弊社)・協力企業・講演企業と競合する商品・サー
 ビスを提供している企業、またはそのグループ企業・
 関連企業に所属されている方・個人または個人事業主
 の方・海外からのご参加の方・その他、弊社及び、協
 力企業、講演企業が不適切と判断した企業・個人の方
LOCATION:
URL:https://techplay.jp/event/989734?utm_medium=referral&utm_source=ics&utm
 _campaign=ics
END:VEVENT
END:VCALENDAR
