BEGIN:VCALENDAR
VERSION:2.0
PRODID:-//https://techplay.jp//JP
CALSCALE:GREGORIAN
METHOD:PUBLISH
X-WR-CALDESC:AI時代の開発戦略 ── 現場の実例から学ぶAI
 活用ポイント
X-WR-CALNAME:AI時代の開発戦略 ── 現場の実例から学ぶAI
 活用ポイント
X-WR-TIMEZONE:Asia/Tokyo
BEGIN:VTIMEZONE
TZID:Asia/Tokyo
BEGIN:STANDARD
DTSTART:19700101T000000
TZOFFSETFROM:+0900
TZOFFSETTO:+0900
TZNAME:JST
END:STANDARD
END:VTIMEZONE
BEGIN:VEVENT
UID:989758@techplay.jp
SUMMARY:AI時代の開発戦略 ── 現場の実例から学ぶAI活用
 ポイント
DTSTART;TZID=Asia/Tokyo:20251211T190000
DTEND;TZID=Asia/Tokyo:20251211T213000
DTSTAMP:20260421T192221Z
CREATED:20251203T053320Z
DESCRIPTION:イベント詳細はこちら\nhttps://techplay.jp/event/98975
 8?utm_medium=referral&utm_source=ics&utm_campaign=ics\n\n概要\n近年
 、生成AIの発展に伴い開発フローの見直しや業務スピ
 ードの向上など、エンジニアを取り巻く環境は大きく
 変化しています。\n一方で、「どこまで開発プロセス
 にAIを組み込むべきか」「AIレビューや自動テストは実
 務でどこまで使えるのか」「最新AIトレンドをプロダ
 クト・組織にどう適応させるか」「非エンジニアにAI
 活用を広げるにはどうしたらよいか」といったお悩み
 を抱えている方も多いのではないでしょうか。\nそこ
 で今回は、実際の開発現場でAI活用に取り組んでいる
 株式会社ログラス、株式会社YOUTRUST、株式会社STRACT、
 株式会社IVRyの皆さまにご登壇いただき現場で起きてい
 るリアルな取り組みなどをお話いただきます！\nさら
 に、セッション終了後には登壇者や参加者の皆さまと
 交流できる懇親会もございます。軽食やドリンクをご
 用意しておりますので、お気軽にご参加ください！お
 一人でのご参加も、お知り合いのエンジニアの方との
 ご参加でも大歓迎です！◎\n参加対象者\nITエンジニア
 （正社員、フリーランス問わず）、CTO、VPoE、テックリ
 ード、PMなどエンジニアリング領域に関わっている方\n
 こんな方におすすめ\n\n開発現場でのAI活用を一歩進め
 たい方\nチームでAIを取り入れたい方\n最新AIトレンド
 を業務に活かしたい方\n他社のAI活用を知りたい方\n\n
 タイムスケジュール\n\n\n\n時間\n内容\n登壇者\n\n\n\n\n18:
 30-\n受付開始\n-\n\n\n19:00-19:05\n挨拶・説明\n-\n\n\n19:10-20:1
 0\nパネルディスカッション\n株式会社ログラス株式会
 社YOUTRUST株式会社STRACT株式会社IVRy\n\n\n20:20-21:30\n懇親会
 \n-\n\n\n21:30\n終了\n\n\n\n\n※ 当日予告なく時間配分・内
 容が変更にな可能性がございます。※注意：受付は19
 時半で終了します。この時間以降の入場はできません
 。\nパネルディスカッション 登壇者紹介（敬称略）\n
 中村 翼\n\n株式会社ログラス　ソフトウェアエンジニ
 ア （@nakamura_meg ）\n株式会社ログラスにて「Loglass 人員
 計画」の開発をしているソフトウェアエンジニア。\n
 チームや組織でAIをどのように活用していくかを日々
 考えている。\n\n山田 昌弘\n\n株式会社YOUTRUST　専門役
 員 技術担当（@aiueo4u ）\n慶應義塾大学大学院卒業後、2
 012年株式会社ディー・エヌ・エーに新卒入社。エンジ
 ニアとして国内や全世界配信の大規模ソーシャルゲー
 ムを舞台に開発・運用の経験を積む。2017年に株式会社
 YOUTRUSTを共同創業。インフラからフロントまでプロダ
 クト開発全般を技術面からリード。AIを活用した機能
 開発も担当。2025年10月技術担当の専門役員に就任。\n
 ▼こちらより参照。\nhttps://prtimes.jp/main/html/rd/p/000000146.
 000040832.html\n\n白澤 元気\n\n株式会社STRACT　プロダクト
 開発部　データサイエンティスト（@bjuuh268 ）\n株式会
 社じげんにて、複数事業のデータ組織PMとして、デー
 タ基盤整備、効果検証体制構築、検索・レコメンドの
 パーソナライズなどを戦略から実行まで推進し、事業
 成長に貢献。2025年10月STRACTへジョイン後は、AIショッ
 ピングアプリ「PLUG」のダッシュボードやデータ基盤整
 備に加え、AIエージェントを活用した対話型検索の企
 画・実装、検索・レコメンドの精度改善といった最先
 端のデータ活用を牽引。\n\n尾原 颯\n\n株式会社IVRy　AI 
 エンジニアサークル AI エンジニア（@soh_ohara ）\n前職
 アマゾン ウェブ サービス ジャパンではAWSを活用する
 機械学習系スタートアップやヘルスケアスタートアッ
 プを中心に技術支援を実施。2025年6月よりIVRyで、電話
 応答体験のAIによる改善に従事。\n\n\n\n会場：株式会社
 スリーシェイク\n東京都中央区銀座8丁目21番1号 住友不
 動産汐留浜離宮ビル7F※お申し込み後、直接会場まで
 お越しください。\n行動規範 (Code of Conduct) について\n
 本イベントは、フリーランスエンジニアに関連する情
 報について参加者と共有するための場です。そのため
 、主催者を含む全ての参加者は下記ページに記載され
 る行動規範に同意していただく必要があります。ご理
 解・ご協力をお願いいたします。https://3-shake.com/event-co
 de-of-conduct/\n注意事項\n■当日、SNSや記事の投稿に利用
 する写真をスタッフが撮影します。もし気になる方が
 いらっしゃれば、写りづらい席にご案内いたしますが
 、映り込む可能性はございます。その際の撮影写真の
 確認や削除には対応できませんのでご了承ください。
 ■参加者によるイベントの動画撮影および音声録音は
 禁止しております。ブログやSNS等で当イベントに関す
 る発信は問題ございません。発信する際には、公序良
 俗に反する内容のないようご協力をお願いします。■
 エンジニア同士の情報交換や知識共有を軸にした交流
 が目的のイベントになります。営業や勧誘等、主目的
 が異なる方のご参加はご遠慮ください。■情報商材や
 サロン、スクールの紹介はご遠慮ください。■交流会
 や飲食のみが目的の方はご遠慮ください。■Relanceの同
 業にあたる企業様のご参加につきましては、お断りさ
 せていただくことがございます。予めご了承ください
 。\nお問い合わせ・キャンセルついて\n■イベントに関
 するご不明点などは以下までお問い合わせください。r
 elance-pr@3-shake.com■申込み後のキャンセルについては、
 当日17:00までにTech Play上でキャンセルをお願いします
 。\n\n
LOCATION:株式会社スリーシェイク 東京都中央区銀座8丁目2
 1番1号 住友不動産汐留浜離宮ビル7F
URL:https://techplay.jp/event/989758?utm_medium=referral&utm_source=ics&utm
 _campaign=ics
END:VEVENT
END:VCALENDAR
