BEGIN:VCALENDAR
VERSION:2.0
PRODID:-//https://techplay.jp//JP
CALSCALE:GREGORIAN
METHOD:PUBLISH
X-WR-CALDESC:【好評につき再放送】 「考える」だけで終わ
 らない 経営企画に必要な “仮説行動”とは
X-WR-CALNAME:【好評につき再放送】 「考える」だけで終わ
 らない 経営企画に必要な “仮説行動”とは
X-WR-TIMEZONE:Asia/Tokyo
BEGIN:VTIMEZONE
TZID:Asia/Tokyo
BEGIN:STANDARD
DTSTART:19700101T000000
TZOFFSETFROM:+0900
TZOFFSETTO:+0900
TZNAME:JST
END:STANDARD
END:VTIMEZONE
BEGIN:VEVENT
UID:989812@techplay.jp
SUMMARY:【好評につき再放送】 「考える」だけで終わらな
 い 経営企画に必要な “仮説行動”とは
DTSTART;TZID=Asia/Tokyo:20260107T110000
DTEND;TZID=Asia/Tokyo:20260107T121500
DTSTAMP:20260424T002759Z
CREATED:20251204T074555Z
DESCRIPTION:イベント詳細はこちら\nhttps://techplay.jp/event/98981
 2?utm_medium=referral&utm_source=ics&utm_campaign=ics\n\n【好評につ
 き再放送】 「考える」だけで終わらない 経営企画に
 必要な “仮説行動”とは\n概要\n2025年9月に開催し、大
 変好評をいただいたセミナーをこの度再放送いたしま
 す。\nビジネスの不確実性がますます高まる中、企業
 経営では日々さまざまな「仮説」をもとに意思決定が
 行われています。しかし、ステークホルダーの共感と
 納得を得られるような「筋の良い仮説」を立て、実際
 の企業変革につなげていくのは容易なことではありま
 せん。\n一方で、AIの進化は、情報収集や分析の効率を
 飛躍的に向上させ、思考にかかる時間を大幅に短縮し
 ました。つまり、これからの経営企画業務は、AIに代
 替不能な検証・実行といった「仮説行動」により重き
 が置かれると考えられます。では、AI時代に経営企画
 パーソンが持つべき視点とは何か。そして、具体的に
 取るべき「行動」とは何なのでしょうか。\nこれらを
 紐解くべく、本セミナーでは、ベストセラー『解像度
 を上げる』の著者であり、東京大学 FoundX ディレクタ
 ーの馬田 隆明氏にご登壇いただきます。馬田氏の新著
 『仮説行動』では、「なぜ従来の仮説思考だけでは成
 果が出にくいのか？」という問いに鋭く切り込み、“
 行動”をキーファクターとした具体的な実践論を提示
 しています。\nさらに、AI活用の第一人者であり、経営
 企画の実務経験も豊富な合同会社HOHO 波々伯部 潤氏を
 迎え、馬田氏との対談を実施します。波々伯部氏から
 は、豊富な実務経験に基づき、AI時代に「仮説行動」
 を経営企画の業務へどう具体的に応用し、成果へと結
 びつけていくのか、そのヒントを深掘りいただきます
 。\n対談を通して、これまであいまいだった「仮説」
 との向き合い方を再定義し、明日から実践できる「経
 営企画の仮説行動」の具体的な方法を探ります。AI時
 代の経営企画として一歩抜きん出るためのまたとない
 機会です。当日は、視聴者のみなさまからの質問にも
 お答えしながら進めてまいりますので、ご参加を心よ
 りお待ちしております。\n登壇者\n\n馬田 隆明 氏\n東京
 大学 FoundXディレクター\n日本マイクロソフトを経て、2
 016年から東京大学。東京大学では本郷テックガレージ
 の立ち上げと運営を行い、2019年からFoundXディレクター
 としてスタートアップの支援とアントレプレナーシッ
 プ教育に従事する。スタートアップ向けのスライド、
 ブログなどで情報提供を行っている。著書に『逆説の
 スタートアップ思考』『成功する起業家は居場所を選
 ぶ』『未来を実装する』『解像度を上げる』『仮説行
 動』。\n\n\n波々伯部 潤 氏\n合同会社ＨＯＨＯ\n新卒で
 リクルート入社、営業・財務・M&A/PMI業務を経て香港駐
 在。その後、複数社のCFOおよび経営企画を経験。現在
 はユニアデックス株式会社（BIPROGYグループ）の経営企
 画部にて、業務改革プロジェクトや投資関連業務など
 に従事。個人会社にて、さまざまな企業・団体から各
 種アドバイザー業務や生成AI研修などを受託。\n特技は
 テレワーク向け手抜き料理（ありもの食材・時短・３
 品、物価高に負けず家族5人分1\,000円以下）。\n\n\n大賀
  彩野\n株式会社ユーザベースSpeeda事業 イベントマーケ
 ティングチーム\n2014年に広告代理店へ入社。法人営業
 ・プロデューサーとして大手外資系テック企業を中心
 に担当し、顧客に深く入り込みながら多種多様なイベ
 ントプロモーションを経験。2021年より国内メーカー関
 連会社にてBtoBマーケティングに従事。2024年にユーザ
 ベースへジョイン、現在は経営企画・コンサルティン
 グファーム向けのイベントマーケティングを担当して
 いる。\n\nこんな方におすすめ\n\n経営課題を解決に導
 く「筋の良い仮説」の立て方を学びたい経営者・経営
 企画部の方\n情報収集やデータ分析はできても、その
 先の示唆出しやアクション設計に悩んでいる方\n経営
 層や関係部門との合意形成をスムーズに進め、施策を
 実行に移す勘所を掴みたい方\n\n参加費\n無料\n視聴方
 法\n※別サイトでのお申し込みとなります。「参加申
 込ページへ」ボタンをクリックすると別サイトに遷移
 します。本セミナーはオンラインでのライブ配信ツー
 ルZoomを利用いたします。視聴方法はお申込み後にご案
 内いたします。
LOCATION:
URL:https://techplay.jp/event/989812?utm_medium=referral&utm_source=ics&utm
 _campaign=ics
END:VEVENT
END:VCALENDAR
