BEGIN:VCALENDAR
VERSION:2.0
PRODID:-//https://techplay.jp//JP
CALSCALE:GREGORIAN
METHOD:PUBLISH
X-WR-CALDESC:【初心者向け】GASとHTML&CSSでWebアプリを作って
 みよう　基礎編
X-WR-CALNAME:【初心者向け】GASとHTML&CSSでWebアプリを作って
 みよう　基礎編
X-WR-TIMEZONE:Asia/Tokyo
BEGIN:VTIMEZONE
TZID:Asia/Tokyo
BEGIN:STANDARD
DTSTART:19700101T000000
TZOFFSETFROM:+0900
TZOFFSETTO:+0900
TZNAME:JST
END:STANDARD
END:VTIMEZONE
BEGIN:VEVENT
UID:989887@techplay.jp
SUMMARY:【初心者向け】GASとHTML&CSSでWebアプリを作ってみ
 よう　基礎編
DTSTART;TZID=Asia/Tokyo:20260119T200000
DTEND;TZID=Asia/Tokyo:20260119T210000
DTSTAMP:20260423T140445Z
CREATED:20251207T222224Z
DESCRIPTION:イベント詳細はこちら\nhttps://techplay.jp/event/98988
 7?utm_medium=referral&utm_source=ics&utm_campaign=ics\n\n概要\nパソ
 コンを使って仕事をすることが当たり前となり、DX化
 が叫ばれている昨今、ITスキルを持つ人材がますます
 重要となる時代になってきました。しかし、このよう
 な状況に対して、世界的にIT人材が不足しており、日
 本でも数十万人規模で足りてないと言われております
 。シンギュラリティ・ラボ（シンラボ）では、ITスキ
 ルを持った人材を育成するため、未経験者の方に少し
 でもプログラミングについて触れてほしいため、無料
 のプログラミング体験会を開催しています。\n\nGoogleス
 プレッドシート等のGoogleサービスを使用して業務効率
 化をしたい方\nプログラミングに触れてみたい方\nプロ
 グラミング未経験で何から手を付けたら良いか分から
 ない方などプログラミングに関するお悩みや関心があ
 る方は、是非体験会にお越しください。\n\n\n内容\n■
 テーマ：GASとHTML&CSSの基礎■本講座で学べること\n\nGAS
 によるWebアプリケーション公開の方法\nHTML&CSSの基礎■
 時間配分\nGASや制作物の説明(5分)\nプログラミング体験
 (40分)\nプログラミング学習の紹介(5分)\n質疑応答(5分)\n
 シンギュラリティ・ラボの紹介(5分)\n\n\nシンギュラリ
 ティ・ラボ（シンラボ）とは\n『テクノロジーで社会
 課題を解決する』をビジョンに、エンジニア、デザイ
 ナー、ライター、イべンテーターなど、様々な人が活
 躍するテックコミュニティです。アプリ開発、Webサイ
 ト制作からコミュニティ作り、イベント企画まで、様
 々なプロジェクトが創出されています。本コミュニテ
 ィでは、GAS（Google Apps Script）というGoogle社が提供する
 プログラミング言語をベースに学ぶ学習教材を提供し
 ています。GASを学ぶことで、Googleサービス（Gmail、Googl
 eスプレッドシート、Googleカレンダーなど）を用いた業
 務の自動化ができるようになります。さらに、GASはJava
 Scriptをベースに作られているため、JavaScriptの基礎文法
 を身に着けることができます。シンラボには、現役プ
 ログラマーが所属しており、プログラミングを学ぶ上
 での疑問や質問を行う場もあります。プログラミング
 を基礎から丁寧に身につけたい方、業務効率化や転職
 のためのスキルアップを図りたい方は、ぜひご参加く
 ださい。シンラボの活動について詳しく知りたい方は
 こちら↓↓https://sinlab.future-tech-association.org/\n日程\n2026/
 01/19(月) 20:00~21:00\n参加方法\n参加申し込み者にzoom 視聴
 用URLをこのページやご案内メールでお知らせします。\
 n参加対象\n\nプログラミングに興味がある方\nGoogleサー
 ビスをよく利用する方\n業務効率化を考えたい方\nすき
 間時間を活用して新しいスキルを学びたい方\nプログ
 ラミングスキル・考え方を身に着けたい方\nプログラ
 ミングに関するお悩みがある方\n\n準備するもの\n\nパ
 ソコン（Windows\, MacのどちらでもOK）\nGoogleアカウントGo
 ogleアカウントは個人用を推奨します。会社や学校のア
 カウントでは、管理者の設定によりスプレッドシート
 やApps Scriptが利用できない場合があります。\n\nイベン
 ト参加費\n無料\n講師アカウント\nHelloCodingSchool（ハロ
 スク）講師のXアカウントプログラミングのノウハウや
 学習のコツを発信中https://x.com/helloCodeSchool\nnote\nnote記
 事プログラミング初心者向けにGASを中心とした情報発
 信をしていますhttps://note.com/hello_coding\n問い合わせ窓口
 \n一般社団法人 未来技術推進協会info@future-tech-association
 .org
LOCATION:
URL:https://techplay.jp/event/989887?utm_medium=referral&utm_source=ics&utm
 _campaign=ics
END:VEVENT
END:VCALENDAR
