BEGIN:VCALENDAR
VERSION:2.0
PRODID:-//https://techplay.jp//JP
CALSCALE:GREGORIAN
METHOD:PUBLISH
X-WR-CALDESC:＜解説動画＞ データ分析を実務で使う～ビジ
 ネスで応用させる～
X-WR-CALNAME:＜解説動画＞ データ分析を実務で使う～ビジ
 ネスで応用させる～
X-WR-TIMEZONE:Asia/Tokyo
BEGIN:VTIMEZONE
TZID:Asia/Tokyo
BEGIN:STANDARD
DTSTART:19700101T000000
TZOFFSETFROM:+0900
TZOFFSETTO:+0900
TZNAME:JST
END:STANDARD
END:VTIMEZONE
BEGIN:VEVENT
UID:989894@techplay.jp
SUMMARY:＜解説動画＞ データ分析を実務で使う～ビジネス
 で応用させる～
DTSTART;TZID=Asia/Tokyo:20251211T130000
DTEND;TZID=Asia/Tokyo:20260116T130000
DTSTAMP:20260422T202651Z
CREATED:20251208T040418Z
DESCRIPTION:イベント詳細はこちら\nhttps://techplay.jp/event/98989
 4?utm_medium=referral&utm_source=ics&utm_campaign=ics\n\nアーカイブ
 配信中 「データ解析の実践活用」\n動画概要\n～　デ
 ータ解析の結果をいかにビジネスに組み込んでいくか
 　～\nデータ解析の活用に早くから着目していても、
 どのように結果に繋げられるかは非常に難しい課題で
 す。本発表では、データフォーシーズによるデータ解
 析結果のシステム運用の事例を交えてDXの時代にある
 べきデータ解析の活用方法についてお話ししておりま
 す。\n※本動画は、2022/4にライブ配信した動画のアー
 カイブ配信です。\n\nアジェンダ\n\nビジネスにおける
 データ解析の現状\nデータサイエンスの観点から考え
 るITシステムの重要性\nMLOps（ML＋DevOps）と言う考え方\n
 【事例紹介１】アパレル業界における需要予測の基盤
 構築\n【事例紹介２】公共交通機関のデータ解析部門
 の立ち上げ支援\n【事例紹介３】ウェザーマーケティ
 ング\nインタビューセッション・質疑応答\n\n\n参加対
 象\n\nデータ解析を実践のビジネスに生かす方法を知り
 たい\nデータ解析結果をシステムに実装して正常に運
 用させるコツを知りたい\n\n\n参加費\n無料\n\nデータフ
 ォーシーズとは\n株式会社データフォーシーズ　https://
 www.data4cs.co.jp/\nD4cグループは2005年の創業以来、「ビジ
 ネスを加速する」ことを使命としてクライアント企業
 を支援する、データ解析のスペシャリスト集団です。 
 データに科学的な分析と洞察のメスを入れることでデ
 ータサイエンティストらによる効果的な企業経営の実
 現を支援しています。\n\n注意事項\n以下の方について
 、弊社判断によりご視聴をご遠慮いただく場合がござ
 います。\n\n弊社の競合・同業となるサービスを提供し
 ている企業、及び、そのグループ企業・関連企業の方\
 n個人や個人事業主の方\nその他、弊社が不適切と判断
 した企業・個人の方\n
LOCATION:
URL:https://techplay.jp/event/989894?utm_medium=referral&utm_source=ics&utm
 _campaign=ics
END:VEVENT
END:VCALENDAR
