BEGIN:VCALENDAR
VERSION:2.0
PRODID:-//https://techplay.jp//JP
CALSCALE:GREGORIAN
METHOD:PUBLISH
X-WR-CALDESC:【 つながりを広げるコミュニティ交流イベン
 ト 】コミュニティ・リンク・パーティ in 北九州 2025
X-WR-CALNAME:【 つながりを広げるコミュニティ交流イベン
 ト 】コミュニティ・リンク・パーティ in 北九州 2025
X-WR-TIMEZONE:Asia/Tokyo
BEGIN:VTIMEZONE
TZID:Asia/Tokyo
BEGIN:STANDARD
DTSTART:19700101T000000
TZOFFSETFROM:+0900
TZOFFSETTO:+0900
TZNAME:JST
END:STANDARD
END:VTIMEZONE
BEGIN:VEVENT
UID:989922@techplay.jp
SUMMARY:【 つながりを広げるコミュニティ交流イベント 
 】コミュニティ・リンク・パーティ in 北九州 2025
DTSTART;TZID=Asia/Tokyo:20251217T190000
DTEND;TZID=Asia/Tokyo:20251217T210000
DTSTAMP:20260425T151247Z
CREATED:20251208T082726Z
DESCRIPTION:イベント詳細はこちら\nhttps://techplay.jp/event/98992
 2?utm_medium=referral&utm_source=ics&utm_campaign=ics\n\n地域を盛り
 上げるキーパーソンとコミュニティが一堂に会するネ
 ットワーキングイベント\n「コミュニティ・リンク・
 パーティ in 北九州 2025」を、COMPASS小倉で開催🔥‼\n\n
 今年は、アントレプレナー（起業家） と テクノロジ
 ー（技術者） の2つのジャンルにフォーカスした豪華
 トークセッションを開催します‼北九州で「今まさに
 動いている」プロジェクトや、これからの街や働き方
 をつくっていくコミュニティリーダーが登壇し、普段
 はなかなか聞けない活動の裏話や、未来へのアイデア
 を語ります。\n専門分野もバックグラウンドもさまざ
 まな人たちが集まる場なので、「新しいヒントをもら
 えたり」「刺激を受けたり」「一緒に何かできる仲間
 と出会えるチャンス」がここにあります‼✨こんな方
 におすすめ👀\n💡（学生を含む）多様な人とフラット
 に交流したい💡新しい一歩のヒントや仲間を見つけた
 い（学生歓迎）💡別コミュニティの雰囲気を知りたい
 などなど、地域の方とゆるくつながりたい、そんな方
 にぴったりのイベントです🙌分野を超えてつながり合
 えるこの機会に、ぜひ気軽にご参加ください♪あなた
 の次の一歩が見つかるかもしれません😊 \n【開催概
 要】\n▪日　時: 2025年12月17日(水) 19:00〜　　　（受付
 開始：18:30～）▪場　所: COMPASS小倉▪参加費：500円（1
 ドリンク・おかし付）※The Partyz@KITAKYUSHU とコラボ開催
 ！当日はピザ🍕もご用意しております！\nーーーーー
 ーーーーーーーーーーーーーーーーーーーーーーーー
 ーーーーーーー\n【参加コミュニティ】\n～Tech系～\n
 🤖≪ChaChaTech\n●ChaChaTech（チャチャテック）について 
  ChaChaTechは北九州のWeb系コミュニティです。 北九州は
 すごく素敵な場所なのですが、IT系のイベントが少な
 い！そんな想いから立ち上がったコミュニティです。
 ●ChaChaTechの活動内容コワーキングスペースのイベント
 スペースをお借りして、IT系のイベントを定期的に行
 うことを目標としております。●ChaChaTechからのお願い
 ！北九州在住でITエンジニアしているあなた！もし同
 じような気持ちでしたら一緒に北九州のITを盛り上げ
 ましょう！\n🤖≪北九州AI交流会\n北九州AI交流会は、
 北九州市小倉の「COMPASS小倉」を会場に、約3か月ごと
 に開催している地域発のAIコミュニティです。ChatGPTや
 画像生成、業務効率化など、身近で実践的なテーマを
 取り上げ、初心者から経験者までが一緒に学び合いま
 す。これまでに3回開催し、毎回多彩な職業の参加者が
 集まり、「AIってこんなに身近なんだ」と感じられる
 場となっています。北九州から、AIを楽しく・実用的
 に使いこなす文化を広げていくことを目指しています
 。\n🤖≪STEPBYCODE\nSTEPBYCODE（ステップバイコード）は、
 「一歩一歩、着実に」成長を目指すことを目的としたI
 Tコミュニティです。小さな一歩を積み重ね、誰かの知
 見が誰かの一歩につながる、そんな場を目指していま
 す。スキルアップや交流を目的としたイベントを月1回
 程度の頻度で開催しています。主な活動内容は、LT会
 （ライトニングトーク）、ハンズオン、もくもく会、
 ハッカソンなど多岐にわたります。学生から社会人ま
 で、ITへの興味があればどなたでも大歓迎です。あな
 たの一歩をSTEPBYCODEが全力で応援します！\n🤖≪ぬか炊
 きLT会\n北九州小倉北区にあるオフィスビル「BIZIA KOKURA
 」で開催するLT会のグループです！🐟ぬか炊きLTとは
 「ぬか炊きLT」は、北九州の名物料理“ぬか炊き”か
 ら名前を取りました。ぬか炊きは、毎日手をかけて育
 てるぬか床から生まれる健康食。エンジニアの知識も
 同じように、日々の積み重ねで育っていくものです。
 そして、それをこの場でシェアすることは、自分にも
 他の誰かにもいい“栄養”になる。そんな、学びを持
 ち寄って一緒に成長していける場にしたくて名付けま
 した！\n🤖≪CodeforKitakyushu\nITの力を使って、地域が抱
 える課題を市民自らが解決し、北九州市を中心に地域
 活性に取組むコミュニティです。2009年、アメリカで行
 政と市民が一緒になり、テクノロジーを活用して、地
 域の課題を解決する活動Code for Americaが立ち上がりまし
 た。2012年には、日本でも　Code for Japan　が活動を始め
 、その活動は、日本各地に広がっています。Code for Kita
 kyushuは、日本各地のCode for Xと、ともに考え、ともにつ
 くる社会を目指し、市民が主体となって、より良い未
 来をつくっていきます。\n～アントレ系～\n👧≪アン
 トレプレナースタジオ\n「学ぶ人による学ぶ人のため
 の学ぶコミュニティ」です。一方的に学ぶだけでアウ
 トプットする機会がなかなか無い、あっても年齢が限
 定されていたり、費用が高い、といった課題から「誰
 でも気軽に学び合い、高めあえる場を」というコンセ
 プトでイベント等を実施しています。バンド練習で音
 楽スタジオに入ってお互いに切磋琢磨する、そんな関
 係性を学びにおいて実現するため「スタジオ」という
 言葉を付けています。本勉強会においても、特別な講
 師を招いて講座を行ってもらうのではなく、一般的に
 学んでいる人が自分の学びを共有することでお互いに
 高めあえるような場を創りたいと考えています。\n👧
 ≪CONEXT\nCONEXT（コネクト）は、「九州のU25が次の一歩
 を自ら踏み出し、自発的に行動できる社会を創る」こ
 とをビジョンに掲げる若者団体です。私たち自身が経
 験した「何かしたいが、何をしたら良いか分からない
 もどかしさ」を解消するため、「九州にチャンスの場
 をつくる」ことをミッションとしています。活動の中
 心は、九州中のU25（主に学生）が集うSlackコミュニテ
 ィ「挑戦の窓口」の運営です。ここでイベント情報を
 集約・発信し、熱意ある大人やU25同士の繋がりを創出
 。その他、挑戦する学生へのインタビュー発信や、テ
 ーマ型イベントの主催を通じて、九州の若者が挑戦で
 きる”環境を提供しています。熱量があり、活動した
 い学生にとって、CONEXTはU25によるU25のためのコミュニ
 ティです。共に九州を盛り上げましょう！\n👧≪Startup
  Weekend北九州(vol.13)\nStartup Weekend（スタートアップ・ウ
 ィークエンド）は、全世界で7\,000回以上開かれ、世界
 中で合計50万人が参加しているスタートアップ体験の
 名前であり、金曜日の夜から日曜日までの54時間で仲
 間づくりをしながらプロトタイプを作り仮説検証を回
 し続けます。そして挑戦する人達が集い、支援するコ
 ミュニティの名前でもあります。\n👧≪The Partyz@KITAKYUS
 HU\nThe Partyzは、​九州・山口を中心に8エリアで開催し
 ている、「挑戦したい学生と挑戦している社会人の交
 流の場」がコンセプトの交流イベント（ピザパーティ
 ー）です。途中には挑戦している/したいことについて
 3分程度で話すピッチタイムも用意しています。\n👧≪
 COMPASS小倉\nCOMPASS小倉は、北九州市小倉駅近くのAIMビル
 6階にある創業支援型コワーキングスペースです。起業
 を目指す方やフリーランス、小規模事業者など、多様
 なチャレンジャーが集い、学び・つながり・共創でき
 るコミュニティを育んでいます。イベントやセミナー
 、交流会を通じて仲間や専門家と出会えるほか、創業
 相談やバーチャルオフィスなど多彩な支援も充実。「
 日本一起業家にやさしいまち・北九州」を目指し、挑
 戦するすべての人の一歩を応援します。
LOCATION:COMPASS小倉 福岡県北九州市小倉北区浅野３丁目８
 −１ AIMビル 6階
URL:https://techplay.jp/event/989922?utm_medium=referral&utm_source=ics&utm
 _campaign=ics
END:VEVENT
END:VCALENDAR
