BEGIN:VCALENDAR
VERSION:2.0
PRODID:-//https://techplay.jp//JP
CALSCALE:GREGORIAN
METHOD:PUBLISH
X-WR-CALDESC:どう活かす？デザインの基礎知識 Vol.5「クリ
 エイターが知っておきたいデザインとブランディング
 〜デザインプロセスとペルソナ〜」
X-WR-CALNAME:どう活かす？デザインの基礎知識 Vol.5「クリ
 エイターが知っておきたいデザインとブランディング
 〜デザインプロセスとペルソナ〜」
X-WR-TIMEZONE:Asia/Tokyo
BEGIN:VTIMEZONE
TZID:Asia/Tokyo
BEGIN:STANDARD
DTSTART:19700101T000000
TZOFFSETFROM:+0900
TZOFFSETTO:+0900
TZNAME:JST
END:STANDARD
END:VTIMEZONE
BEGIN:VEVENT
UID:989957@techplay.jp
SUMMARY:どう活かす？デザインの基礎知識 Vol.5「クリエイ
 ターが知っておきたいデザインとブランディング〜デ
 ザインプロセスとペルソナ〜」
DTSTART;TZID=Asia/Tokyo:20260115T193000
DTEND;TZID=Asia/Tokyo:20260115T203000
DTSTAMP:20260421T045642Z
CREATED:20251210T003413Z
DESCRIPTION:イベント詳細はこちら\nhttps://techplay.jp/event/98995
 7?utm_medium=referral&utm_source=ics&utm_campaign=ics\n\nどう活かす
 ？デザインの基礎知識 Vol.5「クリエイターが知ってお
 きたいデザインとブランディング〜デザインプロセス
 とペルソナ〜」\nクリーク・アンド・リバー社は、2026
 年1月15日（木）に、デザインの基礎知識をさらに深め
 るウェビナーを開催します。\n「デザインの基礎知識
 」は、学んだだけでは終わりません。\nこのシリーズ
 では、その「デザインの基礎知識」を“どう活かすか
 ”にフォーカスし、毎回異なるテーマをもとに、実践
 的な視点でデザインの理解を深めていきます。各回で
 は、講師による基礎解説に加え、参加者の皆さんから
 のアイデアや視点をチャットで共有しながら、「理想
 的なデザインとは？」を一緒に探っていく参加型ウェ
 ビナーです。\n第5回のテーマは第5回のテーマは「デザ
 インとブランディング」。ブランドの価値や世界観を
 伝えるためには、見た目の美しさだけでなく、戦略的
 な設計プロセスと明確なペルソナ設定が欠かせません
 。\nこの回では、「ブランディングがしっかりしたデ
 ザイン」「ペルソナの設定が明確なデザイン」を理解
 できるようになることをゴールに、デザインプロセス
 の中でブランディングをどう位置づけるか、そしてユ
 ーザー像をどう描くかを学びます。\n▼こんなことを
 学びます\n\nブランディングとデザインの関係性とは？
 \nデザインプロセスにおけるブランディングの位置づ
 け\nペルソナとは何か？なぜ必要なのか？\nペルソナ設
 定の基本と実践例\nブランドの“らしさ”を表現する
 デザインの考え方\n\n▼ウェビナーの進行について\n\n
 １．講師によるテーマ解説（色の知識と役割）\n２．
 チャットで「こうすべき！」というアイデアを投稿\n
 ３．投稿された意見を講師がパネルにまとめて可視化\
 n４．参加者が「色の役割が活かされたデザイン」の画
 像（URLなど）をチャットに投稿\n５．講師が用意した
 事例画像を提示し、解説\n６．まとめと質疑応答\n\n※
 このウェビナーでは、ご参加の皆さんからたくさんの
 アイデアを募りながら進めていきます。チャット機能
 を使って進行していきますので、顔出しや声出しはあ
 りませんので安心してご参加いただけます。\nタイム
 スケジュール\n\n\n\n時間\n内容\nspeaker\n\n\n\n\n19：30～19
 ：35\nオープニング\nC&R社\n\n\n19：35～20：20\n講演\n増田
 恵一 氏\n\n\n20：20～20：30\n質疑応答\n\n\n\n20：30～\nク
 ロージング\n\n\n\n\n※ 当日予告なく時間配分・内容が
 変更になる可能性がございます。\n登壇者\n増田　恵一
 （ますだ・けいいち）氏\n一般社団法人ファッション
 産業技術継承協会 代表理事\n武蔵野美術大学造形学部
 デザイン情報学科卒業。\nテキスタイルデザイン、グ
 ラフィックデザイン、動画制作、Webデザインに関する
 資格の運営、教材の制作、講座の開催をしている。\n
 学校法人文化学園在職中には、文科省委託事業として
 、産・官・学のメンバーとともに教材制作に取り組ん
 できた実績をもつ。\n\n参加対象\nグラフィックデザイ
 ナー/Webデザイナー/映像デザイナー/アニメーター/イン
 テリアデザイナー/ファッションデザイナー/産業デザ
 イナー/UIデザイナー/UXデザイナー/マーケター/プロダ
 クトデザイナー\n参加費\n無料\n当ウェビナーについて\
 n\nこちらのサイトからもお申込みいただくことができ
 ます。\n\n\n▼C&R社で実施しているオンライン講座・ウ
 ェビナー　一覧ページhttps://www.c-place.ne.jp/
LOCATION:
URL:https://techplay.jp/event/989957?utm_medium=referral&utm_source=ics&utm
 _campaign=ics
END:VEVENT
END:VCALENDAR
