BEGIN:VCALENDAR
VERSION:2.0
PRODID:-//https://techplay.jp//JP
CALSCALE:GREGORIAN
METHOD:PUBLISH
X-WR-CALDESC:奉行11 サポート終了対策セミナー 自社に合っ
 た移行の進め方 ～移行時に直面する課題とその突破法
 ～
X-WR-CALNAME:奉行11 サポート終了対策セミナー 自社に合っ
 た移行の進め方 ～移行時に直面する課題とその突破法
 ～
X-WR-TIMEZONE:Asia/Tokyo
BEGIN:VTIMEZONE
TZID:Asia/Tokyo
BEGIN:STANDARD
DTSTART:19700101T000000
TZOFFSETFROM:+0900
TZOFFSETTO:+0900
TZNAME:JST
END:STANDARD
END:VTIMEZONE
BEGIN:VEVENT
UID:989976@techplay.jp
SUMMARY:奉行11 サポート終了対策セミナー 自社に合った移
 行の進め方 ～移行時に直面する課題とその突破法～
DTSTART;TZID=Asia/Tokyo:20260113T110000
DTEND;TZID=Asia/Tokyo:20260113T113000
DTSTAMP:20260421T131114Z
CREATED:20251210T050804Z
DESCRIPTION:イベント詳細はこちら\nhttps://techplay.jp/event/98997
 6?utm_medium=referral&utm_source=ics&utm_campaign=ics\n\n奉行11 サポ
 ート終了対策セミナー 自社に合った移行の進め方 ～
 移行時に直面する課題とその突破法～\n概要\nOBCよりオ
 ンプレミス版「奉行11 シリーズ」のサポート終了が発
 表され、奉行製品のクラウド移行が急務となっていま
 す。\nしかし、現行システムのカスタマイズや大容量
 データの移行、複数法人管理によるコスト増加など、
 移行には様々な課題が存在します。\nこうした課題に
 対応し、より安心してクラウド移行を進めていただけ
 るよう、ソフトクリエイトでは「奉行11 シリーズ 移行
 相談センター」を2025年8月5日に設置し、ご相談対応を
 開始いたしました。\n本セミナーでは、サポート終了
 後の対策としてOBC様より後継製品のご紹介をいただく
 ほか、ソフトクリエイトからは移行時の課題への対応
 策や、「移行相談センター」のご案内もいたします。\
 nクラウド移行をスムーズに進めるためのヒントや参考
 情報を得ていただけるセミナーです。ぜひご参加くだ
 さい。\n主催：株式会社ソフトクリエイト形式：オン
 デマンド配信\n※本サイトからのお申し込みはセミナ
 ー前日の16：00に締め切らせていただきます。※ご視聴
 用 URL はセミナー当日の9：00より、順次メールにて送
 付いたします。\n\n参加費\n無料\nセミナー詳細\nソフト
 クリエイト主催セミナー「奉行11 サポート終了対策セ
 ミナー 自社に合った移行の進め方 ～移行時に直面す
 る課題とその突破法～」の詳細についてはこちらをご
 覧ください。\n注意事項\n※同業他社ならびに個人での
 お申込みは受け付けておりません。※その他、当社の
 判断によりご参加をお断りする場合がございますので
 予めご了承ください。※個人名義やフリーメールアド
 レス（例：Gmail、Yahooメール等）でのお申込みはお受け
 できません。お手数ですが、正式な会社名と会社でご
 利用のメールアドレスをご入力のうえ、お申込みくだ
 さい。
LOCATION:
URL:https://techplay.jp/event/989976?utm_medium=referral&utm_source=ics&utm
 _campaign=ics
END:VEVENT
END:VCALENDAR
