BEGIN:VCALENDAR
VERSION:2.0
PRODID:-//https://techplay.jp//JP
CALSCALE:GREGORIAN
METHOD:PUBLISH
X-WR-CALDESC:【Webセミナー】OSSで構築する対応管理プラッ
 トフォームZammad・CuMAS紹介セミナー
X-WR-CALNAME:【Webセミナー】OSSで構築する対応管理プラッ
 トフォームZammad・CuMAS紹介セミナー
X-WR-TIMEZONE:Asia/Tokyo
BEGIN:VTIMEZONE
TZID:Asia/Tokyo
BEGIN:STANDARD
DTSTART:19700101T000000
TZOFFSETFROM:+0900
TZOFFSETTO:+0900
TZNAME:JST
END:STANDARD
END:VTIMEZONE
BEGIN:VEVENT
UID:990230@techplay.jp
SUMMARY:【Webセミナー】OSSで構築する対応管理プラットフ
 ォームZammad・CuMAS紹介セミナー
DTSTART;TZID=Asia/Tokyo:20260122T150000
DTEND;TZID=Asia/Tokyo:20260122T160000
DTSTAMP:20260419T144243Z
CREATED:20251217T024904Z
DESCRIPTION:イベント詳細はこちら\nhttps://techplay.jp/event/99023
 0?utm_medium=referral&utm_source=ics&utm_campaign=ics\n\n企業や組織
 では、顧客からの問い合わせ対応や、社内からの技術
 サポート依頼など、日々さまざまな「問い合わせ」が
 発生します。こうした問い合わせを適切に管理し、迅
 速かつ的確に対応するためには、効率的なプラットフ
 ォームの導入が欠かせません。今回は、社内外どんな
 問い合わせにも対応できる、OSSの対応管理プラットフ
 ォームZammad・CuMASのそれぞれの特徴や活用方法を詳し
 くご紹介します。\nアジェンダ\n\n対応管理プラットフ
 ォームとは\n対応管理プラットフォーム導入のメリッ
 ト\nOSSの対応管理プラットフォーム\n\n「Zammad」とは\n
 「CuMAS」とは\n\n\nデージーネットでの活用事例～Zammad
 ～\nデージーネットでの活用事例～CuMAS～\nまとめ\nデ
 ージーネットのサービス\n質疑応答\n\n講習条件\n\n問い
 合わせ管理に課題をお持ちの担当者/責任者\n問い合わ
 せ管理システムの導入を検討している担当者/責任者\n\
 nセミナースケジュール\n\n14：50 ～　　　　 ログイン
 可能時間\n15：00 ～ 15：45　OSSで構築する対応管理プラ
 ットフォームZammad・CuMAS紹介セミナー\n15：45 ～ 16：00
 　質疑応答\n
LOCATION:
URL:https://techplay.jp/event/990230?utm_medium=referral&utm_source=ics&utm
 _campaign=ics
END:VEVENT
END:VCALENDAR
