BEGIN:VCALENDAR
VERSION:2.0
PRODID:-//https://techplay.jp//JP
CALSCALE:GREGORIAN
METHOD:PUBLISH
X-WR-CALDESC:UXデザイナーMatt Pennaと学ぶ AI＆プロンプトエ
 ンジニアリング入門～デザイナーのための実践ワーク
 ショップ～
X-WR-CALNAME:UXデザイナーMatt Pennaと学ぶ AI＆プロンプトエ
 ンジニアリング入門～デザイナーのための実践ワーク
 ショップ～
X-WR-TIMEZONE:Asia/Tokyo
BEGIN:VTIMEZONE
TZID:Asia/Tokyo
BEGIN:STANDARD
DTSTART:19700101T000000
TZOFFSETFROM:+0900
TZOFFSETTO:+0900
TZNAME:JST
END:STANDARD
END:VTIMEZONE
BEGIN:VEVENT
UID:990263@techplay.jp
SUMMARY:UXデザイナーMatt Pennaと学ぶ AI＆プロンプトエンジ
 ニアリング入門～デザイナーのための実践ワークショ
 ップ～
DTSTART;TZID=Asia/Tokyo:20260124T100000
DTEND;TZID=Asia/Tokyo:20260124T110000
DTSTAMP:20260422T132934Z
CREATED:20251218T031543Z
DESCRIPTION:イベント詳細はこちら\nhttps://techplay.jp/event/99026
 3?utm_medium=referral&utm_source=ics&utm_campaign=ics\n\nUXデザイナ
 ーMatt Pennaと学ぶ AI＆プロンプトエンジニアリング入門
 ～デザイナーのための実践ワークショップ～\nクリー
 ク･アンド･リバー社（C&R社）は、2026年1月24日（土）
 に、AIとプロンプトエンジニアリングを活用して、デ
 ザイン業務を効率化し、創造性を高める実践的な方法
 を学ぶウェビナーを開催します。\n※英語でのセミナ
 ーとなりますが、同時通訳を通して日本語でお聞きい
 ただくことも可能です（ご自身でオリジナル「英語」
 または「通訳チャンネル」を選択していただくことが
 できます）。\nこのウェビナーでは、✓AIと大規模言語
 モデル（LLM）の基本概念を理解し、✓効果的なプロン
 プトの作り方を学び、✓ChatGPTやClaudeを使って、実際の
 デザイン課題を解決するハンズオン演習を行います。\
 nさらに、AIを日常のワークフローに取り入れるための
 具体的な方法やおすすめツールも紹介します。\n「AIを
 使いこなす」デザイナーになる第一歩を踏み出しまし
 ょう！\nMatt Penna氏と一緒に、AI時代のデザインスキル
 を実践的に身につけませんか？\n▼こんなことをお話
 します\n\nイントロダクション・AIと大規模言語モデル
 （LLM）の基本概念・デザイン業界におけるAIの役割\nプ
 ロンプトエンジニアリングの基礎・良いプロンプトと
 は？・効果的なプロンプトを作成するためのテクニッ
 ク\nハンズオンセッション・ChatGPTやClaudeを使ったデザ
 イン課題解決・3つの実践的ケーススタディ\nAIをワー
 クフローに統合する方法・日常のデザイン業務にAIを
 取り入れる方法・おすすめツールとリソース\nQ&A\n\n▼
 こんな方におススメ\n\nAIを使ってデザイン業務を効率
 化したい方\nプロンプト設計を学び、ユーザー体験を
 向上させたい方\nAIツールを活用して制作スピードを上
 げたい方\nチームにAIを導入し、ワークフローを改善し
 たい方\nデザイン業務にAIを取り入れたい方\nデザイン
 に限らず、AIを業務に取り入れたい方\n\n▼言語通訳の
 リスニング方法について\nPCの場合：1.ウェビナーのコ
 ントロールで、[通訳] をクリックします。2.希望する
 言語をクリックします。3.（オプション）通訳された
 言語のみを聞く場合は、[オリジナル オーディオをミ
 ュートにする] をクリックします。\nAndroid/iOSの場合：1
 .ミーティング コントロールで省略記号「・・・」を
 タップします。2.[言語通訳] をタップします。3.聞きた
 い言語をタップします。4.（オプション）タップして [
 オリジナル オーディオをミュートにする] に切り替え
 ます。5.[完了] をクリックします。\nタイムスケジュー
 ル\n\n\n\n時間\n内容\nspeaker\n\n\n\n\n10：00～10：05\nオープ
 ニング\nC&R社\n\n\n10：05～10：50\n講演\nマット・ペンナ
 （Matt Penna）氏\n\n\n10：50～11：00\n質疑応答\n\n\n\n11：00
 ～\nクロージング\n\n\n\n\n※ 当日予告なく時間配分・内
 容が変更になる可能性がございます。\n登壇者\nマット
 ・ペンナ（Matt Penna）氏\nUXデザイナー/アートディレク
 ター\nBank of America、Disney、Berlitz、Volvo、ADPなどのブラ
 ンドで25年以上ユーザー体験デザイナーとして活躍し
 、受賞歴もあるアートディレクター。\n音楽制作、ウ
 ェブデザイン、コーチングの分野でいくつかのビジネ
 スを立ち上げている。\n\nUXTactical.com\n参加費\n無料\n参
 加対象者\nグラフィックデザイナーUI/UXデザイナーWebデ
 ザイナークリエイティブディレクターデザインに関わ
 るマーケティング担当者AIを活用した新しいワークフ
 ローに興味がある方\n当ウェビナーについて\n\nこちら
 のサイトからもお申込みいただくことができます。\n\n
 \n▼C&R社で実施しているオンライン講座・ウェビナー
 　一覧ページhttps://www.c-place.ne.jp/
LOCATION:
URL:https://techplay.jp/event/990263?utm_medium=referral&utm_source=ics&utm
 _campaign=ics
END:VEVENT
END:VCALENDAR
