BEGIN:VCALENDAR
VERSION:2.0
PRODID:-//https://techplay.jp//JP
CALSCALE:GREGORIAN
METHOD:PUBLISH
X-WR-CALDESC:リサーチ×AIが意思決定を変える―生活者の声
 を“深掘り×量的”に捉える次世代リサーチ―
X-WR-CALNAME:リサーチ×AIが意思決定を変える―生活者の声
 を“深掘り×量的”に捉える次世代リサーチ―
X-WR-TIMEZONE:Asia/Tokyo
BEGIN:VTIMEZONE
TZID:Asia/Tokyo
BEGIN:STANDARD
DTSTART:19700101T000000
TZOFFSETFROM:+0900
TZOFFSETTO:+0900
TZNAME:JST
END:STANDARD
END:VTIMEZONE
BEGIN:VEVENT
UID:990274@techplay.jp
SUMMARY:リサーチ×AIが意思決定を変える―生活者の声を“
 深掘り×量的”に捉える次世代リサーチ―
DTSTART;TZID=Asia/Tokyo:20260113T100000
DTEND;TZID=Asia/Tokyo:20260122T235900
DTSTAMP:20260421T091954Z
CREATED:20251218T074801Z
DESCRIPTION:イベント詳細はこちら\nhttps://techplay.jp/event/99027
 4?utm_medium=referral&utm_source=ics&utm_campaign=ics\n\nリサーチ×AI
 が意思決定を変える―生活者の声を“深掘り×量的”
 に捉える次世代リサーチ―\nマーケティングリサーチ
 は本来、企業の戦略を導く“羅針盤”の役割を担って
 います。しかし現場では、「手間」「スピード」「属
 人化」という壁が立ちはだかり、十分な深掘りや迅速
 な意思決定が難しいという声も少なくありません。\n
 本セミナーでは、従来のリサーチプロセスを分解し、A
 I活用によってどのように変わるのかをわかりやすく解
 説します。ポイントは、「AIが調査を置き換える」の
 ではなく、「AIがマーケターの思考と発見力を拡張す
 る」ということ。\n第1回となる今回は、楽天インサイ
 トが提供する“AIチャットインタビュー”を取り上げ
 、実際の活用例を交えながら、AIを活用した定性調査
 の新たな可能性と、意思決定の質を高める最新アプロ
 ーチをご紹介します。\nぜひご視聴ください。\n公開期
 間\n2026年1月13日（火）～1月22日（木）※セミナーは動
 画でのご提供となり、上記視聴期間内であれば、いつ
 でもお好きな時間にご覧いただくことが可能です。\n
 内容\n\nAI活用したマーケティング課題解決の解説\nAIチ
 ャットインタビュー概要、実際の活用シーンのご紹介\
 n得られた示唆を踏まえ、業務への具体的な導入方法を
 ご提案\n\n対象者\n\n調査業務の“手間・スピード・属
 人化”に課題を感じている方\nAI活用型リサーチの具体
 的な活用方法に関心のある方\n生活者理解・インサイ
 ト発掘をより効率的に行いたいマーケティング／リサ
 ーチ担当者の方\n商品企画/開発やマーケティング施策
 のヒントを得たい方\n\n参加費\n無料\n登壇者\n倉成 宣
 里（くらなり せんり）\n楽天インサイト株式会社AIソ
 リューション部 プロダクト担当\n2021年に楽天グループ
 へ入社。\n入社後は、ディスプレイ広告の運用型広告
 配信プラットフォーム「RMP - Display Ads」において、購
 買データを活用したレポーティング機能の企画・開発
 および広告運用を担当。\nその後、楽天市場に出店す
 る店舗向けの広告プロダクト「TDA-EXP」の新規リリース
 企画・開発に携わる。\n現在は、インサイト領域のAI関
 連プロダクト担当として、AIを活用した新たなマーケ
 ティング支援に取り組んでいる。\n\n\n注意事項\n\nお申
 し込みが完了しても、参加が確定したわけではありま
 せん。確定した方には、弊社より個別に連絡致します
 。（※1月9日（金）までにご連絡予定）\n競合にあたる
 会社様からのお申込みはご参加をお断りさせていただ
 く場合がございます。\n必ず所属されている会社・学
 校のメールアドレスにてお申込みください。フリーメ
 ールでのお申込みはご参加をお断りさせていただきま
 す。\n動画をご視聴いただいた皆様に後日、簡単なア
 ンケートをお送りさせていただきます。\n動画で説明
 した資料は、アンケートメールからダウンロードが可
 能ですので、アンケート回答へのご協力をお願いいた
 します。\nセミナーのご案内は以下のメールアドレス
 からお送りいたしますので、受信設定のほどよろしく
 お願いいたします。rr-seminar@insight.rakuten.net\nキャンセ
 ル待ち・補欠・落選の方はご参加いただくことが出来
 ませんのでご了承ください。\n欠席される場合は、お
 手数ですが速やかにキャンセル処理をお願い致します
 。\n無断キャンセルや欠席が続く場合、次回以降の参
 加をお断りさせていただく場合がございます。\n
LOCATION:
URL:https://techplay.jp/event/990274?utm_medium=referral&utm_source=ics&utm
 _campaign=ics
END:VEVENT
END:VCALENDAR
