BEGIN:VCALENDAR
VERSION:2.0
PRODID:-//https://techplay.jp//JP
CALSCALE:GREGORIAN
METHOD:PUBLISH
X-WR-CALDESC:バックオフィスDXカンファレンス AIをもっと活
 用するためにシステムと人財がともに進化する2日間
X-WR-CALNAME:バックオフィスDXカンファレンス AIをもっと活
 用するためにシステムと人財がともに進化する2日間
X-WR-TIMEZONE:Asia/Tokyo
BEGIN:VTIMEZONE
TZID:Asia/Tokyo
BEGIN:STANDARD
DTSTART:19700101T000000
TZOFFSETFROM:+0900
TZOFFSETTO:+0900
TZNAME:JST
END:STANDARD
END:VTIMEZONE
BEGIN:VEVENT
UID:990309@techplay.jp
SUMMARY:バックオフィスDXカンファレンス AIをもっと活用
 するためにシステムと人財がともに進化する2日間
DTSTART;TZID=Asia/Tokyo:20260127T100000
DTEND;TZID=Asia/Tokyo:20260128T150000
DTSTAMP:20260424T002518Z
CREATED:20251219T052806Z
DESCRIPTION:イベント詳細はこちら\nhttps://techplay.jp/event/99030
 9?utm_medium=referral&utm_source=ics&utm_campaign=ics\n\nタイトル：
  データの資産化で変革するバックオフィスDX ～非構
 造化データの構造化がもたらす"業務再構築"～登壇日
 時： 2025年1月27日（月）12:00〜12:30登壇者： 株式会社D
 ATAFLUCT 執行役員 石田 和也\n【このような方におすすめ
 】\n\n生成AIを導入したが、社内文書の活用が進まず効
 果を感じていないDX推進担当者\n紙やPDFの処理に追われ
 、創造的な業務に時間が割けないバックオフィス責任
 者\n「データ活用」と言われても、何から手をつけれ
 ばよいかわからない経営企画担当者\n\n■イベント概要
 \nAIを活かす“システム”と、使いこなす“人”の進化
 AI活用がもたらす変革は、ツールや技術だけでは完結
 しません。適切な業務設計・データ連携・ガバナンス
 といった「システムの土台」があってこそ、本領を発
 揮します。また、同時に、それを使いこなし、価値に
 変えられる「人の力」が問われます。本カンファレン
 スは、AI時代のバックオフィスに不可欠な**「システム
 」と「人財」2つの進化**に焦点を当てます。
LOCATION:
URL:https://techplay.jp/event/990309?utm_medium=referral&utm_source=ics&utm
 _campaign=ics
END:VEVENT
END:VCALENDAR
