BEGIN:VCALENDAR
VERSION:2.0
PRODID:-//https://techplay.jp//JP
CALSCALE:GREGORIAN
METHOD:PUBLISH
X-WR-CALDESC:【1/22（木）開催】【AI活用に悩むマネージャ
 ー必見！ 】Dataikuで始めるAIエージェント体験会
X-WR-CALNAME:【1/22（木）開催】【AI活用に悩むマネージャ
 ー必見！ 】Dataikuで始めるAIエージェント体験会
X-WR-TIMEZONE:Asia/Tokyo
BEGIN:VTIMEZONE
TZID:Asia/Tokyo
BEGIN:STANDARD
DTSTART:19700101T000000
TZOFFSETFROM:+0900
TZOFFSETTO:+0900
TZNAME:JST
END:STANDARD
END:VTIMEZONE
BEGIN:VEVENT
UID:990426@techplay.jp
SUMMARY:【1/22（木）開催】【AI活用に悩むマネージャー必
 見！ 】Dataikuで始めるAIエージェント体験会
DTSTART;TZID=Asia/Tokyo:20260122T120500
DTEND;TZID=Asia/Tokyo:20260122T130000
DTSTAMP:20260420T223540Z
CREATED:20251223T005716Z
DESCRIPTION:イベント詳細はこちら\nhttps://techplay.jp/event/99042
 6?utm_medium=referral&utm_source=ics&utm_campaign=ics\n\nイベント概
 要\nAI活用に課題を持つマネージャーの皆様へ、実践的
 な解決策をご紹介します！\n最新のAIプラットフォーム
  Dataiku を活用し、AIエージェントを「つくる流れ」と
 「使う体験」の両方を学べるハンズオンセミナー を開
 催いたします。\nAIエージェントの構築は講師が行うた
 め、事前知識や開発経験がなくても安心してご参加い
 ただけます。セミナー後半では、完成したAIエージェ
 ントがどのように機能するのかを御覧いただき、活用
 イメージを体験していただきます。\n✅ AIを業務に導
 入したいが、具体的な手順がわからない✅ 技術的なハ
 ードルを感じているが、実際にAI開発の流れを見たい
 ✅ ノーコードでAIエージェント開発の全体像を理解し
 たい✅ データ活用やAI活用体制の構築方法を知りたい\
 n本セミナーは、 AI活用推進に責任を持つマネージャー
 層 に特化した内容です。理論的な説明だけでなく「実
 務で活用できるAIエージェント構築」をテーマに、実
 際のビジネスシーンを想定したAIエージェントの作成
 の流れを見ていただき、自社内での活用イメージを持
 っていただきます。\n初心者の方も安心してご参加く
 ださい！\n注意事項\nイベントでは弊社のDataiku環境を
 使用するため、事前のインストールは不要です。Google 
 Meetでの画面共有と、参加者の方のDataiku画面を同時に
 表示する 2画面表示 を推奨いたします。※本セミナー
 は運営による品質改善のため、録画を行います。※同
 業他社さまにはご参加をご遠慮いただく場合がござい
 ます。申し訳ございませんが、ご理解のほどよろしく
 お願いいたします。\n日程\n2026年1月22日(木) 12:05-13:00\n
 当日のアジェンダ\n\nキーウォーカーについて（5分）\n
 Dataikuについて（5分）\n【ハンズオン】AIエージェント
 を作ってみよう！（40分）\nアンケート・QA（5分）\n\n
 ※ 時間は目安です。当日予告なく時間配分が変更にな
 る可能性がございます。※ 弊社の技術メンバーがサポ
 ート・質問対応させていただきます。\nイベントを通
 して達成できること\n\nAIエージェント開発の全体的な
 流れの理解\nノーコードで作成されたAIエージェントの
 使い勝手\nDataikuを活用した組織のAI活用体制構築のイ
 メージ習得\n\n詳細\n会場　　：オンライン参加費　：
 無料\n登録は、Techplay 本ページよりお願いいたします
 。皆さまのご参加を心よりお待ちしております。
LOCATION:
URL:https://techplay.jp/event/990426?utm_medium=referral&utm_source=ics&utm
 _campaign=ics
END:VEVENT
END:VCALENDAR
