BEGIN:VCALENDAR
VERSION:2.0
PRODID:-//https://techplay.jp//JP
CALSCALE:GREGORIAN
METHOD:PUBLISH
X-WR-CALDESC:【無料アーカイブ】2025/12/23-1/4 システム導入
 を成功に導く手法「CRP」とは
X-WR-CALNAME:【無料アーカイブ】2025/12/23-1/4 システム導入
 を成功に導く手法「CRP」とは
X-WR-TIMEZONE:Asia/Tokyo
BEGIN:VTIMEZONE
TZID:Asia/Tokyo
BEGIN:STANDARD
DTSTART:19700101T000000
TZOFFSETFROM:+0900
TZOFFSETTO:+0900
TZNAME:JST
END:STANDARD
END:VTIMEZONE
BEGIN:VEVENT
UID:990447@techplay.jp
SUMMARY:【無料アーカイブ】2025/12/23-1/4 システム導入を成
 功に導く手法「CRP」とは
DTSTART;TZID=Asia/Tokyo:20251223T170000
DTEND;TZID=Asia/Tokyo:20260104T170000
DTSTAMP:20260423T183556Z
CREATED:20251223T064444Z
DESCRIPTION:イベント詳細はこちら\nhttps://techplay.jp/event/99044
 7?utm_medium=referral&utm_source=ics&utm_campaign=ics\n\nいまや企業
 においてシステムなしに業務をまわすこと不可能な時
 代です。それにともない業務パッケージシステムも進
 化してきております。しかしながら、いまだにシステ
 ム導入においてトラブルが少なからず発生しています
 。\n品質（Q：Quality）：コスト（C：Cost）：納期（D：Del
 ivery）のトラブルを最小化できる導入手法CRP（Conference
  Room Pilot）について解説いたします。\nアーカイブ掲
 載日時\n2025年12月23日(火)～2026年1月4日（日）＊アーカ
 イブ視聴URLは、お申込みのメールアドレス宛に別途お
 送りいたします。\n対象\n中堅・中小企業の経営者・管
 理者・情報システム担当・各業務実務者の方（ご同業
 者の方のご視聴はお断りさせていただく場合がござい
 ます。あらかじめご了承ください。）\n内容\nシステム
 導入手法CRP（Conference Room Pilot）について解説いたし
 ます。\n［注意事項］・同じ企業様、複数名での受講
 を希望される場合は、必ず参加希望者全員のお申し込
 みをお願いいたします。・弊社にて競合先と判断させ
 ていただいた方は参加をお断りさせていただく場合が
 ございます。
LOCATION:
URL:https://techplay.jp/event/990447?utm_medium=referral&utm_source=ics&utm
 _campaign=ics
END:VEVENT
END:VCALENDAR
