BEGIN:VCALENDAR
VERSION:2.0
PRODID:-//https://techplay.jp//JP
CALSCALE:GREGORIAN
METHOD:PUBLISH
X-WR-CALDESC:（録画配信）SFAがあれば、名刺管理ツールは
 いらない！シンプルかつ低コストで実現する名刺登録
 術
X-WR-CALNAME:（録画配信）SFAがあれば、名刺管理ツールは
 いらない！シンプルかつ低コストで実現する名刺登録
 術
X-WR-TIMEZONE:Asia/Tokyo
BEGIN:VTIMEZONE
TZID:Asia/Tokyo
BEGIN:STANDARD
DTSTART:19700101T000000
TZOFFSETFROM:+0900
TZOFFSETTO:+0900
TZNAME:JST
END:STANDARD
END:VTIMEZONE
BEGIN:VEVENT
UID:990777@techplay.jp
SUMMARY:（録画配信）SFAがあれば、名刺管理ツールはいら
 ない！シンプルかつ低コストで実現する名刺登録術
DTSTART;TZID=Asia/Tokyo:20260129T110000
DTEND;TZID=Asia/Tokyo:20260129T113000
DTSTAMP:20260422T153241Z
CREATED:20260105T064956Z
DESCRIPTION:イベント詳細はこちら\nhttps://techplay.jp/event/99077
 7?utm_medium=referral&utm_source=ics&utm_campaign=ics\n\nSFAがあれば
 、名刺管理ツールはいらない！シンプルかつ低コスト
 で実現する名刺登録術\nセミナー概要\n多くの企業で導
 入されている「名刺管理ツール」。しかし、運用して
 いく中で、以下のような「3つのモヤモヤ」を感じては
 いませんか？\n①コストの課題名刺枚数や従業員数に
 応じた「従量課金制」のため、年々コストが割高にな
 っている。\n② 活用の課題一部の営業しか使っていな
 いことに加え、名刺データが登録されずに売上アップ
 の機会損失に\n③ 機能の課題高機能ではあるが、実態
 としては「ただのアドレス帳」になっており、機能を
 使いこなせていない。\n実は、私たち自身も全く同じ
 悩みを抱えていました。\nそこで当社は思い切って、
 名刺管理ツールを使わずに、 SFA（営業支援システム）
 を中心としたシンプルな仕組みへと切り替えを行いま
 した。\nその結果、年間数百万円のコスト削減に成功
 。 さらに、データがSFAに集約されたことで全社的な活
 用が進み、部門を超えて営業活動の幅を広げることに
 も繋がりました。\n本ウェビナーでは、高機能な名刺
 管理ツールとコスト・機能を比較した上で、「本当に
 必要な機能に絞り、SFAを中心とした低コスト運用に切
 り替える方法」について、包み隠さずご紹介します。\
 nこんな方におすすめ\n\n名刺管理ツールのコストが増
 え続けており、削減を検討している方\n名刺データを
 「管理」するだけでなく、全社的な「資産」として売
 上に繋げたい方\n「高機能なツールを入れたが、使い
 こなせていない」と感じている方こんな方におすすめ\
 n\nスピーカー紹介\n高坂 翼 ／ 株式会社スリーシェイ
 ク　Reckoner事業部　セールスチーム\n2020年4月、インタ
 ーネット広告事業を展開する企業に新卒入社。法人営
 業として、スタートアップから中堅企業を中心にアフ
 ィリエイト広告の運用支援に従事し、WEBマーケティン
 グを通じた顧客の成長をサポート。2024年5月より株式
 会社スリーシェイクのReckonerセールスとしてジョイン
 。\n注意事項\n\n本セミナーは法人のお客様限定となり
 ます。また、同業者様のお申込みはお断りさせていた
 だく場合がございます。\n視聴URLは別途メールにてお
 送りいたします。\n本セミナーは録画配信となります
 。\n
LOCATION:
URL:https://techplay.jp/event/990777?utm_medium=referral&utm_source=ics&utm
 _campaign=ics
END:VEVENT
END:VCALENDAR
