BEGIN:VCALENDAR
VERSION:2.0
PRODID:-//https://techplay.jp//JP
CALSCALE:GREGORIAN
METHOD:PUBLISH
X-WR-CALDESC:【新規事業担当者必見!!】未来を覗けるスター
 トアップピッチイベント 【earthkey pitch vol.204】
X-WR-CALNAME:【新規事業担当者必見!!】未来を覗けるスター
 トアップピッチイベント 【earthkey pitch vol.204】
X-WR-TIMEZONE:Asia/Tokyo
BEGIN:VTIMEZONE
TZID:Asia/Tokyo
BEGIN:STANDARD
DTSTART:19700101T000000
TZOFFSETFROM:+0900
TZOFFSETTO:+0900
TZNAME:JST
END:STANDARD
END:VTIMEZONE
BEGIN:VEVENT
UID:990873@techplay.jp
SUMMARY:【新規事業担当者必見!!】未来を覗けるスタート
 アップピッチイベント 【earthkey pitch vol.204】
DTSTART;TZID=Asia/Tokyo:20260128T155000
DTEND;TZID=Asia/Tokyo:20260128T170000
DTSTAMP:20260423T074932Z
CREATED:20260107T025551Z
DESCRIPTION:イベント詳細はこちら\nhttps://techplay.jp/event/99087
 3?utm_medium=referral&utm_source=ics&utm_campaign=ics\n\n本ピッチイ
 ベントの視聴申込は以下よりご登録ください！1回の申
 込で視聴できるようになりました。https://us02web.zoom.us/w
 ebinar/register/7317648140799/WN_Sz8m_pMcRLaeasjt7GfSTQ\n※Zoomページ
 に遷移します※イベント品質向上・および登壇企業へ
 的確な情報をお伝えするために、お申し込みの際は「
 氏名」「メールアドレス」「御社名」欄等に、正確な
 情報をご記入いただくよう、ご協力をお願いいたしま
 す。\n\nイベント概要\nearthkeyが主催するオープンイノ
 ベーションイベントです。\n業界業種にこだわらず、
 毎週5社の新進気鋭のシード・アーリーステージのスタ
 ートアップ企業が、事業会社との共創や投資家との出
 会いを目的に登壇します。業界を越えた業務提携や資
 本提携など毎回数々のマッチングが生まれる場です。
 事業会社の方は参加いただくことで、自社の新規事業
 の推進や自社課題（ワークフローのデジタル化など）
 の解決、クライアントへの付加価値提案などのアイデ
 アを得ることができます。当イベントは、業界業種に
 縛られないセレンディピティ（偶然の出会い）の場を
 大切にしています。\n\n相性の良い参加者像\n・事業会
 社（新規、既存事業推進者・経営企画室）・ベンチャ
 ーキャピタル・コーポレートベンチャーキャピタル・
 メディア関係会社\n＊過去参加企業（敬称略）伊藤忠
 商事、三井物産、NEC、三井住友FG、みずほ銀行、凸版
 印刷、電通、JCB、フジテレビジョン、​三井住友海上
 、京セラ、楽天、日清紡HD、東芝、ALSOK 、GMOTECH、京浜
 急行電鉄、東京建物、富士通、DNP、参天製薬、等\n\nタ
 イムスケジュール\n15:45- zoomLIVE配信開始15:50- イベント
 運営紹介、ピッチ概要説明16:00- 株式会社e-PON16:11-  株
 式会社ネクサフロー16:22- 株式会社MycoGenome16:33- GOMIソリ
 ューションズ株式会社16:44- Upmind株式会社16:55- クロー
 ジング17:00- 終了\n\n参加（視聴）費用・視聴方法\n無料
 でご視聴いただけます。以下のURLよりお申し込みくだ
 さい！https://us02web.zoom.us/webinar/register/7317648140799/WN_Sz8m_p
 McRLaeasjt7GfSTQ\n※Zoomページに遷移します\n\nイベントに
 ついての注意事項\n※登壇企業さま・弊社との事業が
 競合する企業さま、事業会社に属されていない方から
 のお申し込みをお断りする場合がございます※タイム
 スケジュールや登壇社は予告なく変更になる場合がご
 ざいます※参加者の企業名・部門名のみ、プレゼンテ
 ーションの質向上のため登壇企業さまへ共有すること
 がございます※本イベントはZoom（ウェビナー）を活用
 したフルオンラインのLIVE配信となります為、当日配信
 品質の問題が発生する可能性がございます。何卒ご了
 承くださいませ\n\n登壇企業及び登壇者のご紹介\nSEEDER
 株式会社　( https://lp.seeder.inc/ )代表取締役　村田 寛治 
 氏\nサービス紹介FutureStore\nアイデア発想のDXを支援。20
 00件超のトレンド分析と300群・500人の生活者調査を基
 盤に、4万カテゴリ・100万個のアイデアを生成するAIデ
 ータベースで商品・事業開発を加速化。\n意気込み・PR
 未来を洞察し社会実装へつなぎ、生活者の進化を促し
 ます。\n‾‾‾‾‾‾‾‾‾‾‾‾‾‾‾‾‾‾‾‾
 ‾‾‾‾‾‾‾‾‾‾‾‾‾‾‾‾‾‾‾‾‾‾‾‾
 ‾‾‾‾‾‾‾‾‾‾株式会社amoibe　( https://amoibe.co.jp
 / )代表取締役CEO　新條 隼人 氏\n一橋大学卒業後、新卒
 で後にユニコーンとなる数十名フェーズの決済ベンチ
 ャーに入社。法人営業・採用・育成マネジメントを経
 て2014年1月に株式会社ドットライフを創業。2022年末ま
 でコンテンツマーケティング事業を展開し、黒字化・
 事業譲渡を経験。2023年1月より事業領域の変更を経て
 再創業。\nサービス紹介amoibe OJT\nAIメンターと仮想環境
 を用いてOJTをDX化したサービスです。実務に近い疑似
 体験を通じて現場のソフトスキルも習得。AIメンター
 が上司役を代行するため、現場の工数をかけずに即戦
 力を育てられます。AI駆動開発コースやPM育成コースも
 あります。\n意気込み・PR仮想環境OJT×AIメンターで、AI
 人材の現場活躍を伴走します\n‾‾‾‾‾‾‾‾‾‾
 ‾‾‾‾‾‾‾‾‾‾‾‾‾‾‾‾‾‾‾‾‾‾‾‾
 ‾‾‾‾‾‾‾‾‾‾‾‾‾‾‾‾‾‾‾‾株式会社F
 LIGHTS　( https://flightsinc.jp/ )取締役 CFO　芳賀 英樹 氏\nサ
 ービス紹介土木分野向けの計測、維持管理サービス\n
 ３次元技術をベースに公共測量や橋梁点検、施工管理
 などのハードウェアおよび業務支援ソフトウェアを提
 供しており、建築、不動産、工場などの３次元化の案
 件の問い合わせも増加中\n意気込み・PR土木分野を中心
 に、建築、不動産、工場などの3次元化ソリューション
 に強みを有しております！\n‾‾‾‾‾‾‾‾‾‾‾
 ‾‾‾‾‾‾‾‾‾‾‾‾‾‾‾‾‾‾‾‾‾‾‾‾
 ‾‾‾‾‾‾‾‾‾‾‾‾‾‾‾‾‾‾‾株式会社Boce
 k　( https://bocek.co.jp )CEO　沖村 昂志 氏\nサービス紹介Tas
 khub\nAIエージェント\, ワークフローを用いてAIアプリを
 ノーコード開発できる生成AIアプリプラットフォーム\n
 意気込み・PRお客様に寄り添った「本当に浸透する生
 成AIツール」を作っています！よろしくお願いいたし
 ます。\n‾‾‾‾‾‾‾‾‾‾‾‾‾‾‾‾‾‾‾‾
 ‾‾‾‾‾‾‾‾‾‾‾‾‾‾‾‾‾‾‾‾‾‾‾‾
 ‾‾‾‾‾‾‾‾‾‾インキュベーター株式会社　( ht
 tps://incubater.co.jp/⁩ )代表取締役　八並 嶺一 氏\nエンタ
 ープライズセールス領域での実務経験と、AIを活用し
 た営業支援SaaSの立ち上げ・運営を行う。大手企業営業
 支援サービス「アカマネ」を提供している。\nサービ
 ス紹介アカマネ\n大手企業営業に必要なアカウント情
 報をAIで収集・整理し、アカウントプラン作成からア
 プローチ設計までを支援するエンタープライズセール
 ス向けSaaS。「テクノロジー」「実行力」「教育」でエ
 ンタープライズセールスを支援します。\n意気込み・PR
 大企業営業（エンプラセールス）なら、「アカマネ」
 ！エンプラセールス市場でNo1を取りに行きます！\n\near
 thkey pitch スポンサー企業ご紹介\n一般社団法人　科学
 技術と経済の会　( https://www.jates.or.jp )科学技術と経済
 の調和を図るための研究・調査を実施している社団法
 人。また、産学官の連携を促進し、技術革新を推進し
 ています。シンポジウムやセミナーを開催し、知識の
 普及と啓発に取り組みこれらの活動を通じて科学技術
 の発展と経済の成長に貢献しています。\n\n主催企業\n
 株式会社アースキーオープンイノベーションをテーマ
 に、スタートアップと⼤⼿企業のマッチングを⾏って
 います。主な活動としては業種業界問わず、魅⼒的な
 シード、アーリーステージのスタートアップ企業が毎
 週5社、ピッチするイベント“earthkey pitch”を運営して
 おります。これまでに850社以上の新進気鋭のスタート
 アップ企業が登壇しており、直近3回のイベントでは平
 均100名の事業会社・ベンチャーキャピタル・地方自治
 体の方々にご参加いただいています。イベントでは、
 業務提携や資本提携など毎回数々のマッチングが⽣ま
 れています。イベント以外にも⼤⼿企業向けの新規事
 業開発⽀援、DX推進支援を⾏っております。\nHP▶︎http
 s://earthkey.co.jpearthkey pitchへの登壇を検討しているスタ
 ートアップ企業へ▶︎earthkey pitch https://www.earthkey-pitch.
 com多数の協業アイデアを得たい大手企業へ▶︎earthkey r
 everse pitch  https://www.earthkey-open-innovation.com過去登壇企業
 の一覧はこちら▶︎https://earthkey.events/startup/
LOCATION:
URL:https://techplay.jp/event/990873?utm_medium=referral&utm_source=ics&utm
 _campaign=ics
END:VEVENT
END:VCALENDAR
