BEGIN:VCALENDAR
VERSION:2.0
PRODID:-//https://techplay.jp//JP
CALSCALE:GREGORIAN
METHOD:PUBLISH
X-WR-CALDESC:アナログ企業でも大丈夫！ 助成金を使って「
 安く・賢く」生成AIを使える会社に変える
X-WR-CALNAME:アナログ企業でも大丈夫！ 助成金を使って「
 安く・賢く」生成AIを使える会社に変える
X-WR-TIMEZONE:Asia/Tokyo
BEGIN:VTIMEZONE
TZID:Asia/Tokyo
BEGIN:STANDARD
DTSTART:19700101T000000
TZOFFSETFROM:+0900
TZOFFSETTO:+0900
TZNAME:JST
END:STANDARD
END:VTIMEZONE
BEGIN:VEVENT
UID:990980@techplay.jp
SUMMARY:アナログ企業でも大丈夫！ 助成金を使って「安く
 ・賢く」生成AIを使える会社に変える
DTSTART;TZID=Asia/Tokyo:20260127T140000
DTEND;TZID=Asia/Tokyo:20260127T144500
DTSTAMP:20260425T150540Z
CREATED:20260109T021209Z
DESCRIPTION:イベント詳細はこちら\nhttps://techplay.jp/event/99098
 0?utm_medium=referral&utm_source=ics&utm_campaign=ics\n\nこんな方に
 オススメ\n\n決裁担当者、経営層の方向け\n生成AIをあ
 まり使えてない方、まだ使ってない方\nこれから研修
 など検討の方※既に生成AIをご活用中の方向けではあ
 りません\n\nセミナー概要\n生成AIが話題になる一方で
 、「習得が難しそう」「手間がかかりそうで踏み出せ
 ない」そのように感じている中小企業も多くあります
 。\n実際には、AIの知識量よりも“姿勢”の違いが成果
 を分け始めています。AIを“置き換え”ではなく、業
 務を支える“拡張ツール”として使えるかどうか。こ
 の姿勢が、今後の競争力に影響すると言われています
 。\n本セミナーでは、「AIは特別なスキルがないと使え
 ない」という思い込みをやわらげ、現場で役立つ生成A
 I活用の始め方を、実例を交えてわかりやすく紹介しま
 す。さらに、スターティアレイズ社内でも実際に利用
 しているGoogleの生成AIツール「NotebookLM」のデモも実施
 します。資料作成・要約・情報整理など、日々の業務
 にどう役立てられるかを、実際の画面を見ながら体験
 いただけます。\nまた、助成金を活用することでAI研修
 を低コストで導入できる方法もご紹介します。「教育
 に費用がかけられない」「導入したものの定着しなか
 った」という企業にもお役立ていただける内容です。\
 n生成AIに関する社員教育にまだ着手できていない方、
 費用面が理由で踏み切れなかった企業の方も、ぜひお
 気軽にご参加ください。\n講師紹介\nスターティアレイ
 ズ株式会社代表取締役社長　鈴木 健太\n■経歴2003年ス
 ターティアに営業として入社。2005年ネットワークエン
 ジニアに転身し、エンジニア部隊を立ち上げ。セキュ
 リティ製品、NW機器選定やサービス企画等を行いつつ
 、NWの設計から構築まで携わり、NWセキュリティ関連の
 エバンジェリストとしても活躍。2018年にはグループ会
 社としてスターティアレイズ株式会社が発足し、その
 中の業務自動化ソリューション部にてRPAコンサルタン
 トとして従事。その後、事業部長としてRPA領域での支
 援に加え、新サービスの企画にも取り組む。2025年より
 代表取締役社長に就任。\nセミナー詳細\n\n\n\n\n\n\n\n\n\n
 タイトル\nアナログ企業でも大丈夫！助成金を使って
 「安く・賢く」生成AIを使える会社に変える\n\n\n日時\n
 2026年1月27日(火) 14:00～14:45\n\n\n受講料\n無料\n\n\n主催\n
 スターティアレイズ株式会社\n\n\n\n・お申込みいただ
 いた際に、Zoom登録用URLをご登録いただいたメールアド
 レスに送付致します。・セミナー当日のご参加も可能
 です。・プログラムは、都合により予告無く変更する
 場合がございます。・ユーザー企業様向けのセミナー
 の為、同業者様のご参加はお断りさせていただく場合
 がございます。\nセミナープログラム\n\nAI格差社会の
 到来\nAI活用法デモ\n生成AI研修の必要性\n助成金につい
 て\nまとめ\n
LOCATION:
URL:https://techplay.jp/event/990980?utm_medium=referral&utm_source=ics&utm
 _campaign=ics
END:VEVENT
END:VCALENDAR
