BEGIN:VCALENDAR
VERSION:2.0
PRODID:-//https://techplay.jp//JP
CALSCALE:GREGORIAN
METHOD:PUBLISH
X-WR-CALDESC:【Qlik 医療データ活用勉強会】医療の質可視化
 アプリの公開－その２－
X-WR-CALNAME:【Qlik 医療データ活用勉強会】医療の質可視化
 アプリの公開－その２－
X-WR-TIMEZONE:Asia/Tokyo
BEGIN:VTIMEZONE
TZID:Asia/Tokyo
BEGIN:STANDARD
DTSTART:19700101T000000
TZOFFSETFROM:+0900
TZOFFSETTO:+0900
TZNAME:JST
END:STANDARD
END:VTIMEZONE
BEGIN:VEVENT
UID:991165@techplay.jp
SUMMARY:【Qlik 医療データ活用勉強会】医療の質可視化ア
 プリの公開－その２－
DTSTART;TZID=Asia/Tokyo:20260128T180000
DTEND;TZID=Asia/Tokyo:20260128T190000
DTSTAMP:20260420T012937Z
CREATED:20260115T045455Z
DESCRIPTION:イベント詳細はこちら\nhttps://techplay.jp/event/99116
 5?utm_medium=referral&utm_source=ics&utm_campaign=ics\n\n【Qlik 医療
 データ活用勉強会】医療の質可視化アプリの公開－そ
 の２－\n★18時開始となっています。ご注意ください。
 \n2026年もよろしくお願いいたします！2026年初回の勉強
 会では、昨年に引き続き、医療の質可視化アプリを取
 り上げます。\nDPCデータを取り込むだけで、医療の質
 の9指標（"医療安全"、"感染管理"、"ケア"）の詳細が把
 握できるアプリの作成を行っていますが、試作したア
 プリでのデータ取り込みのテストを終え、それぞれの
 指標を表示するダッシュボードも作成しました。今回
 の勉強会では自院のDPCデータの取り込み方や作成した
 画面をご紹介します。勉強会のあとにはアプリを公開
 しますので、ぜひ自院のDPCデータでお試しください。\
 nそして、Qlikのラスベガスでの2026年キックオフイベン
 トから持ち帰った最新情報もお届けします。\n皆様、
 お楽しみに！\n\n出来合いの分析では物足りない、あん
 なこと、こんなこといろいろとアイデアを出し合って
 試してみましょう！事前にQlik Japan Healthcare Communityにテ
 ーマに沿った質問をにあげていただいたり、個別にご
 質問をいただければ、フィードバックコーナーで取り
 上げ、こういうデータの分析をしたいに応えるQlik Sense
 でのアプローチをご紹介します。ご質問、ご要望、ど
 んどんお寄せください。\n★これまでの勉強会はこち
 らからご覧いただけます。Qlikヘルスケア勉強会\nアジ
 ェンダ：1. 勉強会の趣旨2. Qlik Senseとは3.フィードバッ
 クコーナー4. 前回の振り返り5. Qlik 2026年キックオフ最
 新情報6. 医療の質可視化アプリの公開－その２－7. Q&A8
 . 次回取り上げるテーマ\nファシリテーター\n\n村田　
 太郎クリックテック・ジャパン株式会社エンタープラ
 イズ営業部　公共/医療担当（医療情報技師）\nQlikに入
 社して10年、公共・ヘルスケア分野を中心に営業活動
 を実施。Communityサイトに、Qlik Healthcare Japanグループを
 立ち上げ、業界に役立つ情報を発信しています。自分
 でQlikアプリも作成してしまうクールな知性派(?)。Awesom
 e City Clubとレッチリをこよなく愛するもんじゃの街の
 住人。\n参加対象\n医療関係者でデータ活用にご興味が
 ある方、またQlik をご利用いただいている方、どなた
 でもご参加いただけます。お気軽にご参加ください。
 事前に下記よりQlik Sense 入門ハンズオンWebセミナーを
 ご利用いただいてご体験頂くと、さらに当セミナーの
 内容をご活用いただけます。Qlik Sense 入門 ハンズオン 
 Web セミナー\n事前準備\nZoom（Web会議ツール）を使用し
 ます。あらかじめご利用のPCやタブレット、スマート
 フォンにインストールをお願いします。当セミナーのU
 RLはお申込みいただいた方に表示されます。お申し込
 み後は当ページからご参加いただけます。\n参加費\n無
 料
LOCATION:
URL:https://techplay.jp/event/991165?utm_medium=referral&utm_source=ics&utm
 _campaign=ics
END:VEVENT
END:VCALENDAR
