BEGIN:VCALENDAR
VERSION:2.0
PRODID:-//https://techplay.jp//JP
CALSCALE:GREGORIAN
METHOD:PUBLISH
X-WR-CALDESC:新規事業をゼロから立ち上げるための「最初
 の一歩」を知りたい方へひらめきをムダにしない3つの
 極意
X-WR-CALNAME:新規事業をゼロから立ち上げるための「最初
 の一歩」を知りたい方へひらめきをムダにしない3つの
 極意
X-WR-TIMEZONE:Asia/Tokyo
BEGIN:VTIMEZONE
TZID:Asia/Tokyo
BEGIN:STANDARD
DTSTART:19700101T000000
TZOFFSETFROM:+0900
TZOFFSETTO:+0900
TZNAME:JST
END:STANDARD
END:VTIMEZONE
BEGIN:VEVENT
UID:991219@techplay.jp
SUMMARY:新規事業をゼロから立ち上げるための「最初の一
 歩」を知りたい方へひらめきをムダにしない3つの極意
DTSTART;TZID=Asia/Tokyo:20260219T140000
DTEND;TZID=Asia/Tokyo:20260219T150000
DTSTAMP:20260423T112710Z
CREATED:20260116T002945Z
DESCRIPTION:イベント詳細はこちら\nhttps://techplay.jp/event/99121
 9?utm_medium=referral&utm_source=ics&utm_campaign=ics\n\n【大好評に
 つき再度開催決定！】新規事業をゼロから立ち上げる
 ための「最初の一歩」を知りたい方へひらめきをムダ
 にしない3つの極意【無料/1日限定・ウェビナー】━━
 ━━━━━━━━━━━━━━━━━━━●開催背景
 変化が加速する現代において、企業が存続し成長し続
 けるには、新たな価値創造、すなわち新規事業への挑
 戦が不可欠です。しかし、新規事業の成功率はわずか1
 0〜20%と低く、42%が「市場ニーズがない」という落とし
 穴に陥っています 。・新規事業をやりたいけど、何か
 ら手をつけていいかわからない・良いアイデアを企画
 倒れで終わらせたくない本ウェビナーは、こうした迷
 いや不安を打ち破るためのものです。長寿企業に学ぶ
 変革時代を生き抜く本質的な考え方を提言し、なぜ多
 くの企業が正しい手法を知りながらも失敗するのかと
 いう根本的な課題を解き明かします。失敗のサイクル
 を断ち切り、ひらめきをムダにしないために必要な「
 最初の一歩」と「確実な行動手順」を解説します。事
 業実現へのロードマップを探している方は、ぜひご参
 加ください。━━━━━━━━━━━━━━━━━━
 ━━━●このセミナーをおすすめしたい方・新規事業
 に取り組みたいが、何から手をつければいいか分から
 ない経営者様・ご担当者様・新規事業開発のトレンド
 を知りたい経営者様・ご担当者様━━━━━━━━━
 ━━━━━━━━━━━━●前回ご参加いただいた方
 の声「話がとても分かり易かったです。 セミナーを受
 講し、自分が現在抱えている課題が解決出来そうです
 。」━━━━━━━━━━━━━━━━━━━━━●
 登壇者情報大橋 愛株式会社オルアナ　専務取締役経営
 者向け経理スクールの運営、経理コンサルタント、ス
 タートアップ企業での勤務を経て当社を設立。事業計
 画の立案から実行・推進までの一貫した支援に強みを
 持つ。長年の経験で培ったデータ分析力を活かした、
 論理的に裏付けされた戦略構築でお客様の支援を行っ
 ている。
LOCATION:
URL:https://techplay.jp/event/991219?utm_medium=referral&utm_source=ics&utm
 _campaign=ics
END:VEVENT
END:VCALENDAR
