BEGIN:VCALENDAR
VERSION:2.0
PRODID:-//https://techplay.jp//JP
CALSCALE:GREGORIAN
METHOD:PUBLISH
X-WR-CALDESC:〈特別ご招待〉2月26日（木）開催オンライン
 セミナー【Salesforce CTA（認定テクニカルアーキテクト
 ）×中途入社のコンサルタント】現場で磨かれるアー
 キテクトの視点とキャリア＜Accenture＞
X-WR-CALNAME:〈特別ご招待〉2月26日（木）開催オンライン
 セミナー【Salesforce CTA（認定テクニカルアーキテクト
 ）×中途入社のコンサルタント】現場で磨かれるアー
 キテクトの視点とキャリア＜Accenture＞
X-WR-TIMEZONE:Asia/Tokyo
BEGIN:VTIMEZONE
TZID:Asia/Tokyo
BEGIN:STANDARD
DTSTART:19700101T000000
TZOFFSETFROM:+0900
TZOFFSETTO:+0900
TZNAME:JST
END:STANDARD
END:VTIMEZONE
BEGIN:VEVENT
UID:991829@techplay.jp
SUMMARY:〈特別ご招待〉2月26日（木）開催オンラインセミ
 ナー【Salesforce CTA（認定テクニカルアーキテクト）×中
 途入社のコンサルタント】現場で磨かれるアーキテク
 トの視点とキャリア＜Accenture＞
DTSTART;TZID=Asia/Tokyo:20260226T190000
DTEND;TZID=Asia/Tokyo:20260226T200000
DTSTAMP:20260423T182007Z
CREATED:20260130T073744Z
DESCRIPTION:イベント詳細はこちら\nhttps://techplay.jp/event/99182
 9?utm_medium=referral&utm_source=ics&utm_campaign=ics\n\nいつも大変
 お世話になっております、アクセンチュア採用担当で
 ございます。2月26日(木)に開催されるアクセンチュア
 のテクノロジーコンサルティング本部主催にてキャリ
 アイベントをご案内させていただきます。実際に働く
 社員の声を聴いてみたい！プロジェクトの内容を聞い
 てみたい！という方はぜひ、ご返信・ご応募をお願い
 します。※ご返信・ご応募いただけた方へ当日の参加
 申し込みリンクをご案内いたします。\n◆イベント名
 ：【Salesforce CTA（認定テクニカルアーキテクト）×中途
 入社のコンサルタント】現場で磨かれるアーキテクト
 の視点とキャリア◆開催日：2月26日（木）19時00分～20
 時00分　◆実施方法Teams オンラインでの実施◆参加登
 録方法： 参加登録方法に関しては本メッセージへご返
 信いただいた方・本求人票へご応募いただいた方に別
 途ご案内いたします。\n◆イベント紹介：CTAとして専
 門性の高い役割を担う中で感じてきた難しさや視点の
 変化、また、中途入社という立場から新しい環境に適
 応していく中での試行錯誤などを交えながら、アーキ
 テクトとしてどのように視野や役割が広がっていった
 のかを、実体験ベースで共有していきます。特定のサ
 ービス紹介や採用説明を主目的とした場ではなく、あ
 くまで現場での経験や考え方を共有することで、アー
 キテクトとしての成長やキャリアの広げ方を考えるた
 めのヒントをお持ち帰りいただくことを目指していま
 す。Salesforce／CRM領域で専門性を深めたい方や、将来的
 にアーキテクトとしてより大きな価値創出に関わって
 いきたい方にとって、今後を考えるきっかけとなる場
 となれば幸いです。※本セミナーの参加に際し、業界
 経験及び応募意思不問です。※セミナーご入室時に表
 示名をイニシャルに設定していただきますので、匿名
 性の高い質問受付方法で当日質問を回収するため、質
 問も大変しやすいイベントです。※途中入退出可能＆
 服装自由！応募意思不問なカジュアルなイベントです
 。ラジオ感覚で、通勤中・家事中に耳だけの参加でも
 構いません。\n◆参加対象者・SalesforceやSaaS領域にご興
 味がある方・SIer/事業会社で開発経験があり「上流・
 提案・顧客変革」に寄せたい方・エンジニアのキャリ
 アに関する情報収集をし、次の成長ステージのヒント
 を探している方\n◆プログラム構成【第一部】19:00~19:30
  会社・組織紹介【第二部】19:30~19:55 パネルディスカッ
 ション【クロージング】19:55~20:00※予告なく変更する
 場合があります。皆さまのご参加をお待ちしておりま
 す。何卒よろしくお願い申し上げます。アクセンチュ
 ア中途採用チーム
LOCATION:
URL:https://techplay.jp/event/991829?utm_medium=referral&utm_source=ics&utm
 _campaign=ics
END:VEVENT
END:VCALENDAR
