BEGIN:VCALENDAR
VERSION:2.0
PRODID:-//https://techplay.jp//JP
CALSCALE:GREGORIAN
METHOD:PUBLISH
X-WR-CALDESC:【好評につき再講義！】エンジニア視点で学
 ぶAI×上流工程スキルアップ勉強会 女性エンジニア歓
 迎！
X-WR-CALNAME:【好評につき再講義！】エンジニア視点で学
 ぶAI×上流工程スキルアップ勉強会 女性エンジニア歓
 迎！
X-WR-TIMEZONE:Asia/Tokyo
BEGIN:VTIMEZONE
TZID:Asia/Tokyo
BEGIN:STANDARD
DTSTART:19700101T000000
TZOFFSETFROM:+0900
TZOFFSETTO:+0900
TZNAME:JST
END:STANDARD
END:VTIMEZONE
BEGIN:VEVENT
UID:992038@techplay.jp
SUMMARY:【好評につき再講義！】エンジニア視点で学ぶAI×
 上流工程スキルアップ勉強会 女性エンジニア歓迎！
DTSTART;TZID=Asia/Tokyo:20260218T190000
DTEND;TZID=Asia/Tokyo:20260218T200000
DTSTAMP:20260422T152316Z
CREATED:20260205T025327Z
DESCRIPTION:イベント詳細はこちら\nhttps://techplay.jp/event/99203
 8?utm_medium=referral&utm_source=ics&utm_campaign=ics\n\n好評につき
 、再講義が決定！\n1月開催時には、参加者の約90％が
 「満足・大変満足した」と感じた大好評企画を、アン
 コール開催！\n生成AIを「実装を楽にする道具」で終わ
 らせず、要件を整理し、仕様を決め、意思決定を前に
 進めるための相棒として使う視点をつかみます。\n実
 装経験を武器に、AI時代に価値が伸び続ける「上流工
 程×PMスキル」へ踏み出す一歩を、一緒に踏み出しまし
 ょう！\nこの機会をお見逃しなく！\nWAKE Career は、女性
 エンジニアの挑戦を全力で応援しています\nWAKE Careerの
 ミッションは、「”なりたい”を解放する」。\nIT業界
 のジェンダーギャップを解消し、コミュニティで横の
 つながりを増やし、キャリア支援で縦のキャリアパス
 を支えることで、女性エンジニアが希望のキャリアを
 実現して長く活躍できるような取り組みを進めていま
 す。\nその一環として、「新しい領域を学びたい」「
 もっとスキルを高めたい」を応援するため、定期的に
 勉強会・トークイベントを開催しています！\n女性エ
 ンジニアの次のチャレンジを後押しします\nこのイベ
 ントは、「女性たちにもっと新しい技術にチャレンジ
 してほしい！」 という想いで開催します！\n生成AIや
 エージェント技術は、これからの開発現場で必須にな
 る領域です。しかし、新しい分野に踏み出すとき、女
 性エンジニアが少数派になりがちな現状では、挑戦を
 ためらう場面がまだ多くあります。\n本イベントは、
 女性エンジニアのみなさんが安心して新しい技術に挑
 戦できるために用意した学びの場です。一般的に技術
 勉強会やワークショップの参加者は男性に偏りがちで
 すが、WAKE Career主催だからこそ、心理的安全性の高い
 環境で学習できます。AI領域をリードする側のジェン
 ダーギャップが生まれないよう、女性エンジニアがし
 っかりとスキルを高められる機会を提供します。\n一
 緒に、「やってみたい」を「やれた、次もやれる！」
 に変えていきましょう！\n女性エンジニア歓迎！【エ
 ンジニア視点で習得する「AI×上流工程」スキルアップ
 勉強会】\n― 仕様を“決める力”をAIで拡張するスキ
 ルアップ勉強会 ―\n「コードを書く」の次は、“何を
 作るかを決め、判断を前に進める”フェーズへ。\n生
 成AIの進化により、コーディングそのものは急速に自
 動化されています。「自分が手を動かさなくてもコー
 ドが生成される時代に、エンジニアとして、PMとして
 、どんな価値を出せばいいのか」そんな不安を感じた
 ことはありませんか。\nAI時代においても、決して価値
 が揺るがない仕事があります。それは、\n\n何を作るべ
 きかを定義する力（要件・仕様の意思決定）\nAIのアウ
 トプットが“業務的に正しいか”を判断する力（レビ
 ュー・選択）\n\nこれらはすべて、PMが担ってきた上流
 工程の役割です。\nそして実はこの領域こそ、これま
 で実装に向き合ってきたエンジニア出身者が、最も強
 みを発揮できる場所でもあります。\n▼PM×上流工程 × 
 AIとは何か？\n上流工程とは、単に設計書を書くことで
 はありません。PMの役割は、以下の通りです。\n\n曖昧
 な要求を構造化する\nトレードオフを整理し、優先度
 を決める\n仕様として言語化し、関係者と合意する\n\n
 といった、不確実な状況で意思決定を前に進めること
 です。\n本勉強会では、このPMの上流工程を生成AIでど
 う支援し、どう高速化できるのかにフォーカスします
 。\nAIを「実装を代行する存在」ではなく、PMの思考を
 加速させるパートナー（壁打ち・レビューア）として
 使う。これが、本イベントで扱う「AI×上流工程」です
 。\n▼本イベントで得られること\n本イベントでは、実
 装経験のあるエンジニアが、\n\nAIを使って要件を整理
 する\n仕様の選択肢を洗い出し、比較・判断する\nAIの
 出力をPM視点でレビューする\n\nといった形で、エンジ
 ニア視点を持ったまま、PMの上流工程を担うための考
 え方をお伝えします。\n「実装者」から、「AI時代に、
 仕様と意思決定をリードできる人材」へ。\nあなたの
 技術と経験を、PM×上流工程へ接続するヒントを持ち帰
 ってください。\n※ 性別問わず、どなたでもご参加い
 ただけます。\n▼なぜ今、このスキルが必要なのか？\n
 AIの台頭により、開発現場で求められる役割は\n\n「実
 装する人」 から\n「仕様を決め、選択に責任を持つ人
 」\n\nへと変化しています。\n上流工程の視点を持たず
 にAIを使うと、\n\n表面的なアウトプットに依存する\n
 手戻りや認識ズレが増える\n\nといった問題が起きやす
 くなります。\n実装のリアリティを理解している人が
 、AIを介して上流工程を担うこと。これはこれからのPM
 ・エンジニアにとって、最も再現性の高いキャリア戦
 略の一つです。\n▼こんな方におすすめ\n\n実装経験は
 あるが、次のキャリアに不安を感じている方\nPMや上流
 工程に興味はあるが、技術から離れたくない方\n生成AI
 を「時短ツール」以上の存在として使いこなしたい方\
 nAI時代におけるPM・エンジニアとしての市場価値を高
 めたい方\n\n▼イベントのゴール\n\n実装経験を活かし
 た「AI×上流工程（PM視点）」の考え方を理解する\nAIを
 使って、要件定義・仕様決定を進めるイメージを持つ\
 n「自分にはまだ早い」という思い込みを外し、次の挑
 戦への道筋を描く\n\n開催概要\n\n日時： 2025年2月18日(
 水) 19:00 - 20:00 (18:50開場)\n場所： オンライン（Zoom）\n
 参加費： 無料\n\nWelcome 女性エンジニア！ ※ 性別問わ
 ず、参加いただけます。\n当日のタイムテーブル\n\n\n\n
 時間\n内容\nスピーカー\n\n\n\n\n18:50 - 19:00\n参加者受付
 （Zoom待機室オープン）\nWAKE Career\n\n\n19:00 - 19:05\nオー
 プニング\nWAKECareer\n\n\n19:05 - 19:15\n講義：システム開発
 と上流工程の役割\nだむは\n\n\n19:15 - 19:30\nAIを活用した
 要件定義の進め方・顧客の課題をヒアリングする・顧
 客の課題を見つける\nだむは\n\n\n19:30 - 19:40\n抽象（Why
 ）と具体（How）の橋渡し\nだむは\n\n\n19:40 - 19:50\nジェ
 ンダードイノベーション\nだむは\n\n\n19:50 - 19:55\nなぜ
 今PM支援なのか・ハイクラスアカデミー 講座ご案内・
 面談予約特典のご紹介\nWAKE Career\n\n\n19:55 - 20:00\nQ&A・ア
 ンケート回答・まとめ\nWAKE Career\n\n\n\nワークショップ
 にあたっての事前準備\n当日はAIを使った簡単なワーク
 ショップを行う予定です。以下のご準備をお願いいた
 します。\n\nZoomが繋がるPC環境\n\n画面共有を見ながら
 操作するため、PCからのご参加を強く推奨します。\n\n\
 nChatGPTのアカウント（無料版でも可）\n\nワークショッ
 プで使用します。スムーズに参加できるよう、事前に
 ログインできる状態にしておいてください。\n※Gemini
 やClaudeなど、使い慣れた他の生成AIツールでも代用可
 能です。\n\n\n\nより詳しいAI活用✕上流工程を学べるハ
 イクラスアカデミー 第1期受講生募集！\n生成AIの進化
 により、コードを書く業務の自動化が急速に進んでい
 ます。\n今、エンジニアに本当に求められているのは
 、AIを適切に指揮し、何を作るべきかを定義する上流
 工程スキルです。\nこれからの開発現場では、AIが出し
 たアウトプットの正誤を見極め、ビジネス要件と技術
 的制約のバランスを取りながら仕様を決定する判断力
 が不可欠になります。\nしかし現状では、多くの女性
 エンジニアが上流工程へキャリアを広げる機会や環境
 はまだ十分とは言えません。\n本講座ハイクラスアカ
 デミーでは、単なるAIツールの使い方を覚えるのでは
 ありません。\nこれまでの実装経験を武器に、AIを駆使
 として仕様策定から設計までをリードする、次世代の
 エンジニア・PMスキルを実践形式で体系的に学びます
 。\n好評受付中！ハイクラスアカデミー 詳細ページhttp
 s://wake-skill.jp/\n\n##無料キャリア診断を開催します！\n
 私にはまだ早い内容なんじゃないか、今の自分のスキ
 ルで、本当についていけるだろうか。\nそんな不安を
 感じているあなたのために、プロのキャリアアドバイ
 ザーによる個別の無料キャリア診断を開催いたします
 。\nあなたのこれまでの実装経験やキャリアを棚卸し
 し、AI時代にどう自分が叶えたいキャリアを叶えるか
 というロードマップを一緒に整理することで、その場
 の不安や疑問を解消していただけます。\nハイクラス
 アカデミーの受講にかかわらず、\n「AI時代に自分のキ
 ャリアが発揮できるのか」\n「上流工程にチャレンジ
 したいけど少し不安」などのキャリアの壁打ちも大歓
 迎です！\n登壇者\n咸 多栄（だむは）bgrass株式会社　CE
 O兼CTO\nプロフィール：「"なりたい"を解放する」のミ
 ッションのもと、「仕組みとテクノロジーでバイアス
 のない選択と評価を当たり前にする」をビジョンに、
 女性×IT採用支援「WAKE Career」、公平な採用を実現する
 採用管理AIエージェント「フェアパス」を展開。韓国
 生まれ日本育ち。新卒からエンジニアとして開発に従
 事し、2022年7月にbgrassを創業。2022年女性リーダー支援
 基金採択、2024年「BEYOND MILLENNIALS 2024」選出、APT Women第8
 期生、Forbes Women In Tech 30選出 など。\n禁止事項につい
 て\nWAKE Career では上記の観点に対する、以下のような
 行為を禁止します。\n\n攻撃的、非建設的、過剰に批判
 的な発言や揶揄（やゆ）\n脅迫、ストーキング、つき
 まとい\n不適切な身体的接触\n性的な関心を引く行為（
 性的な画像の掲示や、性的なコスチュームの着用等）\
 nジェンダーを強く意識させるコンテキストで、特定の
 個人をほめたたえる行為\nその他、WAKE Career スタッフ
 がハラスメントであると判断した行為\n保険、宗教、
 ネットワークビジネス、転職、有料イベント・コミュ
 ニティなど、当イベントとは関連のない勧誘行為\n\n我
 々運営スタッフは、ハラスメントに直面している参加
 者の心理的、身体的な安全を、全力で確保するように
 努めます。\nまた、ハラスメント行為をやめるように
 要請された参加者は、運営スタッフの指示に直ちに従
 ってください。イベント中に発覚した場合は、イベン
 トの途中でも退場していただく可能性があります。\n
 詳細はWAKE Career アンチハラスメントポリシーをご覧く
 ださい。\n\n【bgrass株式会社とは】\n\nbgrass株式会社は
 「"なりたい"を解放する」をミッションに、「仕組み
 とテクノロジーでバイアスのない選択と評価が当たり
 前」の世界を目指しています。■bgrass株式会社HP：https
 ://bgrass.co.jp/\n現在は、女性のためのITキャリア転職サ
 ービス「WAKE Career」を運営し、「コミュニティ型キャ
 リアプラットフォーム」として女性がIT業界で活躍し
 続けられるようサポートを行っています。\n■ WAKE Caree
 r HP：https://wake-career.jp/\n過去の勉強会・イベント動画
 アーカイブも限定公開中！\nWAKE Career では、「新しい
 領域に挑戦したい」「もっとスキルを高めたい」とい
 う気持ちをエンパワメントできるよう、定期的に勉強
 会やイベントを開催しています！\n会員登録して、ぜ
 ひご覧ください。\nWAKE Career 会員登録ページ\n個人情報
 保護について\nconnpassの事前アンケート、および当日ア
 ンケートフォームで頂いた個人情報を以下に定める内
 容にて取り扱います。\nbgrass株式会社 プライバシーポ
 リシー
LOCATION:
URL:https://techplay.jp/event/992038?utm_medium=referral&utm_source=ics&utm
 _campaign=ics
END:VEVENT
END:VCALENDAR
