BEGIN:VCALENDAR
VERSION:2.0
PRODID:-//https://techplay.jp//JP
CALSCALE:GREGORIAN
METHOD:PUBLISH
X-WR-CALDESC:【3/10｜JPCERT/CC講演】組み込み・制御システム
 のためのセキュア開発入門～脆弱性を未然に防ぐ実践
 手法～
X-WR-CALNAME:【3/10｜JPCERT/CC講演】組み込み・制御システム
 のためのセキュア開発入門～脆弱性を未然に防ぐ実践
 手法～
X-WR-TIMEZONE:Asia/Tokyo
BEGIN:VTIMEZONE
TZID:Asia/Tokyo
BEGIN:STANDARD
DTSTART:19700101T000000
TZOFFSETFROM:+0900
TZOFFSETTO:+0900
TZNAME:JST
END:STANDARD
END:VTIMEZONE
BEGIN:VEVENT
UID:992049@techplay.jp
SUMMARY:【3/10｜JPCERT/CC講演】組み込み・制御システムのた
 めのセキュア開発入門～脆弱性を未然に防ぐ実践手法
 ～
DTSTART;TZID=Asia/Tokyo:20260310T133000
DTEND;TZID=Asia/Tokyo:20260310T150000
DTSTAMP:20260422T152206Z
CREATED:20260205T053820Z
DESCRIPTION:イベント詳細はこちら\nhttps://techplay.jp/event/99204
 9?utm_medium=referral&utm_source=ics&utm_campaign=ics\n\n【JPCERT/CC 講
 演】組み込み・制御システムのためのセキュア開発入
 門～脆弱性を未然に防ぐ実践手法～\n「開発現場でセ
 キュリティ対策をどう進めるべきか？」そんなお悩み
 をお持ちの方に向けた組み込み・制御システム向けセ
 キュリティセミナーのご案内です。\n近年、組み込み
 システムや制御システムの安全性確保の重要性が一層
 高まっています。特に、開発段階での脆弱性の作り込
 みを防ぐことは、重大なセキュリティインシデントを
 未然に防ぐための鍵となります。\nしかし、設計、実
 装、検証、運用の各段階で効果的なセキュリティ対策
 を適切に実施することは容易ではありません。\n本セ
 ミナーでは、脆弱性の専門家であるJPCERTコーディネー
 ションセンターの脆弱性アナリストが、組み込み・制
 御システム開発におけるセキュア開発の基本的な考え
 方をわかりやすく解説します。さらに、テクマトリッ
 クスからは、セキュア開発の実践方法として脆弱性予
 防プラットフォームSecure Code Warriorをご紹介します。\n<
 <本セミナーで得られるポイント>>\n\n組み込み業界のセ
 キュリティ動向\n設計・実装・検証・運用段階での具
 体的なセキュリティ対策\nセキュア開発を実現するた
 めの教育的アプローチと必要性\n\n脆弱性対策の基礎か
 ら実践的な学習法までを一度に学べる貴重な機会です
 。組み込み開発の現場でセキュリティ強化を目指す方
 々のご参加をお待ちしています。ぜひお申し込みくだ
 さい！\n🕑アジェンダ\n\n【特別講演】組み込み・制御
 システムにおけるセキュア開発の基本講演者：一般社
 団法人JPCERTコーディネーションセンター早期警戒グル
 ープ 脆弱性アナリスト　木下 広海様\n安全なシステム
 開発の第一歩～Secure Code Warriorで学ぶセキュリティ～講
 演者：テクマトリックス株式会社　ソフトウェアエン
 ジニアリング事業部\n\n※内容は、変更する場合がござ
 います。あらかじめご了承ください。\n💻会場\nZoomを
 利用したWEBセミナーです。自席で簡単にセミナーへご
 参加いただけます。\n🗒参加方法\n「イベントに申し
 込む」ボタンよりお申し込みください。後日、ご登録
 いただいたメールアドレス宛にZoom URLをご案内いたし
 ます。\n※ニックネームやフリーアドレスでご登録さ
 れた場合は、Zoom URLをご案内することができませんの
 でご注意ください。※ご同業の方、個人の方の参加は
 ご遠慮いただいております。\n✉お問い合わせ\n\nテク
 マトリックス株式会社　ソフトウェアエンジニアリン
 グ事業部scw-info@techmatrix.co.jp\n
LOCATION:
URL:https://techplay.jp/event/992049?utm_medium=referral&utm_source=ics&utm
 _campaign=ics
END:VEVENT
END:VCALENDAR
