BEGIN:VCALENDAR
VERSION:2.0
PRODID:-//https://techplay.jp//JP
CALSCALE:GREGORIAN
METHOD:PUBLISH
X-WR-CALDESC:【無料ウェビナー】はじめてでもできるAI活用
 で「通る」プロジェクト計画書の作り方｜NotebookLM×Gemi
 niで楽に早く簡単につくる！
X-WR-CALNAME:【無料ウェビナー】はじめてでもできるAI活用
 で「通る」プロジェクト計画書の作り方｜NotebookLM×Gemi
 niで楽に早く簡単につくる！
X-WR-TIMEZONE:Asia/Tokyo
BEGIN:VTIMEZONE
TZID:Asia/Tokyo
BEGIN:STANDARD
DTSTART:19700101T000000
TZOFFSETFROM:+0900
TZOFFSETTO:+0900
TZNAME:JST
END:STANDARD
END:VTIMEZONE
BEGIN:VEVENT
UID:992114@techplay.jp
SUMMARY:【無料ウェビナー】はじめてでもできるAI活用で
 「通る」プロジェクト計画書の作り方｜NotebookLM×Gemini
 で楽に早く簡単につくる！
DTSTART;TZID=Asia/Tokyo:20260310T120000
DTEND;TZID=Asia/Tokyo:20260310T123000
DTSTAMP:20260421T192132Z
CREATED:20260206T070344Z
DESCRIPTION:イベント詳細はこちら\nhttps://techplay.jp/event/99211
 4?utm_medium=referral&utm_source=ics&utm_campaign=ics\n\n【無料ウェ
 ビナー】\nNotebookLM × Geminiで楽に・早く・簡単につくる
 \nはじめてでもできる「通る」プロジェクト計画書の
 作り方\n「止まっていた計画」が、AIで一気に動き出す
 \n「何から手をつければいいか分からない」「AIは難し
 そう」「資料作りが苦手」そんな方でも大丈夫。その
 まま真似するだけで、上司・決裁者に「通る」計画書
 を作る方法をお伝えします。\n\nこんなお悩みはありま
 せんか？\n\n各部署から意見がバラバラで、優先順位を
 決められない\n上司から「なぜ今やるの？」「費用対
 効果は？」と言われて計画が止まっている\n調査やア
 ンケートはしたが、整理だけで時間が消える\n目次は
 あるのに、スケジュールや予算に落とせない\n資料作
 成に追われ、本来の仕事が進まない\n\nその悩み、AIを
 「情報の交通整理役」にするだけで解決できます。\n\n
 プロジェクトが進まない「本当の原因」\n原因① 情報
 整理と問題提起が、個人任せ\n営業の要望、現場の不
 満、顧客アンケート、競合調査…。情報は揃っている
 のに、**「結局、何が一番の課題か分からない」**状態
 になっていませんか？多くの現場では、膨大な情報整
 理を一人の担当者が抱え込み、それがプロジェクト停
 滞の原因になっています。NotebookLMで解決バラバラな資
 料をそのまま投入するだけで、AIが客観的に課題を構
 造化。主観ではなく、エビデンスに基づく計画へと導
 きます。\n\n原因② 上司が決裁できないのは「説得材
 料」が足りない\n決裁者が求めているのは熱意ではあ
 りません。\n\nなぜ今この予算が必要なのか\n投資によ
 って何がどう変わるのか\n\nという、役員を納得させる
 ための説明材料です。Geminiで解決NotebookLMで整理した根
 拠をもとに、投資価値が伝わるストーリー、視覚的に
 分かる予算表、現実的なスケジュール案を、上申用ス
 ライドとして一気に生成します。\n\n本ウェビナーで学
 べること\n\nNotebookLMの基本設計社内資料を放り込むだ
 けで、AIが「考える右腕」になる設定\nAIによる課題構
 造化の方法バラバラな社内の声を、優先順位付き課題
 リストに整理\nプロジェクト計画書の骨子作成課題整
 理から、目次ベースで計画書を半自動作成\nGeminiによ
 るスライド資料作成上申・決裁向けの提案資料を短時
 間で作成\n\n\n参加特典（参加者限定）\n\n上申資料の目
 次雛形そのまま埋めるだけで「通る構成」になるテン
 プレート\nプロジェクト計画書 無料添削お持ちの計画
 書を、上申・合意形成の観点でプロがフィードバック\
 n\n\n開催概要\n\n\n\n項目\n内容\n\n\n\n\n日時\n2026年3月10日
 （火）12:00～12:30\n\n\n費用\n無料\n\n\n定員\n先着30名\n\n\n
 会場\nオンライン（Google Meet）\n\n\n形式\nマイク・カメ
 ラオフ（閲覧のみ）\n\n\n\nプログラム\n\nNotebookLMの基本
 活用\n課題の優先順位整理\n計画書の骨子作成\nGeminiで
 のスライド作成\n\n対象\n\nWebリニューアル・新規プロ
 ジェクトで止まっている方\nWebマーケティング担当者
 ・広報責任者\nDX推進・業務改善リーダー\n上層部向け
 資料作成に悩む管理職\n\n\n主催：株式会社あやとり\n
 ――――――――――――――――――――
LOCATION:
URL:https://techplay.jp/event/992114?utm_medium=referral&utm_source=ics&utm
 _campaign=ics
END:VEVENT
END:VCALENDAR
