BEGIN:VCALENDAR
VERSION:2.0
PRODID:-//https://techplay.jp//JP
CALSCALE:GREGORIAN
METHOD:PUBLISH
X-WR-CALDESC:【初心者向け】GAS基礎講座 スプレッドシート
 操作1（シートアクセス、セルの値の取得及び入力）
X-WR-CALNAME:【初心者向け】GAS基礎講座 スプレッドシート
 操作1（シートアクセス、セルの値の取得及び入力）
X-WR-TIMEZONE:Asia/Tokyo
BEGIN:VTIMEZONE
TZID:Asia/Tokyo
BEGIN:STANDARD
DTSTART:19700101T000000
TZOFFSETFROM:+0900
TZOFFSETTO:+0900
TZNAME:JST
END:STANDARD
END:VTIMEZONE
BEGIN:VEVENT
UID:992153@techplay.jp
SUMMARY:【初心者向け】GAS基礎講座 スプレッドシート操作
 1（シートアクセス、セルの値の取得及び入力）
DTSTART;TZID=Asia/Tokyo:20260323T200000
DTEND;TZID=Asia/Tokyo:20260323T210000
DTSTAMP:20260421T045739Z
CREATED:20260208T060606Z
DESCRIPTION:イベント詳細はこちら\nhttps://techplay.jp/event/99215
 3?utm_medium=referral&utm_source=ics&utm_campaign=ics\n\n概要\nパソ
 コンを使って仕事をすることが当たり前となり、DX化
 が叫ばれている昨今、ITスキルを持つ人材がますます
 重要となる時代になってきました。しかし、このよう
 な状況に対して、世界的にIT人材が不足しており、日
 本でも数十万人規模で足りてないと言われております
 。\nシンギュラリティ・ラボ（シンラボ）では、ITスキ
 ルを持った人材を育成するため、未経験者の方に少し
 でもプログラミングについて触れてほしいため、無料
 のプログラミング体験会を開催しています。\n\nGoogleス
 プレッドシート等のGoogleサービスを使用して業務効率
 化をしたい方\nプログラミングに触れてみたい方\nプロ
 グラミング未経験で何から手を付けたら良いか分から
 ない方など\n\nプログラミングに関するお悩みや関心が
 ある方は、是非体験会にお越しください。\n\n内容\n■
 テーマ：基礎講座 スプレッドシート操作1\n■本講座の
 内容GASによるスプレッドシート操作\n\nスプレッドシー
 ト・シート・セルへのアクセス\nシート内のセルの値
 の取得及び入力\n\n■時間配分\n\nGASやプログラミング
 の説明(5分)\nプログラミングの基礎講座・体験(40分)\n
 プログラミング学習の紹介(5分)\n質疑応答(5分)\nシンギ
 ュラリティ・ラボの紹介(5分)\n\n\nシンギュラリティ・
 ラボ（シンラボ）とは\n『テクノロジーで社会課題を
 解決する』をビジョンに、エンジニア、デザイナー、
 ライター、イべンテーターなど、様々な人が活躍する
 テックコミュニティです。アプリ開発、Webサイト制作
 からコミュニティ作り、イベント企画まで、様々なプ
 ロジェクトが創出されています。\n本コミュニティで
 は、GAS（Google Apps Script）というGoogle社が提供するプロ
 グラミング言語をベースに学ぶ学習教材を提供してい
 ますGASを学ぶことで、Googleサービス（Gmail、Googleスプ
 レッドシート、Googleカレンダーなど）を用いた業務の
 自動化ができるようになります。さらに、GASはJavaScript
 をベースに作られているため、Javascriptの基礎文法を身
 に着けることができます。\nシンラボには、現役プロ
 グラマーが所属しており、プログラミングを学ぶ上で
 の疑問や質問を行う場もあります。プログラミングを
 基礎から丁寧に身につけたい方、業務効率化や転職の
 ためのスキルアップを図りたい方は、ぜひご参加くだ
 さい。\nシンラボの活動について詳しく知りたい方は
 こちら↓↓https://sinlab.future-tech-association.org/\n日程\n2026/
 03/23(月) 20:00 ～ 21:00\n参加方法\n参加申し込み者にzoom 
 視聴用URLをこのページやご案内メールでお知らせしま
 す。\n参加対象\n\nプログラミングに興味がある方\nGoogl
 eサービスをよく利用する方\n業務効率化を考えたい方\
 nすき間時間を活用して新しいスキルを学びたい方\nプ
 ログラミングスキル・考え方を身に着けたい方\nプロ
 グラミングに関するお悩みがある方\n\n準備するもの\n\
 nパソコン（Windows\, MacのどちらでもOK）\nGoogleアカウン
 トGoogleアカウントは個人用を推奨します。会社や学校
 のアカウントでは、管理者の設定によりスプレッドシ
 ートやApps Scriptが利用できない場合があります。\n\nイ
 ベント参加費\n無料\n講師アカウント\nHelloCodingSchool（
 ハロスク）講師のXアカウントプログラミングのノウハ
 ウや学習のコツを発信中https://x.com/helloCodeSchool\nnote\nnot
 e記事プログラミング初心者向けにGASを中心とした情報
 発信をしていますhttps://note.com/hello_coding\n問い合わせ窓
 口\n一般社団法人 未来技術推進協会info@future-tech-associat
 ion.org
LOCATION:
URL:https://techplay.jp/event/992153?utm_medium=referral&utm_source=ics&utm
 _campaign=ics
END:VEVENT
END:VCALENDAR
