BEGIN:VCALENDAR
VERSION:2.0
PRODID:-//https://techplay.jp//JP
CALSCALE:GREGORIAN
METHOD:PUBLISH
X-WR-CALDESC:チームとステークホルダーの関係性について
 探求する
X-WR-CALNAME:チームとステークホルダーの関係性について
 探求する
X-WR-TIMEZONE:Asia/Tokyo
BEGIN:VTIMEZONE
TZID:Asia/Tokyo
BEGIN:STANDARD
DTSTART:19700101T000000
TZOFFSETFROM:+0900
TZOFFSETTO:+0900
TZNAME:JST
END:STANDARD
END:VTIMEZONE
BEGIN:VEVENT
UID:992199@techplay.jp
SUMMARY:チームとステークホルダーの関係性について探求
 する
DTSTART;TZID=Asia/Tokyo:20260227T190000
DTEND;TZID=Asia/Tokyo:20260227T210000
DTSTAMP:20260419T194137Z
CREATED:20260209T062901Z
DESCRIPTION:イベント詳細はこちら\nhttps://techplay.jp/event/99219
 9?utm_medium=referral&utm_source=ics&utm_campaign=ics\n\nチームとス
 テークホルダーの関係性について探求するワークショ
 ップを開催します\n本ワークショップは「チームとス
 テークホルダーの関係性」をテーマに、チームと周辺
 組織の境界について参加者とともに探求します。\nLeSS'
  Morningとは\nスクラムやLeSS実践者の学習支援・交流を
 目的としたコミュニティです。Odd-e Japanの江端らを中
 心に、2023年10月から活動を開始しています。公式サイ
 ト\nまた、日本やアジアでLeSSやスクラムを一緒に学び
 合うためにslackを開設しています。私たちと一緒にLeSS
 やスクラムを学びませんか？コミュニティガイドライ
 ンを読んでご参加ください。\n現在、LeSS' Morningの運営
 スタッフや会場スポンサーも募集しております。ご興
 味ある方は運営スタッフまでお声がけください。\nコ
 ミュニティSlack\n参加対象者\n社会人\n\n過去、Scrumまた
 はLeSSを導入した組織に所属していた方\n現在、Scrumま
 たはLeSSの導入を検討中の組織に所属している方\nいず
 れかのロールでのScrumまたはLeSSの実践経験がある方\nSc
 rumまたはLeSSに興味のある方で、実践者と交流してみた
 い方\n\n学生\n\n多くの日本企業で導入が進んでいるScrum
 やLeSSに興味がある方\n最先端企業で働く先輩たちと交
 流してみたい方\n\n会場\nBIPROGY本社（〒135-8560 東京都江
 東区豊洲1-1-1）\n\n当日は18:45開場・受付開始とさせて
 いただきます。\n受付は19:15で締め切らせていただきま
 す。19:15以降は運営メンバーがご案内することができ
 ず、入館することができません\n\n入館方法\n特別受付
 台を設置しております。ゲストカードを受け取り、会
 場へお越しください。\nタイムスケジュール\nおよそ下
 記の時間を目安に進行します。\n\n\n\n時間\n内容\n\n\n\n\
 n18:45\n開場・受付開始\n\n\n19:00\nオープニングトーク\n\n
 \n19:15\nワークショップ\n\n\n21:00\n終了・記念撮影\n\n\n\n
 途中退出も可能です。\n\nワークショップ時の飲物・軽
 食について\n飲食に関しては、飲み物のみ持ち込みが
 可能ですが、アルコール類の持ち込みはご遠慮くださ
 い。ケータリングサービス等の提供はありませんので
 、各自ご用意の上、ご来場ください。ゴミは各自でお
 持ち帰りいだだくようお願いいたします。\n注意事項
 （必ずお読み下さい）\n下記の注意事項をご確認の上
 、ご参加ください。\nキャンセルポリシー\n\n参加目的
 が不適切だと判断される場合には、運営側で参加をキ
 ャンセルさせていただく場合がございます。\nキャン
 セル料は発生しませんが、予定が変更になり都合がつ
 かなくなった場合には、参加のキャンセルをお願いい
 たします。\n無断キャンセルの場合、以後のイベント
 参加をお断りする場合があります。\n\nアンチハラスメ
 ントポリシー\nセクシュアルハラスメント・パワーハ
 ラスメント・ストーカー等の他人への迷惑行為を行う
 ことは禁止します。 反する行為があった場合、警告や
 退去勧告などの対策を行います。 具体的に何をしたか
 ではなく、相手に嫌な思いをさせたらそれはハラスメ
 ントです。以下についての不快な言動・表現・差別を
 含みます。\n\n性のこと：性差・性同一性・性的指向\n
 体のこと：外見・身体的特徴・年齢・ハンディキャッ
 プ（障がい・病気）\n文化のこと：国籍・言語・宗教
 ・支持政党・社会的身分\n一方的な迷惑行為：不適切
 な接触・ストーカー・妨害・脅迫・強要・望まない写
 真撮影や録音録画\n\nみなさんに期待する行動\n\nハラ
 スメント行為に加担しないこと。\n相手をリスペクト
 して行動すること。（全員が個性を表現できるよう過
 ごしましょう）\nすべての法令を遵守すること。（知
 的財産権・商標・意匠・その他の権利侵害をせぬよう
 にしましょう）\n妨害となる行為をしないこと。（破
 壊的や威圧的な言動、武器や危険物の持ち込みなどは
 禁止です）\nスタッフの指示に従うこと。\n\n不適切な
 行為を見つけたら？\nもしもあなたがハラスメントを
 感じたり、不適切な行為を目撃した場合、お近くの運
 営スタッフまでお声がけください。\nその他\n\n会場内
 では運営スタッフによる写真や動画の撮影が行われる
 予定です。\n撮影された写真や動画はSNSや資料などで
 掲載される場合があります。あらかじめご了承くださ
 い。\n\n運営メンバー\n\n\n\n顔写真\nプロフィール\n\n\n\n
 \n\n江端一将（ebacky） / 株式会社Odd-e Japan鉄鋼会社、金
 融系の情報配信会社を経て、アメリカ人のパートナー
 と Odd-e Japan を立ち上げる。Scrum(スクラム)に関する国
 際的な団体、Scrum Alliance:registered: が認める認定スクラ
 ムトレーナー(CST:registered::Certified Scrum Trainer:registered:)
 でもありながら、CST:registered: の育成を担う Trainer Approv
 al Community(TAC)のアジア地域のリーダーも務め、アジア
 地域でスクラムの普及と後進育成も担っている。業務
 以外では、2009年に日本初の Scrum Alliance:registered: 認定
 コミュニティ「すくすくスクラム」を発起したり、TDD 
 boot Camp 等のコミュニティも立ち上げ、日本の技術者の
 学びの環境を積極的に創っている。\n\n\n\n西山祐右（Ni
 shiyama） / 株式会社Odd-e Japanエンジニアやマネージャー
 、スクラムマスターなどの経験を積み、2022年にOdd-e Jap
 anにJoin。スクラムマスターやアジャイルコーチとして
 、ScrumやLeSSの導入・実践や、組織改善の支援を行って
 いる。\n\n\n\n菊池祥平(shopetan) / テイラー株式会社株式
 会社メルカリにソフトウェアエンジニアとして入社後
 、フルサイクルエンジニア・スクラムマスターとして
 プロダクト開発に注力。2025年よりテイラー株式会社に
 て、エンジニア領域の責任者として適応力のある組織
 デザインをリードしている。\n\n\n\n福田尚亮（fukuchan）
 / 株式会社ギークプラス2018年よりパーソルキャリア株
 式会社に入社しプロジェクトマネージャー、バックエ
 ンドエンジニア、スクラムマスターとして従事。2025年
 に株式会社ギークプラスにJoinし、ソフトウェア事業部
 の組織改善に従事している。\n\n\n
LOCATION:BIPROGY本社 東京都江東区豊洲1-1-1
URL:https://techplay.jp/event/992199?utm_medium=referral&utm_source=ics&utm
 _campaign=ics
END:VEVENT
END:VCALENDAR
