BEGIN:VCALENDAR
VERSION:2.0
PRODID:-//https://techplay.jp//JP
CALSCALE:GREGORIAN
METHOD:PUBLISH
X-WR-CALDESC:【新規事業担当者必見!!】未来を覗けるスター
 トアップピッチイベント 【earthkey pitch vol.208】
X-WR-CALNAME:【新規事業担当者必見!!】未来を覗けるスター
 トアップピッチイベント 【earthkey pitch vol.208】
X-WR-TIMEZONE:Asia/Tokyo
BEGIN:VTIMEZONE
TZID:Asia/Tokyo
BEGIN:STANDARD
DTSTART:19700101T000000
TZOFFSETFROM:+0900
TZOFFSETTO:+0900
TZNAME:JST
END:STANDARD
END:VTIMEZONE
BEGIN:VEVENT
UID:992301@techplay.jp
SUMMARY:【新規事業担当者必見!!】未来を覗けるスタート
 アップピッチイベント 【earthkey pitch vol.208】
DTSTART;TZID=Asia/Tokyo:20260225T155000
DTEND;TZID=Asia/Tokyo:20260225T170000
DTSTAMP:20260422T224956Z
CREATED:20260212T024035Z
DESCRIPTION:イベント詳細はこちら\nhttps://techplay.jp/event/99230
 1?utm_medium=referral&utm_source=ics&utm_campaign=ics\n\n本ピッチイ
 ベントの視聴申込は以下よりご登録ください！1回の申
 込で視聴できるようになりました。https://us02web.zoom.us/w
 ebinar/register/2917666397039/WN_VVFjwKyrTsC126ku9TuojA\n※Zoomページ
 に遷移します※イベント品質向上・および登壇企業へ
 的確な情報をお伝えするために、お申し込みの際は「
 氏名」「メールアドレス」「御社名」欄等に、正確な
 情報をご記入いただくよう、ご協力をお願いいたしま
 す。\nイベント概要\nearthkeyが主催するオープンイノベ
 ーションイベントです。\n業界業種にこだわらず、毎
 週5社の新進気鋭のシード・アーリーステージのスター
 トアップ企業が、事業会社との共創や投資家との出会
 いを目的に登壇します。業界を越えた業務提携や資本
 提携など毎回数々のマッチングが生まれる場です。事
 業会社の方は参加いただくことで、自社の新規事業の
 推進や自社課題（ワークフローのデジタル化など）の
 解決、クライアントへの付加価値提案などのアイデア
 を得ることができます。当イベントは、業界業種に縛
 られないセレンディピティ（偶然の出会い）の場を大
 切にしています。\n\n相性の良い参加者像\n・事業会社
 （新規、既存事業推進者・経営企画室）・ベンチャー
 キャピタル・コーポレートベンチャーキャピタル・メ
 ディア関係会社\n＊過去参加企業（敬称略）伊藤忠商
 事、三井物産、NEC、三井住友FG、みずほ銀行、凸版印
 刷、電通、JCB、フジテレビジョン、​三井住友海上、
 京セラ、楽天、日清紡HD、東芝、ALSOK 、GMOTECH、京浜急
 行電鉄、東京建物、富士通、DNP、参天製薬、等\n\nタイ
 ムスケジュール\n15:45- zoomLIVE配信開始15:50- イベント運
 営紹介、ピッチ概要説明16:00- 株式会社つかえるAI16:11- 
  biip株式会社16:22- デジタルベース株式会社16:33- 株式
 会社hootfolio16:44- 株式会社HelioX16:55- クロージング17:00- 
 終了\n\n参加（視聴）費用・視聴方法\n無料でご視聴い
 ただけます。以下のURLよりお申し込みください！https:/
 /us02web.zoom.us/webinar/register/2917666397039/WN_VVFjwKyrTsC126ku9TuojA
 \n※Zoomページに遷移します\n\nイベントについての注意
 事項\n※登壇企業さま・弊社との事業が競合する企業
 さま、事業会社に属されていない方からのお申し込み
 をお断りする場合がございます※タイムスケジュール
 や登壇社は予告なく変更になる場合がございます※参
 加者の企業名・部門名のみ、プレゼンテーションの質
 向上のため登壇企業さまへ共有することがございます
 ※本イベントはZoom（ウェビナー）を活用したフルオン
 ラインのLIVE配信となります為、当日配信品質の問題が
 発生する可能性がございます。何卒ご了承くださいま
 せ\n\n登壇企業及び登壇者のご紹介\n株式会社つかえるA
 I ( https://www.tsukaeruai.jp/ )代表取締役　​岩﨑 庄太朗 氏
 \n新卒で株式会社WOWOWに入社し番組制作および大手企業
 とのアライアンス・プロモーションを推進。 2022年、
 株式会社StartPassに創業メンバーとして参画し、複数の
 新規事業（資金調達・採用支援等）を立ち上げビジネ
 ス部門全体を管掌。創業3年で「累計1000社契約・年商2.
 5億円規模・組織20名」への急成長を実現。 2025年、株
 式会社つかえるAIを創業し代表取締役に就任しAI企業特
 化の営業や事業開発支援を行う。 ▼サービス紹介AIイ
 ンテリジェントセールスプラットフォーム\nAI企業へ向
 けた営業戦略・実行の統合支援を提供。スタートアッ
 プ創業メンバー＆有償契約1000社実績を持つ代表とAIエ
 ンジニアが「自社を売り続ける」仕組みを構築。今後
 はAI領域へ進出したいメーカーやSIerへ展開し産業の事
 業成長を牽引します。\n▼意気込み・PR「AIゴールドラ
 ッシュのツルハシ」は急速に求められています\n‾‾
 ‾‾‾‾‾‾‾‾‾‾‾‾‾‾‾‾‾‾‾‾‾‾‾‾
 ‾‾‾‾‾‾‾‾‾‾‾‾‾‾‾‾‾‾‾‾‾‾‾‾
 ‾‾‾‾biip株式会社（ https://www.biip.jp/ ）CEO　Anthony Man
 ley（アンソニー マンリー） 氏\nbiip株式会社 代表取締
 役 CEO。元Amazonにて物流・事業運営を担当。日本での観
 光、営業、プログラムマネジメント分野において10年
 以上の実績を有しオンデマンド撮影の新たな社会イン
 フラ構築に取り組む。\n▼サービス紹介biip\n近くのbiip 
 partnerにスマートフォンのみで写真・動画撮影を依頼で
 きるオンデマンド型マーケットプレイス。迅速・低価
 格・安全に撮影コンテンツを取得可能。\n▼意気込み
 ・PRポケットの中のカメラの力を解放し、思い出を残
 せるマーケットプレイスを創る\n‾‾‾‾‾‾‾‾‾
 ‾‾‾‾‾‾‾‾‾‾‾‾‾‾‾‾‾‾‾‾‾‾‾‾
 ‾‾‾‾‾‾‾‾‾‾‾‾‾‾‾‾‾‾‾‾‾デジタ
 ルベース株式会社（ https://lmlight.jp/home ）代表取締役
 　今井 康之 氏▼サービス紹介LM LIGHT\nフル機能搭載のA
 Iプラットフォーム |軽量化技術で小型サーバーでも稼
 働\n▼意気込み・PR元インテルのエッジ担当者らで開発
 したネットワーク不要な環境で稼働する総合AIプラッ
 トフォームについてお話致します。\n‾‾‾‾‾‾‾
 ‾‾‾‾‾‾‾‾‾‾‾‾‾‾‾‾‾‾‾‾‾‾‾‾
 ‾‾‾‾‾‾‾‾‾‾‾‾‾‾‾‾‾‾‾‾‾‾‾株
 式会社hootfolio　( https://hootfolio.com/ )Co-Founder & CEO　笠原
  健太 氏\nNECグループにてフルスタックエンジニアとし
 てアプリケーション開発に従事。シリコンバレーでCaus
 al AIと出会い、その可能性に魅了され、自らプロダク
 ト開発をリードして事業を立ち上げる。プロダクトオ
 ーナーとして構想から開発・運用までを担った後、NEC
 からのカーブアウトを経て株式会社hootfolioを設立。実
 験による仮説検証を信条に、因果AIによる「科学的な
 意思決定」の社会実装を目指している。\n▼サービス
 紹介causal analysis\n「causal analysis®︎」はNECの研究所で開
 発された独自の因果AIを搭載するノーコードSaaS。デー
 タから因果関係を抽出し「何を変えれば成果につなが
 るのか」を明確に。マーケティング・HR・政策領域の
 意思決定を支援します。\n▼意気込み・PR因果AIで“成
 果が出る”取り組みを、一緒に仕掛けましょう！\n‾
 ‾‾‾‾‾‾‾‾‾‾‾‾‾‾‾‾‾‾‾‾‾‾‾‾
 ‾‾‾‾‾‾‾‾‾‾‾‾‾‾‾‾‾‾‾‾‾‾‾‾
 ‾‾‾‾‾株式会社HelioX（ https://www.heliox-mobi.com ）代
 表取締役　ハン ビン 氏3.11の被災経験を原点に、NEC・
 ソフトバンクでの先端技術開発を経て、太陽光で走る
 モビリティで移動と防災の課題解決に挑む。 ▼サー
 ビス紹介太陽光マイクロモビリティ\nHelioXは、太陽光
 で自律充電・走行するインフラ不要の電動モビリティ
 を提供します。充電の手間をなくし、地方や観光地の
 移動課題を解決。災害時は「動く蓄電池」として機能
 し、脱炭素と防災を両立する持続可能な社会インフラ
 を実現します。 ▼意気込み・PR太陽光で走る充電不要
 モビリティで、移動と防災の課題を解決！\nearthkey pitch
  スポンサー企業ご紹介\n一般社団法人　科学技術と経
 済の会　( https://www.jates.or.jp )科学技術と経済の調和を
 図るための研究・調査を実施している社団法人。また
 、産学官の連携を促進し、技術革新を推進しています
 。シンポジウムやセミナーを開催し、知識の普及と啓
 発に取り組みこれらの活動を通じて科学技術の発展と
 経済の成長に貢献しています。\n\n主催企業\n株式会社
 アースキーオープンイノベーションをテーマに、スタ
 ートアップと⼤⼿企業のマッチングを⾏っています。
 主な活動としては業種業界問わず、魅⼒的なシード、
 アーリーステージのスタートアップ企業が毎週5社、ピ
 ッチするイベント“earthkey pitch”を運営しております
 。これまでに850社以上の新進気鋭のスタートアップ企
 業が登壇しており、直近3回のイベントでは平均100名の
 事業会社・ベンチャーキャピタル・地方自治体の方々
 にご参加いただいています。イベントでは、業務提携
 や資本提携など毎回数々のマッチングが⽣まれていま
 す。イベント以外にも⼤⼿企業向けの新規事業開発⽀
 援、DX推進支援を⾏っております。\nHP▶︎https://earthkey
 .co.jpearthkey pitchへの登壇を検討しているスタートアッ
 プ企業へ▶︎earthkey pitch https://www.earthkey-pitch.com多数の
 協業アイデアを得たい大手企業へ▶︎earthkey reverse pitch
   https://www.earthkey-open-innovation.com過去登壇企業の一覧は
 こちら▶︎https://earthkey.events/startup/
LOCATION:
URL:https://techplay.jp/event/992301?utm_medium=referral&utm_source=ics&utm
 _campaign=ics
END:VEVENT
END:VCALENDAR
